BEGIN:VCALENDAR
VERSION:2.0
PRODID:-//Advent Lutheran Church - ECPv6.15.20//NONSGML v1.0//EN
CALSCALE:GREGORIAN
METHOD:PUBLISH
X-WR-CALNAME:Advent Lutheran Church
X-ORIGINAL-URL:https://adventlutheranyork.org
X-WR-CALDESC:Events for Advent Lutheran Church
REFRESH-INTERVAL;VALUE=DURATION:PT1H
X-Robots-Tag:noindex
X-PUBLISHED-TTL:PT1H
BEGIN:VTIMEZONE
TZID:America/New_York
BEGIN:DAYLIGHT
TZOFFSETFROM:-0500
TZOFFSETTO:-0400
TZNAME:EDT
DTSTART:20240310T070000
END:DAYLIGHT
BEGIN:STANDARD
TZOFFSETFROM:-0400
TZOFFSETTO:-0500
TZNAME:EST
DTSTART:20241103T060000
END:STANDARD
BEGIN:DAYLIGHT
TZOFFSETFROM:-0500
TZOFFSETTO:-0400
TZNAME:EDT
DTSTART:20250309T070000
END:DAYLIGHT
BEGIN:STANDARD
TZOFFSETFROM:-0400
TZOFFSETTO:-0500
TZNAME:EST
DTSTART:20251102T060000
END:STANDARD
BEGIN:DAYLIGHT
TZOFFSETFROM:-0500
TZOFFSETTO:-0400
TZNAME:EDT
DTSTART:20260308T070000
END:DAYLIGHT
BEGIN:STANDARD
TZOFFSETFROM:-0400
TZOFFSETTO:-0500
TZNAME:EST
DTSTART:20261101T060000
END:STANDARD
END:VTIMEZONE
BEGIN:VEVENT
DTSTART;VALUE=DATE:20250216
DTEND;VALUE=DATE:20250217
DTSTAMP:20260423T012605
CREATED:20250201T232146Z
LAST-MODIFIED:20250201T232146Z
UID:24671-1739664000-1739750399@adventlutheranyork.org
SUMMARY:Epiphany 6
DESCRIPTION:
URL:https://adventlutheranyork.org/event/epiphany-6-2/
END:VEVENT
BEGIN:VEVENT
DTSTART;TZID=America/New_York:20250216T083000
DTEND;TZID=America/New_York:20250216T093000
DTSTAMP:20260423T012605
CREATED:20250201T232215Z
LAST-MODIFIED:20250201T232215Z
UID:24674-1739694600-1739698200@adventlutheranyork.org
SUMMARY:Worship Service
DESCRIPTION:
URL:https://adventlutheranyork.org/event/worship-service-108/
CATEGORIES:Services
END:VEVENT
BEGIN:VEVENT
DTSTART;TZID=America/New_York:20250216T094500
DTEND;TZID=America/New_York:20250216T104500
DTSTAMP:20260423T012605
CREATED:20250201T232252Z
LAST-MODIFIED:20250201T232252Z
UID:24676-1739699100-1739702700@adventlutheranyork.org
SUMMARY:Sunday School
DESCRIPTION:
URL:https://adventlutheranyork.org/event/sunday-school-43/
CATEGORIES:Christian Education
END:VEVENT
BEGIN:VEVENT
DTSTART;TZID=America/New_York:20250216T110000
DTEND;TZID=America/New_York:20250216T120000
DTSTAMP:20260423T012605
CREATED:20250201T232340Z
LAST-MODIFIED:20250201T232340Z
UID:24678-1739703600-1739707200@adventlutheranyork.org
SUMMARY:Worship Service
DESCRIPTION:
URL:https://adventlutheranyork.org/event/worship-service-109/
CATEGORIES:Services
END:VEVENT
BEGIN:VEVENT
DTSTART;TZID=America/New_York:20250216T111500
DTEND;TZID=America/New_York:20250216T120000
DTSTAMP:20260423T012605
CREATED:20250201T232420Z
LAST-MODIFIED:20250201T232420Z
UID:24680-1739704500-1739707200@adventlutheranyork.org
SUMMARY:Contemporary Worship Service
DESCRIPTION:
URL:https://adventlutheranyork.org/event/contemporary-worship-service-17/
CATEGORIES:Services
END:VEVENT
BEGIN:VEVENT
DTSTART;TZID=America/New_York:20250216T133000
DTEND;TZID=America/New_York:20250216T143000
DTSTAMP:20260423T012605
CREATED:20250201T232507Z
LAST-MODIFIED:20250201T232507Z
UID:24682-1739712600-1739716200@adventlutheranyork.org
SUMMARY:Conference Meeting
DESCRIPTION:
URL:https://adventlutheranyork.org/event/conference-meeting/
CATEGORIES:Community
END:VEVENT
BEGIN:VEVENT
DTSTART;TZID=America/New_York:20250216T160000
DTEND;TZID=America/New_York:20250216T170000
DTSTAMP:20260423T012605
CREATED:20250201T232532Z
LAST-MODIFIED:20250201T232532Z
UID:24685-1739721600-1739725200@adventlutheranyork.org
SUMMARY:Prayers and Stitches
DESCRIPTION:
URL:https://adventlutheranyork.org/event/prayers-and-stitches-8/
CATEGORIES:Prayers and Stitches
END:VEVENT
BEGIN:VEVENT
DTSTART;TZID=America/New_York:20250216T183000
DTEND;TZID=America/New_York:20250216T193000
DTSTAMP:20260423T012605
CREATED:20250201T232605Z
LAST-MODIFIED:20250201T232605Z
UID:24687-1739730600-1739734200@adventlutheranyork.org
SUMMARY:New Member Class
DESCRIPTION:
URL:https://adventlutheranyork.org/event/new-member-class/
END:VEVENT
END:VCALENDAR