BEGIN:VCALENDAR
VERSION:2.0
PRODID:-//Advent Lutheran Church - ECPv6.15.20//NONSGML v1.0//EN
CALSCALE:GREGORIAN
METHOD:PUBLISH
X-ORIGINAL-URL:https://adventlutheranyork.org
X-WR-CALDESC:Events for Advent Lutheran Church
REFRESH-INTERVAL;VALUE=DURATION:PT1H
X-Robots-Tag:noindex
X-PUBLISHED-TTL:PT1H
BEGIN:VTIMEZONE
TZID:America/New_York
BEGIN:DAYLIGHT
TZOFFSETFROM:-0500
TZOFFSETTO:-0400
TZNAME:EDT
DTSTART:20240310T070000
END:DAYLIGHT
BEGIN:STANDARD
TZOFFSETFROM:-0400
TZOFFSETTO:-0500
TZNAME:EST
DTSTART:20241103T060000
END:STANDARD
BEGIN:DAYLIGHT
TZOFFSETFROM:-0500
TZOFFSETTO:-0400
TZNAME:EDT
DTSTART:20250309T070000
END:DAYLIGHT
BEGIN:STANDARD
TZOFFSETFROM:-0400
TZOFFSETTO:-0500
TZNAME:EST
DTSTART:20251102T060000
END:STANDARD
BEGIN:DAYLIGHT
TZOFFSETFROM:-0500
TZOFFSETTO:-0400
TZNAME:EDT
DTSTART:20260308T070000
END:DAYLIGHT
BEGIN:STANDARD
TZOFFSETFROM:-0400
TZOFFSETTO:-0500
TZNAME:EST
DTSTART:20261101T060000
END:STANDARD
END:VTIMEZONE
BEGIN:VEVENT
DTSTART;VALUE=DATE:20250406
DTEND;VALUE=DATE:20250407
DTSTAMP:20260422T085321
CREATED:20250329T004756Z
LAST-MODIFIED:20250329T004756Z
UID:24931-1743897600-1743983999@adventlutheranyork.org
SUMMARY:Lent 5
DESCRIPTION:
URL:https://adventlutheranyork.org/event/lent-5-2/
END:VEVENT
BEGIN:VEVENT
DTSTART;TZID=America/New_York:20250406T093000
DTEND;TZID=America/New_York:20250406T094500
DTSTAMP:20260422T085321
CREATED:20250406T140718Z
LAST-MODIFIED:20250406T140718Z
UID:24938-1743931800-1743932700@adventlutheranyork.org
SUMMARY:Youth Choir Rehearsal
DESCRIPTION:
URL:https://adventlutheranyork.org/event/youth-choir-rehearsal-26/
CATEGORIES:Music Ministry
END:VEVENT
BEGIN:VEVENT
DTSTART;TZID=America/New_York:20250406T094500
DTEND;TZID=America/New_York:20250406T104500
DTSTAMP:20260422T085321
CREATED:20250406T140800Z
LAST-MODIFIED:20250406T140800Z
UID:24940-1743932700-1743936300@adventlutheranyork.org
SUMMARY:Sunday School
DESCRIPTION:
URL:https://adventlutheranyork.org/event/sunday-school-50/
CATEGORIES:Christian Education,Family Ministry
END:VEVENT
BEGIN:VEVENT
DTSTART;TZID=America/New_York:20250406T094500
DTEND;TZID=America/New_York:20250406T104500
DTSTAMP:20260422T085321
CREATED:20250406T140859Z
LAST-MODIFIED:20250406T140859Z
UID:24942-1743932700-1743936300@adventlutheranyork.org
SUMMARY:Outreach Committee Meeting
DESCRIPTION:
URL:https://adventlutheranyork.org/event/outreach-committee-meeting-6/
CATEGORIES:Committee
END:VEVENT
BEGIN:VEVENT
DTSTART;TZID=America/New_York:20250406T110000
DTEND;TZID=America/New_York:20250406T120000
DTSTAMP:20260422T085321
CREATED:20250406T140934Z
LAST-MODIFIED:20250406T140934Z
UID:24944-1743937200-1743940800@adventlutheranyork.org
SUMMARY:Worship Service
DESCRIPTION:
URL:https://adventlutheranyork.org/event/worship-service-125/
CATEGORIES:Services
END:VEVENT
BEGIN:VEVENT
DTSTART;TZID=America/New_York:20250406T111500
DTEND;TZID=America/New_York:20250406T120000
DTSTAMP:20260422T085321
CREATED:20250406T141020Z
LAST-MODIFIED:20250406T141020Z
UID:24946-1743938100-1743940800@adventlutheranyork.org
SUMMARY:Contemporary Worship Service
DESCRIPTION:
URL:https://adventlutheranyork.org/event/contemporary-worship-service-24/
CATEGORIES:Services
END:VEVENT
BEGIN:VEVENT
DTSTART;TZID=America/New_York:20250406T170000
DTEND;TZID=America/New_York:20250406T180000
DTSTAMP:20260422T085321
CREATED:20250406T141111Z
LAST-MODIFIED:20250406T141111Z
UID:24948-1743958800-1743962400@adventlutheranyork.org
SUMMARY:Advent's Got Talent Dinner
DESCRIPTION:
URL:https://adventlutheranyork.org/event/advents-got-talent-dinner-2/
CATEGORIES:Family Ministry
END:VEVENT
BEGIN:VEVENT
DTSTART;TZID=America/New_York:20250406T180000
DTEND;TZID=America/New_York:20250406T200000
DTSTAMP:20260422T085321
CREATED:20250406T141156Z
LAST-MODIFIED:20250406T141156Z
UID:24950-1743962400-1743969600@adventlutheranyork.org
SUMMARY:Advent's Got Talent Show
DESCRIPTION:
URL:https://adventlutheranyork.org/event/advents-got-talent-show-2/
CATEGORIES:Family Ministry
END:VEVENT
END:VCALENDAR