BEGIN:VCALENDAR
VERSION:2.0
PRODID:-//Advent Lutheran Church - ECPv6.15.20//NONSGML v1.0//EN
CALSCALE:GREGORIAN
METHOD:PUBLISH
X-WR-CALNAME:Advent Lutheran Church
X-ORIGINAL-URL:https://adventlutheranyork.org
X-WR-CALDESC:Events for Advent Lutheran Church
REFRESH-INTERVAL;VALUE=DURATION:PT1H
X-Robots-Tag:noindex
X-PUBLISHED-TTL:PT1H
BEGIN:VTIMEZONE
TZID:America/New_York
BEGIN:DAYLIGHT
TZOFFSETFROM:-0500
TZOFFSETTO:-0400
TZNAME:EDT
DTSTART:20240310T070000
END:DAYLIGHT
BEGIN:STANDARD
TZOFFSETFROM:-0400
TZOFFSETTO:-0500
TZNAME:EST
DTSTART:20241103T060000
END:STANDARD
BEGIN:DAYLIGHT
TZOFFSETFROM:-0500
TZOFFSETTO:-0400
TZNAME:EDT
DTSTART:20250309T070000
END:DAYLIGHT
BEGIN:STANDARD
TZOFFSETFROM:-0400
TZOFFSETTO:-0500
TZNAME:EST
DTSTART:20251102T060000
END:STANDARD
BEGIN:DAYLIGHT
TZOFFSETFROM:-0500
TZOFFSETTO:-0400
TZNAME:EDT
DTSTART:20260308T070000
END:DAYLIGHT
BEGIN:STANDARD
TZOFFSETFROM:-0400
TZOFFSETTO:-0500
TZNAME:EST
DTSTART:20261101T060000
END:STANDARD
END:VTIMEZONE
BEGIN:VEVENT
DTSTART;VALUE=DATE:20250413
DTEND;VALUE=DATE:20250414
DTSTAMP:20260422T085237
CREATED:20250406T142412Z
LAST-MODIFIED:20250406T142412Z
UID:24984-1744502400-1744588799@adventlutheranyork.org
SUMMARY:Palm Sunday
DESCRIPTION:
URL:https://adventlutheranyork.org/event/palm-sunday-2/
END:VEVENT
BEGIN:VEVENT
DTSTART;VALUE=DATE:20250413
DTEND;VALUE=DATE:20250414
DTSTAMP:20260422T085237
CREATED:20250406T142445Z
LAST-MODIFIED:20250406T142445Z
UID:24986-1744502400-1744588799@adventlutheranyork.org
SUMMARY:Fair Trade Sunday
DESCRIPTION:
URL:https://adventlutheranyork.org/event/fair-trade-sunday-10/
END:VEVENT
BEGIN:VEVENT
DTSTART;TZID=America/New_York:20250413T083000
DTEND;TZID=America/New_York:20250413T093000
DTSTAMP:20260422T085237
CREATED:20250406T142521Z
LAST-MODIFIED:20250406T142521Z
UID:24988-1744533000-1744536600@adventlutheranyork.org
SUMMARY:Worship Service
DESCRIPTION:
URL:https://adventlutheranyork.org/event/worship-service-126/
CATEGORIES:Services
END:VEVENT
BEGIN:VEVENT
DTSTART;TZID=America/New_York:20250413T094500
DTEND;TZID=America/New_York:20250413T104500
DTSTAMP:20260422T085237
CREATED:20250406T142614Z
LAST-MODIFIED:20250406T142614Z
UID:24990-1744537500-1744541100@adventlutheranyork.org
SUMMARY:Sunday School
DESCRIPTION:
URL:https://adventlutheranyork.org/event/sunday-school-51/
CATEGORIES:Christian Education
END:VEVENT
BEGIN:VEVENT
DTSTART;TZID=America/New_York:20250413T103000
DTEND;TZID=America/New_York:20250413T104500
DTSTAMP:20260422T085237
CREATED:20250406T142720Z
LAST-MODIFIED:20250406T142720Z
UID:24992-1744540200-1744541100@adventlutheranyork.org
SUMMARY:Youth Choir Rehearsal
DESCRIPTION:
URL:https://adventlutheranyork.org/event/youth-choir-rehearsal-27/
CATEGORIES:Music Ministry
END:VEVENT
BEGIN:VEVENT
DTSTART;TZID=America/New_York:20250413T110000
DTEND;TZID=America/New_York:20250413T120000
DTSTAMP:20260422T085237
CREATED:20250406T142756Z
LAST-MODIFIED:20250406T142756Z
UID:24994-1744542000-1744545600@adventlutheranyork.org
SUMMARY:Worship Service
DESCRIPTION:
URL:https://adventlutheranyork.org/event/worship-service-127/
CATEGORIES:Services
END:VEVENT
BEGIN:VEVENT
DTSTART;TZID=America/New_York:20250413T111500
DTEND;TZID=America/New_York:20250413T120000
DTSTAMP:20260422T085237
CREATED:20250406T142834Z
LAST-MODIFIED:20250406T142834Z
UID:24996-1744542900-1744545600@adventlutheranyork.org
SUMMARY:Contemporary Worship Service
DESCRIPTION:
URL:https://adventlutheranyork.org/event/contemporary-worship-service-25/
CATEGORIES:Services
END:VEVENT
END:VCALENDAR