BEGIN:VCALENDAR
VERSION:2.0
PRODID:-//Advent Lutheran Church - ECPv6.15.20//NONSGML v1.0//EN
CALSCALE:GREGORIAN
METHOD:PUBLISH
X-WR-CALNAME:Advent Lutheran Church
X-ORIGINAL-URL:https://adventlutheranyork.org
X-WR-CALDESC:Events for Advent Lutheran Church
REFRESH-INTERVAL;VALUE=DURATION:PT1H
X-Robots-Tag:noindex
X-PUBLISHED-TTL:PT1H
BEGIN:VTIMEZONE
TZID:America/New_York
BEGIN:DAYLIGHT
TZOFFSETFROM:-0500
TZOFFSETTO:-0400
TZNAME:EDT
DTSTART:20240310T070000
END:DAYLIGHT
BEGIN:STANDARD
TZOFFSETFROM:-0400
TZOFFSETTO:-0500
TZNAME:EST
DTSTART:20241103T060000
END:STANDARD
BEGIN:DAYLIGHT
TZOFFSETFROM:-0500
TZOFFSETTO:-0400
TZNAME:EDT
DTSTART:20250309T070000
END:DAYLIGHT
BEGIN:STANDARD
TZOFFSETFROM:-0400
TZOFFSETTO:-0500
TZNAME:EST
DTSTART:20251102T060000
END:STANDARD
BEGIN:DAYLIGHT
TZOFFSETFROM:-0500
TZOFFSETTO:-0400
TZNAME:EDT
DTSTART:20260308T070000
END:DAYLIGHT
BEGIN:STANDARD
TZOFFSETFROM:-0400
TZOFFSETTO:-0500
TZNAME:EST
DTSTART:20261101T060000
END:STANDARD
END:VTIMEZONE
BEGIN:VEVENT
DTSTART;VALUE=DATE:20250504
DTEND;VALUE=DATE:20250505
DTSTAMP:20260422T044122
CREATED:20250428T161046Z
LAST-MODIFIED:20250428T161046Z
UID:25094-1746316800-1746403199@adventlutheranyork.org
SUMMARY:Easter 3
DESCRIPTION:
URL:https://adventlutheranyork.org/event/easter-3-2/
END:VEVENT
BEGIN:VEVENT
DTSTART;TZID=America/New_York:20250504T083000
DTEND;TZID=America/New_York:20250504T093000
DTSTAMP:20260422T044122
CREATED:20250428T161140Z
LAST-MODIFIED:20250428T161140Z
UID:25096-1746347400-1746351000@adventlutheranyork.org
SUMMARY:Worship Service
DESCRIPTION:
URL:https://adventlutheranyork.org/event/worship-service-135/
CATEGORIES:Services
END:VEVENT
BEGIN:VEVENT
DTSTART;TZID=America/New_York:20250504T093000
DTEND;TZID=America/New_York:20250504T094500
DTSTAMP:20260422T044122
CREATED:20250428T161228Z
LAST-MODIFIED:20250428T161228Z
UID:25098-1746351000-1746351900@adventlutheranyork.org
SUMMARY:Youth Choir Rehearsal
DESCRIPTION:
URL:https://adventlutheranyork.org/event/youth-choir-rehearsal-29/
CATEGORIES:Music Ministry
END:VEVENT
BEGIN:VEVENT
DTSTART;TZID=America/New_York:20250504T094500
DTEND;TZID=America/New_York:20250504T104500
DTSTAMP:20260422T044122
CREATED:20250428T161313Z
LAST-MODIFIED:20250428T161313Z
UID:25100-1746351900-1746355500@adventlutheranyork.org
SUMMARY:Sunday School
DESCRIPTION:
URL:https://adventlutheranyork.org/event/sunday-school-53/
CATEGORIES:Family Ministry
END:VEVENT
BEGIN:VEVENT
DTSTART;TZID=America/New_York:20250504T094500
DTEND;TZID=America/New_York:20250504T104500
DTSTAMP:20260422T044122
CREATED:20250428T161351Z
LAST-MODIFIED:20250428T161351Z
UID:25102-1746351900-1746355500@adventlutheranyork.org
SUMMARY:Outreach Committee Meeting
DESCRIPTION:
URL:https://adventlutheranyork.org/event/outreach-committee-meeting-7/
CATEGORIES:Committee
END:VEVENT
BEGIN:VEVENT
DTSTART;TZID=America/New_York:20250504T110000
DTEND;TZID=America/New_York:20250504T120000
DTSTAMP:20260422T044122
CREATED:20250428T161433Z
LAST-MODIFIED:20250428T161433Z
UID:25104-1746356400-1746360000@adventlutheranyork.org
SUMMARY:Worship Service
DESCRIPTION:
URL:https://adventlutheranyork.org/event/worship-service-136/
CATEGORIES:Services
END:VEVENT
BEGIN:VEVENT
DTSTART;TZID=America/New_York:20250504T111500
DTEND;TZID=America/New_York:20250504T120000
DTSTAMP:20260422T044122
CREATED:20250428T161515Z
LAST-MODIFIED:20250428T161515Z
UID:25106-1746357300-1746360000@adventlutheranyork.org
SUMMARY:Contemporary Worship Service
DESCRIPTION:
URL:https://adventlutheranyork.org/event/contemporary-worship-service-28/
CATEGORIES:Services
END:VEVENT
BEGIN:VEVENT
DTSTART;TZID=America/New_York:20250504T140000
DTEND;TZID=America/New_York:20250504T150000
DTSTAMP:20260422T044122
CREATED:20250428T161555Z
LAST-MODIFIED:20250428T161555Z
UID:25108-1746367200-1746370800@adventlutheranyork.org
SUMMARY:Advent Crafters
DESCRIPTION:
URL:https://adventlutheranyork.org/event/advent-crafters-10/
CATEGORIES:Advent Crafters
END:VEVENT
END:VCALENDAR