BEGIN:VCALENDAR
VERSION:2.0
PRODID:-//Advent Lutheran Church - ECPv6.15.20//NONSGML v1.0//EN
CALSCALE:GREGORIAN
METHOD:PUBLISH
X-WR-CALNAME:Advent Lutheran Church
X-ORIGINAL-URL:https://adventlutheranyork.org
X-WR-CALDESC:Events for Advent Lutheran Church
REFRESH-INTERVAL;VALUE=DURATION:PT1H
X-Robots-Tag:noindex
X-PUBLISHED-TTL:PT1H
BEGIN:VTIMEZONE
TZID:America/New_York
BEGIN:DAYLIGHT
TZOFFSETFROM:-0500
TZOFFSETTO:-0400
TZNAME:EDT
DTSTART:20240310T070000
END:DAYLIGHT
BEGIN:STANDARD
TZOFFSETFROM:-0400
TZOFFSETTO:-0500
TZNAME:EST
DTSTART:20241103T060000
END:STANDARD
BEGIN:DAYLIGHT
TZOFFSETFROM:-0500
TZOFFSETTO:-0400
TZNAME:EDT
DTSTART:20250309T070000
END:DAYLIGHT
BEGIN:STANDARD
TZOFFSETFROM:-0400
TZOFFSETTO:-0500
TZNAME:EST
DTSTART:20251102T060000
END:STANDARD
BEGIN:DAYLIGHT
TZOFFSETFROM:-0500
TZOFFSETTO:-0400
TZNAME:EDT
DTSTART:20260308T070000
END:DAYLIGHT
BEGIN:STANDARD
TZOFFSETFROM:-0400
TZOFFSETTO:-0500
TZNAME:EST
DTSTART:20261101T060000
END:STANDARD
END:VTIMEZONE
BEGIN:VEVENT
DTSTART;VALUE=DATE:20250518
DTEND;VALUE=DATE:20250519
DTSTAMP:20260422T044711
CREATED:20250428T163703Z
LAST-MODIFIED:20250428T163703Z
UID:25162-1747526400-1747612799@adventlutheranyork.org
SUMMARY:Easter 5
DESCRIPTION:
URL:https://adventlutheranyork.org/event/easter-5-2/
END:VEVENT
BEGIN:VEVENT
DTSTART;TZID=America/New_York:20250518T083000
DTEND;TZID=America/New_York:20250518T093000
DTSTAMP:20260422T044711
CREATED:20250428T163742Z
LAST-MODIFIED:20250428T163742Z
UID:25164-1747557000-1747560600@adventlutheranyork.org
SUMMARY:Worship Service
DESCRIPTION:
URL:https://adventlutheranyork.org/event/worship-service-139/
CATEGORIES:Services
END:VEVENT
BEGIN:VEVENT
DTSTART;TZID=America/New_York:20250518T094500
DTEND;TZID=America/New_York:20250518T104500
DTSTAMP:20260422T044711
CREATED:20250428T163831Z
LAST-MODIFIED:20250428T163831Z
UID:25166-1747561500-1747565100@adventlutheranyork.org
SUMMARY:Sunday School- Last Day
DESCRIPTION:
URL:https://adventlutheranyork.org/event/sunday-school-last-day/
CATEGORIES:Christian Education,Family Ministry
END:VEVENT
BEGIN:VEVENT
DTSTART;TZID=America/New_York:20250518T110000
DTEND;TZID=America/New_York:20250518T120000
DTSTAMP:20260422T044711
CREATED:20250428T163906Z
LAST-MODIFIED:20250428T163906Z
UID:25168-1747566000-1747569600@adventlutheranyork.org
SUMMARY:Worship Service
DESCRIPTION:
URL:https://adventlutheranyork.org/event/worship-service-140/
CATEGORIES:Services
END:VEVENT
BEGIN:VEVENT
DTSTART;TZID=America/New_York:20250518T111500
DTEND;TZID=America/New_York:20250518T120000
DTSTAMP:20260422T044711
CREATED:20250428T163940Z
LAST-MODIFIED:20250428T163940Z
UID:25170-1747566900-1747569600@adventlutheranyork.org
SUMMARY:Contemporary Worship Service
DESCRIPTION:
URL:https://adventlutheranyork.org/event/contemporary-worship-service-30/
CATEGORIES:Services
END:VEVENT
BEGIN:VEVENT
DTSTART;TZID=America/New_York:20250518T133000
DTEND;TZID=America/New_York:20250518T143000
DTSTAMP:20260422T044711
CREATED:20250428T164038Z
LAST-MODIFIED:20250428T164038Z
UID:25172-1747575000-1747578600@adventlutheranyork.org
SUMMARY:Junior/Senior High Youth Group- Urban Air
DESCRIPTION:
URL:https://adventlutheranyork.org/event/junior-senior-high-youth-group-urban-air/
CATEGORIES:Youth Ministry
END:VEVENT
BEGIN:VEVENT
DTSTART;TZID=America/New_York:20250518T160000
DTEND;TZID=America/New_York:20250518T170000
DTSTAMP:20260422T044711
CREATED:20250428T164114Z
LAST-MODIFIED:20250428T164114Z
UID:25174-1747584000-1747587600@adventlutheranyork.org
SUMMARY:Prayers & Stitches
DESCRIPTION:
URL:https://adventlutheranyork.org/event/prayers-stitches-4/
CATEGORIES:Prayers and Stitches
END:VEVENT
END:VCALENDAR