BEGIN:VCALENDAR
VERSION:2.0
PRODID:-//Advent Lutheran Church - ECPv6.15.20//NONSGML v1.0//EN
CALSCALE:GREGORIAN
METHOD:PUBLISH
X-ORIGINAL-URL:https://adventlutheranyork.org
X-WR-CALDESC:Events for Advent Lutheran Church
REFRESH-INTERVAL;VALUE=DURATION:PT1H
X-Robots-Tag:noindex
X-PUBLISHED-TTL:PT1H
BEGIN:VTIMEZONE
TZID:America/New_York
BEGIN:DAYLIGHT
TZOFFSETFROM:-0500
TZOFFSETTO:-0400
TZNAME:EDT
DTSTART:20240310T070000
END:DAYLIGHT
BEGIN:STANDARD
TZOFFSETFROM:-0400
TZOFFSETTO:-0500
TZNAME:EST
DTSTART:20241103T060000
END:STANDARD
BEGIN:DAYLIGHT
TZOFFSETFROM:-0500
TZOFFSETTO:-0400
TZNAME:EDT
DTSTART:20250309T070000
END:DAYLIGHT
BEGIN:STANDARD
TZOFFSETFROM:-0400
TZOFFSETTO:-0500
TZNAME:EST
DTSTART:20251102T060000
END:STANDARD
BEGIN:DAYLIGHT
TZOFFSETFROM:-0500
TZOFFSETTO:-0400
TZNAME:EDT
DTSTART:20260308T070000
END:DAYLIGHT
BEGIN:STANDARD
TZOFFSETFROM:-0400
TZOFFSETTO:-0500
TZNAME:EST
DTSTART:20261101T060000
END:STANDARD
END:VTIMEZONE
BEGIN:VEVENT
DTSTART;VALUE=DATE:20250601
DTEND;VALUE=DATE:20250602
DTSTAMP:20260422T061235
CREATED:20250525T153944Z
LAST-MODIFIED:20250525T153944Z
UID:25269-1748736000-1748822399@adventlutheranyork.org
SUMMARY:Easter 7
DESCRIPTION:
URL:https://adventlutheranyork.org/event/easter-7-3/
END:VEVENT
BEGIN:VEVENT
DTSTART;TZID=America/New_York:20250601T083000
DTEND;TZID=America/New_York:20250601T093000
DTSTAMP:20260422T061235
CREATED:20250525T152329Z
LAST-MODIFIED:20250525T152329Z
UID:25223-1748766600-1748770200@adventlutheranyork.org
SUMMARY:Worship Service
DESCRIPTION:
URL:https://adventlutheranyork.org/event/worship-service-143/
CATEGORIES:Services
END:VEVENT
BEGIN:VEVENT
DTSTART;TZID=America/New_York:20250601T094500
DTEND;TZID=America/New_York:20250601T104500
DTSTAMP:20260422T061235
CREATED:20250525T152416Z
LAST-MODIFIED:20250525T152416Z
UID:25225-1748771100-1748774700@adventlutheranyork.org
SUMMARY:Pancakes with the Pastors
DESCRIPTION:
URL:https://adventlutheranyork.org/event/pancakes-with-the-pastors/
CATEGORIES:Family Ministry
END:VEVENT
BEGIN:VEVENT
DTSTART;TZID=America/New_York:20250601T110000
DTEND;TZID=America/New_York:20250601T120000
DTSTAMP:20260422T061235
CREATED:20250525T152450Z
LAST-MODIFIED:20250525T152450Z
UID:25227-1748775600-1748779200@adventlutheranyork.org
SUMMARY:Worship Service
DESCRIPTION:
URL:https://adventlutheranyork.org/event/worship-service-144/
CATEGORIES:Services
END:VEVENT
BEGIN:VEVENT
DTSTART;TZID=America/New_York:20250601T111500
DTEND;TZID=America/New_York:20250601T120000
DTSTAMP:20260422T061235
CREATED:20250525T152529Z
LAST-MODIFIED:20250525T152529Z
UID:25229-1748776500-1748779200@adventlutheranyork.org
SUMMARY:Contemporary Worship Service
DESCRIPTION:
URL:https://adventlutheranyork.org/event/contemporary-worship-service-32/
CATEGORIES:Services
END:VEVENT
END:VCALENDAR