BEGIN:VCALENDAR
VERSION:2.0
PRODID:-//Advent Lutheran Church - ECPv6.15.20//NONSGML v1.0//EN
CALSCALE:GREGORIAN
METHOD:PUBLISH
X-WR-CALNAME:Advent Lutheran Church
X-ORIGINAL-URL:https://adventlutheranyork.org
X-WR-CALDESC:Events for Advent Lutheran Church
REFRESH-INTERVAL;VALUE=DURATION:PT1H
X-Robots-Tag:noindex
X-PUBLISHED-TTL:PT1H
BEGIN:VTIMEZONE
TZID:America/New_York
BEGIN:DAYLIGHT
TZOFFSETFROM:-0500
TZOFFSETTO:-0400
TZNAME:EDT
DTSTART:20240310T070000
END:DAYLIGHT
BEGIN:STANDARD
TZOFFSETFROM:-0400
TZOFFSETTO:-0500
TZNAME:EST
DTSTART:20241103T060000
END:STANDARD
BEGIN:DAYLIGHT
TZOFFSETFROM:-0500
TZOFFSETTO:-0400
TZNAME:EDT
DTSTART:20250309T070000
END:DAYLIGHT
BEGIN:STANDARD
TZOFFSETFROM:-0400
TZOFFSETTO:-0500
TZNAME:EST
DTSTART:20251102T060000
END:STANDARD
BEGIN:DAYLIGHT
TZOFFSETFROM:-0500
TZOFFSETTO:-0400
TZNAME:EDT
DTSTART:20260308T070000
END:DAYLIGHT
BEGIN:STANDARD
TZOFFSETFROM:-0400
TZOFFSETTO:-0500
TZNAME:EST
DTSTART:20261101T060000
END:STANDARD
END:VTIMEZONE
BEGIN:VEVENT
DTSTART;VALUE=DATE:20250914
DTEND;VALUE=DATE:20250915
DTSTAMP:20260421T230815
CREATED:20250821T171737Z
LAST-MODIFIED:20250821T171737Z
UID:25487-1757808000-1757894399@adventlutheranyork.org
SUMMARY:Fair Trade Sunday
DESCRIPTION:
URL:https://adventlutheranyork.org/event/fair-trade-sunday-14/
END:VEVENT
BEGIN:VEVENT
DTSTART;TZID=America/New_York:20250914T083000
DTEND;TZID=America/New_York:20250914T093000
DTSTAMP:20260421T230816
CREATED:20250821T171825Z
LAST-MODIFIED:20250821T171825Z
UID:25489-1757838600-1757842200@adventlutheranyork.org
SUMMARY:Traditional Worship
DESCRIPTION:
URL:https://adventlutheranyork.org/event/traditional-worship-3/
CATEGORIES:Services
END:VEVENT
BEGIN:VEVENT
DTSTART;TZID=America/New_York:20250914T093000
DTEND;TZID=America/New_York:20250914T094500
DTSTAMP:20260421T230816
CREATED:20250821T171908Z
LAST-MODIFIED:20250821T175938Z
UID:25491-1757842200-1757843100@adventlutheranyork.org
SUMMARY:Youth Choir Rehearsal
DESCRIPTION:
URL:https://adventlutheranyork.org/event/youth-choir-rehearsal-30/
CATEGORIES:Music Ministry
END:VEVENT
BEGIN:VEVENT
DTSTART;TZID=America/New_York:20250914T094500
DTEND;TZID=America/New_York:20250914T224500
DTSTAMP:20260421T230816
CREATED:20250821T172005Z
LAST-MODIFIED:20250821T172005Z
UID:25493-1757843100-1757889900@adventlutheranyork.org
SUMMARY:Sunday School
DESCRIPTION:
URL:https://adventlutheranyork.org/event/sunday-school-56/
CATEGORIES:Christian Education
END:VEVENT
BEGIN:VEVENT
DTSTART;TZID=America/New_York:20250914T110000
DTEND;TZID=America/New_York:20250914T120000
DTSTAMP:20260421T230816
CREATED:20250821T172346Z
LAST-MODIFIED:20250821T172346Z
UID:25495-1757847600-1757851200@adventlutheranyork.org
SUMMARY:Traditional Worship
DESCRIPTION:
URL:https://adventlutheranyork.org/event/traditional-worship-4/
CATEGORIES:Services
END:VEVENT
BEGIN:VEVENT
DTSTART;TZID=America/New_York:20250914T111500
DTEND;TZID=America/New_York:20250914T120000
DTSTAMP:20260421T230816
CREATED:20250821T172513Z
LAST-MODIFIED:20250821T172513Z
UID:25497-1757848500-1757851200@adventlutheranyork.org
SUMMARY:Contemporary Worshp
DESCRIPTION:
URL:https://adventlutheranyork.org/event/contemporary-worshp/
CATEGORIES:Services
END:VEVENT
BEGIN:VEVENT
DTSTART;TZID=America/New_York:20250914T121500
DTEND;TZID=America/New_York:20250914T131500
DTSTAMP:20260421T230816
CREATED:20250821T172607Z
LAST-MODIFIED:20250821T172607Z
UID:25499-1757852100-1757855700@adventlutheranyork.org
SUMMARY:Communication Audit
DESCRIPTION:
URL:https://adventlutheranyork.org/event/communication-audit/
CATEGORIES:Administration
END:VEVENT
BEGIN:VEVENT
DTSTART;TZID=America/New_York:20250914T140000
DTEND;TZID=America/New_York:20250914T150000
DTSTAMP:20260421T230816
CREATED:20250821T172642Z
LAST-MODIFIED:20250821T172642Z
UID:25501-1757858400-1757862000@adventlutheranyork.org
SUMMARY:Worship Training
DESCRIPTION:
URL:https://adventlutheranyork.org/event/worship-training/
END:VEVENT
BEGIN:VEVENT
DTSTART;TZID=America/New_York:20250914T150000
DTEND;TZID=America/New_York:20250914T160000
DTSTAMP:20260421T230816
CREATED:20250821T172737Z
LAST-MODIFIED:20250821T172737Z
UID:25503-1757862000-1757865600@adventlutheranyork.org
SUMMARY:Young Adventurers Family Picnic @ FA
DESCRIPTION:
URL:https://adventlutheranyork.org/event/young-adventurers-family-picnic-fa/
CATEGORIES:Youth Ministry
END:VEVENT
END:VCALENDAR