BEGIN:VCALENDAR
VERSION:2.0
PRODID:-//Advent Lutheran Church - ECPv6.15.20//NONSGML v1.0//EN
CALSCALE:GREGORIAN
METHOD:PUBLISH
X-WR-CALNAME:Advent Lutheran Church
X-ORIGINAL-URL:https://adventlutheranyork.org
X-WR-CALDESC:Events for Advent Lutheran Church
REFRESH-INTERVAL;VALUE=DURATION:PT1H
X-Robots-Tag:noindex
X-PUBLISHED-TTL:PT1H
BEGIN:VTIMEZONE
TZID:America/New_York
BEGIN:DAYLIGHT
TZOFFSETFROM:-0500
TZOFFSETTO:-0400
TZNAME:EDT
DTSTART:20240310T070000
END:DAYLIGHT
BEGIN:STANDARD
TZOFFSETFROM:-0400
TZOFFSETTO:-0500
TZNAME:EST
DTSTART:20241103T060000
END:STANDARD
BEGIN:DAYLIGHT
TZOFFSETFROM:-0500
TZOFFSETTO:-0400
TZNAME:EDT
DTSTART:20250309T070000
END:DAYLIGHT
BEGIN:STANDARD
TZOFFSETFROM:-0400
TZOFFSETTO:-0500
TZNAME:EST
DTSTART:20251102T060000
END:STANDARD
BEGIN:DAYLIGHT
TZOFFSETFROM:-0500
TZOFFSETTO:-0400
TZNAME:EDT
DTSTART:20260308T070000
END:DAYLIGHT
BEGIN:STANDARD
TZOFFSETFROM:-0400
TZOFFSETTO:-0500
TZNAME:EST
DTSTART:20261101T060000
END:STANDARD
END:VTIMEZONE
BEGIN:VEVENT
DTSTART;VALUE=DATE:20251130
DTEND;VALUE=DATE:20251201
DTSTAMP:20260421T173943
CREATED:20251025T194903Z
LAST-MODIFIED:20251025T194903Z
UID:25899-1764460800-1764547199@adventlutheranyork.org
SUMMARY:Advent 1/Hanging of the Greens
DESCRIPTION:
URL:https://adventlutheranyork.org/event/advent-1-hanging-of-the-greens/
END:VEVENT
BEGIN:VEVENT
DTSTART;TZID=America/New_York:20251130T084500
DTEND;TZID=America/New_York:20251130T090000
DTSTAMP:20260421T173943
CREATED:20251025T194950Z
LAST-MODIFIED:20251025T194950Z
UID:25901-1764492300-1764493200@adventlutheranyork.org
SUMMARY:Youth Choir Rehearsal
DESCRIPTION:
URL:https://adventlutheranyork.org/event/youth-choir-rehearsal-38/
CATEGORIES:Music Ministry
END:VEVENT
BEGIN:VEVENT
DTSTART;TZID=America/New_York:20251130T090000
DTEND;TZID=America/New_York:20251130T100000
DTSTAMP:20260421T173943
CREATED:20251025T195032Z
LAST-MODIFIED:20251025T195032Z
UID:25903-1764493200-1764496800@adventlutheranyork.org
SUMMARY:Sunday School
DESCRIPTION:
URL:https://adventlutheranyork.org/event/sunday-school-67/
CATEGORIES:Christian Education
END:VEVENT
BEGIN:VEVENT
DTSTART;TZID=America/New_York:20251130T100000
DTEND;TZID=America/New_York:20251130T110000
DTSTAMP:20260421T173943
CREATED:20251025T195114Z
LAST-MODIFIED:20251025T195114Z
UID:25905-1764496800-1764500400@adventlutheranyork.org
SUMMARY:Combined Worship Service
DESCRIPTION:
URL:https://adventlutheranyork.org/event/combined-worship-service-5/
CATEGORIES:Services
END:VEVENT
END:VCALENDAR