BEGIN:VCALENDAR
VERSION:2.0
PRODID:-//Advent Lutheran Church - ECPv6.15.20//NONSGML v1.0//EN
CALSCALE:GREGORIAN
METHOD:PUBLISH
X-ORIGINAL-URL:https://adventlutheranyork.org
X-WR-CALDESC:Events for Advent Lutheran Church
REFRESH-INTERVAL;VALUE=DURATION:PT1H
X-Robots-Tag:noindex
X-PUBLISHED-TTL:PT1H
BEGIN:VTIMEZONE
TZID:America/New_York
BEGIN:DAYLIGHT
TZOFFSETFROM:-0500
TZOFFSETTO:-0400
TZNAME:EDT
DTSTART:20240310T070000
END:DAYLIGHT
BEGIN:STANDARD
TZOFFSETFROM:-0400
TZOFFSETTO:-0500
TZNAME:EST
DTSTART:20241103T060000
END:STANDARD
BEGIN:DAYLIGHT
TZOFFSETFROM:-0500
TZOFFSETTO:-0400
TZNAME:EDT
DTSTART:20250309T070000
END:DAYLIGHT
BEGIN:STANDARD
TZOFFSETFROM:-0400
TZOFFSETTO:-0500
TZNAME:EST
DTSTART:20251102T060000
END:STANDARD
BEGIN:DAYLIGHT
TZOFFSETFROM:-0500
TZOFFSETTO:-0400
TZNAME:EDT
DTSTART:20260308T070000
END:DAYLIGHT
BEGIN:STANDARD
TZOFFSETFROM:-0400
TZOFFSETTO:-0500
TZNAME:EST
DTSTART:20261101T060000
END:STANDARD
END:VTIMEZONE
BEGIN:VEVENT
DTSTART;VALUE=DATE:20251228
DTEND;VALUE=DATE:20251229
DTSTAMP:20260421T202807
CREATED:20251126T233546Z
LAST-MODIFIED:20251126T233546Z
UID:26039-1766880000-1766966399@adventlutheranyork.org
SUMMARY:Christmas 1
DESCRIPTION:
URL:https://adventlutheranyork.org/event/christmas-1-3/
END:VEVENT
BEGIN:VEVENT
DTSTART;TZID=America/New_York:20251228T083000
DTEND;TZID=America/New_York:20251228T093000
DTSTAMP:20260421T202807
CREATED:20251126T233634Z
LAST-MODIFIED:20251126T233634Z
UID:26041-1766910600-1766914200@adventlutheranyork.org
SUMMARY:Worship Service
DESCRIPTION:
URL:https://adventlutheranyork.org/event/worship-service-179/
CATEGORIES:Services
END:VEVENT
BEGIN:VEVENT
DTSTART;TZID=America/New_York:20251228T094500
DTEND;TZID=America/New_York:20251228T104500
DTSTAMP:20260421T202807
CREATED:20251126T233840Z
LAST-MODIFIED:20251126T233840Z
UID:26043-1766915100-1766918700@adventlutheranyork.org
SUMMARY:Sunday School
DESCRIPTION:
URL:https://adventlutheranyork.org/event/sunday-school-71/
CATEGORIES:Christian Education
END:VEVENT
BEGIN:VEVENT
DTSTART;TZID=America/New_York:20251228T111500
DTEND;TZID=America/New_York:20251228T120000
DTSTAMP:20260421T202807
CREATED:20251126T233922Z
LAST-MODIFIED:20251126T233922Z
UID:26045-1766920500-1766923200@adventlutheranyork.org
SUMMARY:Contemporary Worship Service
DESCRIPTION:
URL:https://adventlutheranyork.org/event/contemporary-worship-service-55/
CATEGORIES:Services
END:VEVENT
END:VCALENDAR