BEGIN:VCALENDAR
VERSION:2.0
PRODID:-//Advent Lutheran Church - ECPv6.15.20//NONSGML v1.0//EN
CALSCALE:GREGORIAN
METHOD:PUBLISH
X-ORIGINAL-URL:https://adventlutheranyork.org
X-WR-CALDESC:Events for Advent Lutheran Church
REFRESH-INTERVAL;VALUE=DURATION:PT1H
X-Robots-Tag:noindex
X-PUBLISHED-TTL:PT1H
BEGIN:VTIMEZONE
TZID:America/New_York
BEGIN:DAYLIGHT
TZOFFSETFROM:-0500
TZOFFSETTO:-0400
TZNAME:EDT
DTSTART:20250309T070000
END:DAYLIGHT
BEGIN:STANDARD
TZOFFSETFROM:-0400
TZOFFSETTO:-0500
TZNAME:EST
DTSTART:20251102T060000
END:STANDARD
BEGIN:DAYLIGHT
TZOFFSETFROM:-0500
TZOFFSETTO:-0400
TZNAME:EDT
DTSTART:20260308T070000
END:DAYLIGHT
BEGIN:STANDARD
TZOFFSETFROM:-0400
TZOFFSETTO:-0500
TZNAME:EST
DTSTART:20261101T060000
END:STANDARD
BEGIN:DAYLIGHT
TZOFFSETFROM:-0500
TZOFFSETTO:-0400
TZNAME:EDT
DTSTART:20270314T070000
END:DAYLIGHT
BEGIN:STANDARD
TZOFFSETFROM:-0400
TZOFFSETTO:-0500
TZNAME:EST
DTSTART:20271107T060000
END:STANDARD
END:VTIMEZONE
BEGIN:VEVENT
DTSTART;VALUE=DATE:20260125
DTEND;VALUE=DATE:20260126
DTSTAMP:20260421T143247
CREATED:20251228T195828Z
LAST-MODIFIED:20251228T195828Z
UID:26155-1769299200-1769385599@adventlutheranyork.org
SUMMARY:Epiphany 3
DESCRIPTION:
URL:https://adventlutheranyork.org/event/epiphany-3-3/
END:VEVENT
BEGIN:VEVENT
DTSTART;TZID=America/New_York:20260125T083000
DTEND;TZID=America/New_York:20260125T093000
DTSTAMP:20260421T143247
CREATED:20251228T195914Z
LAST-MODIFIED:20251228T195914Z
UID:26157-1769329800-1769333400@adventlutheranyork.org
SUMMARY:Traditional Worship Service
DESCRIPTION:
URL:https://adventlutheranyork.org/event/traditional-worship-service-13/
CATEGORIES:Services
END:VEVENT
BEGIN:VEVENT
DTSTART;TZID=America/New_York:20260125T093000
DTEND;TZID=America/New_York:20260125T094500
DTSTAMP:20260421T143247
CREATED:20251228T195959Z
LAST-MODIFIED:20251228T195959Z
UID:26159-1769333400-1769334300@adventlutheranyork.org
SUMMARY:Youth Choir Rehearsal
DESCRIPTION:
URL:https://adventlutheranyork.org/event/youth-choir-rehearsal-43/
CATEGORIES:Music Ministry
END:VEVENT
BEGIN:VEVENT
DTSTART;TZID=America/New_York:20260125T094500
DTEND;TZID=America/New_York:20260125T104500
DTSTAMP:20260421T143247
CREATED:20251228T200053Z
LAST-MODIFIED:20251228T200053Z
UID:26161-1769334300-1769337900@adventlutheranyork.org
SUMMARY:Outreach Committee Meeting
DESCRIPTION:
URL:https://adventlutheranyork.org/event/outreach-committee-meeting-8/
CATEGORIES:Committee
END:VEVENT
BEGIN:VEVENT
DTSTART;TZID=America/New_York:20260125T094500
DTEND;TZID=America/New_York:20260125T104500
DTSTAMP:20260421T143248
CREATED:20251228T200141Z
LAST-MODIFIED:20251228T200141Z
UID:26163-1769334300-1769337900@adventlutheranyork.org
SUMMARY:Sunday School
DESCRIPTION:
URL:https://adventlutheranyork.org/event/sunday-school-75/
CATEGORIES:Christian Education
END:VEVENT
BEGIN:VEVENT
DTSTART;TZID=America/New_York:20260125T110000
DTEND;TZID=America/New_York:20260125T120000
DTSTAMP:20260421T143248
CREATED:20251228T200222Z
LAST-MODIFIED:20251228T200222Z
UID:26165-1769338800-1769342400@adventlutheranyork.org
SUMMARY:Traditional Worship Service
DESCRIPTION:
URL:https://adventlutheranyork.org/event/traditional-worship-service-14/
CATEGORIES:Services
END:VEVENT
BEGIN:VEVENT
DTSTART;TZID=America/New_York:20260125T111500
DTEND;TZID=America/New_York:20260125T120000
DTSTAMP:20260421T143248
CREATED:20251228T200307Z
LAST-MODIFIED:20251228T200307Z
UID:26167-1769339700-1769342400@adventlutheranyork.org
SUMMARY:Contemporary Worship Service
DESCRIPTION:
URL:https://adventlutheranyork.org/event/contemporary-worship-service-58/
CATEGORIES:Services
END:VEVENT
END:VCALENDAR