BEGIN:VCALENDAR
VERSION:2.0
PRODID:-//Advent Lutheran Church - ECPv6.15.20//NONSGML v1.0//EN
CALSCALE:GREGORIAN
METHOD:PUBLISH
X-ORIGINAL-URL:https://adventlutheranyork.org
X-WR-CALDESC:Events for Advent Lutheran Church
REFRESH-INTERVAL;VALUE=DURATION:PT1H
X-Robots-Tag:noindex
X-PUBLISHED-TTL:PT1H
BEGIN:VTIMEZONE
TZID:America/New_York
BEGIN:DAYLIGHT
TZOFFSETFROM:-0500
TZOFFSETTO:-0400
TZNAME:EDT
DTSTART:20250309T070000
END:DAYLIGHT
BEGIN:STANDARD
TZOFFSETFROM:-0400
TZOFFSETTO:-0500
TZNAME:EST
DTSTART:20251102T060000
END:STANDARD
BEGIN:DAYLIGHT
TZOFFSETFROM:-0500
TZOFFSETTO:-0400
TZNAME:EDT
DTSTART:20260308T070000
END:DAYLIGHT
BEGIN:STANDARD
TZOFFSETFROM:-0400
TZOFFSETTO:-0500
TZNAME:EST
DTSTART:20261101T060000
END:STANDARD
BEGIN:DAYLIGHT
TZOFFSETFROM:-0500
TZOFFSETTO:-0400
TZNAME:EDT
DTSTART:20270314T070000
END:DAYLIGHT
BEGIN:STANDARD
TZOFFSETFROM:-0400
TZOFFSETTO:-0500
TZNAME:EST
DTSTART:20271107T060000
END:STANDARD
END:VTIMEZONE
BEGIN:VEVENT
DTSTART;VALUE=DATE:20260208
DTEND;VALUE=DATE:20260209
DTSTAMP:20260421T131549
CREATED:20260115T230032Z
LAST-MODIFIED:20260115T230032Z
UID:26211-1770508800-1770595199@adventlutheranyork.org
SUMMARY:Souper Bowl of Caring
DESCRIPTION:
URL:https://adventlutheranyork.org/event/souper-bowl-of-caring-2/
END:VEVENT
BEGIN:VEVENT
DTSTART;VALUE=DATE:20260208
DTEND;VALUE=DATE:20260209
DTSTAMP:20260421T131549
CREATED:20260115T230913Z
LAST-MODIFIED:20260115T230913Z
UID:26225-1770508800-1770595199@adventlutheranyork.org
SUMMARY:Epiphany 5
DESCRIPTION:
URL:https://adventlutheranyork.org/event/epiphany-5-3/
END:VEVENT
BEGIN:VEVENT
DTSTART;TZID=America/New_York:20260208T083000
DTEND;TZID=America/New_York:20260208T093000
DTSTAMP:20260421T131549
CREATED:20260115T230145Z
LAST-MODIFIED:20260115T230145Z
UID:26213-1770539400-1770543000@adventlutheranyork.org
SUMMARY:Traditional Worship Service
DESCRIPTION:
URL:https://adventlutheranyork.org/event/traditional-worship-service-17/
CATEGORIES:Services
END:VEVENT
BEGIN:VEVENT
DTSTART;TZID=America/New_York:20260208T094500
DTEND;TZID=America/New_York:20260208T104500
DTSTAMP:20260421T131549
CREATED:20260115T230334Z
LAST-MODIFIED:20260115T230334Z
UID:26215-1770543900-1770547500@adventlutheranyork.org
SUMMARY:Sunday School
DESCRIPTION:
URL:https://adventlutheranyork.org/event/sunday-school-77/
CATEGORIES:Christian Education
END:VEVENT
BEGIN:VEVENT
DTSTART;TZID=America/New_York:20260208T110000
DTEND;TZID=America/New_York:20260208T120000
DTSTAMP:20260421T131549
CREATED:20260115T230537Z
LAST-MODIFIED:20260115T230537Z
UID:26217-1770548400-1770552000@adventlutheranyork.org
SUMMARY:Traditional Worship Service
DESCRIPTION:
URL:https://adventlutheranyork.org/event/traditional-worship-service-18/
CATEGORIES:Services
END:VEVENT
BEGIN:VEVENT
DTSTART;TZID=America/New_York:20260208T111500
DTEND;TZID=America/New_York:20260208T120000
DTSTAMP:20260421T131549
CREATED:20260115T230641Z
LAST-MODIFIED:20260115T230641Z
UID:26219-1770549300-1770552000@adventlutheranyork.org
SUMMARY:Contemporary Worship Service
DESCRIPTION:
URL:https://adventlutheranyork.org/event/contemporary-worship-service-60/
CATEGORIES:Services
END:VEVENT
BEGIN:VEVENT
DTSTART;TZID=America/New_York:20260208T120000
DTEND;TZID=America/New_York:20260208T140000
DTSTAMP:20260421T131549
CREATED:20260115T230738Z
LAST-MODIFIED:20260115T230738Z
UID:26221-1770552000-1770559200@adventlutheranyork.org
SUMMARY:Youth Group Pre-Super Bowl Party
DESCRIPTION:
URL:https://adventlutheranyork.org/event/youth-group-pre-super-bowl-party/
CATEGORIES:Youth Ministry
END:VEVENT
END:VCALENDAR