BEGIN:VCALENDAR
VERSION:2.0
PRODID:-//Advent Lutheran Church - ECPv6.15.20//NONSGML v1.0//EN
CALSCALE:GREGORIAN
METHOD:PUBLISH
X-WR-CALNAME:Advent Lutheran Church
X-ORIGINAL-URL:https://adventlutheranyork.org
X-WR-CALDESC:Events for Advent Lutheran Church
REFRESH-INTERVAL;VALUE=DURATION:PT1H
X-Robots-Tag:noindex
X-PUBLISHED-TTL:PT1H
BEGIN:VTIMEZONE
TZID:America/New_York
BEGIN:DAYLIGHT
TZOFFSETFROM:-0500
TZOFFSETTO:-0400
TZNAME:EDT
DTSTART:20250309T070000
END:DAYLIGHT
BEGIN:STANDARD
TZOFFSETFROM:-0400
TZOFFSETTO:-0500
TZNAME:EST
DTSTART:20251102T060000
END:STANDARD
BEGIN:DAYLIGHT
TZOFFSETFROM:-0500
TZOFFSETTO:-0400
TZNAME:EDT
DTSTART:20260308T070000
END:DAYLIGHT
BEGIN:STANDARD
TZOFFSETFROM:-0400
TZOFFSETTO:-0500
TZNAME:EST
DTSTART:20261101T060000
END:STANDARD
BEGIN:DAYLIGHT
TZOFFSETFROM:-0500
TZOFFSETTO:-0400
TZNAME:EDT
DTSTART:20270314T070000
END:DAYLIGHT
BEGIN:STANDARD
TZOFFSETFROM:-0400
TZOFFSETTO:-0500
TZNAME:EST
DTSTART:20271107T060000
END:STANDARD
END:VTIMEZONE
BEGIN:VEVENT
DTSTART;VALUE=DATE:20260426
DTEND;VALUE=DATE:20260427
DTSTAMP:20260426T020226
CREATED:20260330T164552Z
LAST-MODIFIED:20260330T164552Z
UID:26704-1777161600-1777247999@adventlutheranyork.org
SUMMARY:Easter 4
DESCRIPTION:
URL:https://adventlutheranyork.org/event/easter-4-3/
END:VEVENT
BEGIN:VEVENT
DTSTART;VALUE=DATE:20260426
DTEND;VALUE=DATE:20260427
DTSTAMP:20260426T020226
CREATED:20260330T164650Z
LAST-MODIFIED:20260330T164650Z
UID:26706-1777161600-1777247999@adventlutheranyork.org
SUMMARY:Bring A Friend Sunday
DESCRIPTION:
URL:https://adventlutheranyork.org/event/bring-a-friend-sunday-2/
END:VEVENT
BEGIN:VEVENT
DTSTART;TZID=America/New_York:20260426T083000
DTEND;TZID=America/New_York:20260426T093000
DTSTAMP:20260426T020226
CREATED:20260330T164746Z
LAST-MODIFIED:20260330T164746Z
UID:26708-1777192200-1777195800@adventlutheranyork.org
SUMMARY:Traditional Worship Service
DESCRIPTION:
URL:https://adventlutheranyork.org/event/traditional-worship-service-30/
CATEGORIES:Services
END:VEVENT
BEGIN:VEVENT
DTSTART;TZID=America/New_York:20260426T100000
DTEND;TZID=America/New_York:20260426T110000
DTSTAMP:20260426T020226
CREATED:20260330T164912Z
LAST-MODIFIED:20260330T164912Z
UID:26710-1777197600-1777201200@adventlutheranyork.org
SUMMARY:Congregation Group Photo
DESCRIPTION:
URL:https://adventlutheranyork.org/event/congregation-group-photo/
END:VEVENT
BEGIN:VEVENT
DTSTART;TZID=America/New_York:20260426T110000
DTEND;TZID=America/New_York:20260426T120000
DTSTAMP:20260426T020226
CREATED:20260330T165022Z
LAST-MODIFIED:20260330T165022Z
UID:26712-1777201200-1777204800@adventlutheranyork.org
SUMMARY:Traditional Worship Service
DESCRIPTION:
URL:https://adventlutheranyork.org/event/traditional-worship-service-31/
CATEGORIES:Services
END:VEVENT
BEGIN:VEVENT
DTSTART;TZID=America/New_York:20260426T111500
DTEND;TZID=America/New_York:20260426T120000
DTSTAMP:20260426T020226
CREATED:20260330T165139Z
LAST-MODIFIED:20260330T165139Z
UID:26714-1777202100-1777204800@adventlutheranyork.org
SUMMARY:Contemporary Worship Service
DESCRIPTION:
URL:https://adventlutheranyork.org/event/contemporary-worship-service-71/
CATEGORIES:Services
END:VEVENT
END:VCALENDAR