BEGIN:VCALENDAR
VERSION:2.0
PRODID:-//Advent Lutheran Church - ECPv6.15.20//NONSGML v1.0//EN
CALSCALE:GREGORIAN
METHOD:PUBLISH
X-WR-CALNAME:Advent Lutheran Church
X-ORIGINAL-URL:https://adventlutheranyork.org
X-WR-CALDESC:Events for Advent Lutheran Church
REFRESH-INTERVAL;VALUE=DURATION:PT1H
X-Robots-Tag:noindex
X-PUBLISHED-TTL:PT1H
BEGIN:VTIMEZONE
TZID:America/New_York
BEGIN:DAYLIGHT
TZOFFSETFROM:-0500
TZOFFSETTO:-0400
TZNAME:EDT
DTSTART:20250309T070000
END:DAYLIGHT
BEGIN:STANDARD
TZOFFSETFROM:-0400
TZOFFSETTO:-0500
TZNAME:EST
DTSTART:20251102T060000
END:STANDARD
BEGIN:DAYLIGHT
TZOFFSETFROM:-0500
TZOFFSETTO:-0400
TZNAME:EDT
DTSTART:20260308T070000
END:DAYLIGHT
BEGIN:STANDARD
TZOFFSETFROM:-0400
TZOFFSETTO:-0500
TZNAME:EST
DTSTART:20261101T060000
END:STANDARD
BEGIN:DAYLIGHT
TZOFFSETFROM:-0500
TZOFFSETTO:-0400
TZNAME:EDT
DTSTART:20270314T070000
END:DAYLIGHT
BEGIN:STANDARD
TZOFFSETFROM:-0400
TZOFFSETTO:-0500
TZNAME:EST
DTSTART:20271107T060000
END:STANDARD
END:VTIMEZONE
BEGIN:VEVENT
DTSTART;VALUE=DATE:20260503
DTEND;VALUE=DATE:20260504
DTSTAMP:20260421T190212
CREATED:20260421T183909Z
LAST-MODIFIED:20260421T183909Z
UID:26753-1777766400-1777852799@adventlutheranyork.org
SUMMARY:Easter 5
DESCRIPTION:
URL:https://adventlutheranyork.org/event/easter-5-3/
END:VEVENT
BEGIN:VEVENT
DTSTART;TZID=America/New_York:20260503T083000
DTEND;TZID=America/New_York:20260503T093000
DTSTAMP:20260421T190212
CREATED:20260421T184012Z
LAST-MODIFIED:20260421T184012Z
UID:26755-1777797000-1777800600@adventlutheranyork.org
SUMMARY:Traditional Worship Service
DESCRIPTION:
URL:https://adventlutheranyork.org/event/traditional-worship-service-32/
CATEGORIES:Services
END:VEVENT
BEGIN:VEVENT
DTSTART;TZID=America/New_York:20260503T093000
DTEND;TZID=America/New_York:20260503T103000
DTSTAMP:20260421T190212
CREATED:20260421T184158Z
LAST-MODIFIED:20260421T184158Z
UID:26757-1777800600-1777804200@adventlutheranyork.org
SUMMARY:Youth Choir Rehearsal
DESCRIPTION:
URL:https://adventlutheranyork.org/event/youth-choir-rehearsal-51/
CATEGORIES:Music Ministry
END:VEVENT
BEGIN:VEVENT
DTSTART;TZID=America/New_York:20260503T094500
DTEND;TZID=America/New_York:20260503T104500
DTSTAMP:20260421T190212
CREATED:20260421T184302Z
LAST-MODIFIED:20260421T184302Z
UID:26759-1777801500-1777805100@adventlutheranyork.org
SUMMARY:Ministry Fair
DESCRIPTION:
URL:https://adventlutheranyork.org/event/ministry-fair/
END:VEVENT
BEGIN:VEVENT
DTSTART;TZID=America/New_York:20260503T094500
DTEND;TZID=America/New_York:20260503T104500
DTSTAMP:20260421T190212
CREATED:20260421T184425Z
LAST-MODIFIED:20260421T184425Z
UID:26761-1777801500-1777805100@adventlutheranyork.org
SUMMARY:Sunday School
DESCRIPTION:
URL:https://adventlutheranyork.org/event/sunday-school-87/
CATEGORIES:Christian Education
END:VEVENT
BEGIN:VEVENT
DTSTART;TZID=America/New_York:20260503T110000
DTEND;TZID=America/New_York:20260503T120000
DTSTAMP:20260421T190212
CREATED:20260421T184531Z
LAST-MODIFIED:20260421T184531Z
UID:26763-1777806000-1777809600@adventlutheranyork.org
SUMMARY:Traditional Worship Service
DESCRIPTION:
URL:https://adventlutheranyork.org/event/traditional-worship-service-33/
CATEGORIES:Services
END:VEVENT
BEGIN:VEVENT
DTSTART;TZID=America/New_York:20260503T111500
DTEND;TZID=America/New_York:20260503T120000
DTSTAMP:20260421T190212
CREATED:20260421T184652Z
LAST-MODIFIED:20260421T184652Z
UID:26765-1777806900-1777809600@adventlutheranyork.org
SUMMARY:Contemporary Worship Service
DESCRIPTION:
URL:https://adventlutheranyork.org/event/contemporary-worship-service-72/
CATEGORIES:Services
END:VEVENT
BEGIN:VEVENT
DTSTART;TZID=America/New_York:20260503T130000
DTEND;TZID=America/New_York:20260503T140000
DTSTAMP:20260421T190212
CREATED:20260421T184813Z
LAST-MODIFIED:20260421T184813Z
UID:26767-1777813200-1777816800@adventlutheranyork.org
SUMMARY:Staff Meeting
DESCRIPTION:
URL:https://adventlutheranyork.org/event/staff-meeting-5/
CATEGORIES:Administration
END:VEVENT
BEGIN:VEVENT
DTSTART;TZID=America/New_York:20260503T170000
DTEND;TZID=America/New_York:20260503T200000
DTSTAMP:20260421T190212
CREATED:20260421T185015Z
LAST-MODIFIED:20260421T185015Z
UID:26769-1777827600-1777838400@adventlutheranyork.org
SUMMARY:Youth Group at Friendly Acres
DESCRIPTION:
URL:https://adventlutheranyork.org/event/youth-group-at-friendly-acres/
CATEGORIES:Youth Ministry
END:VEVENT
END:VCALENDAR