BEGIN:VCALENDAR
VERSION:2.0
PRODID:-//Advent Lutheran Church - ECPv6.15.20//NONSGML v1.0//EN
CALSCALE:GREGORIAN
METHOD:PUBLISH
X-WR-CALNAME:Advent Lutheran Church
X-ORIGINAL-URL:https://adventlutheranyork.org
X-WR-CALDESC:Events for Advent Lutheran Church
REFRESH-INTERVAL;VALUE=DURATION:PT1H
X-Robots-Tag:noindex
X-PUBLISHED-TTL:PT1H
BEGIN:VTIMEZONE
TZID:America/New_York
BEGIN:DAYLIGHT
TZOFFSETFROM:-0500
TZOFFSETTO:-0400
TZNAME:EDT
DTSTART:20230312T070000
END:DAYLIGHT
BEGIN:STANDARD
TZOFFSETFROM:-0400
TZOFFSETTO:-0500
TZNAME:EST
DTSTART:20231105T060000
END:STANDARD
BEGIN:DAYLIGHT
TZOFFSETFROM:-0500
TZOFFSETTO:-0400
TZNAME:EDT
DTSTART:20240310T070000
END:DAYLIGHT
BEGIN:STANDARD
TZOFFSETFROM:-0400
TZOFFSETTO:-0500
TZNAME:EST
DTSTART:20241103T060000
END:STANDARD
BEGIN:DAYLIGHT
TZOFFSETFROM:-0500
TZOFFSETTO:-0400
TZNAME:EDT
DTSTART:20250309T070000
END:DAYLIGHT
BEGIN:STANDARD
TZOFFSETFROM:-0400
TZOFFSETTO:-0500
TZNAME:EST
DTSTART:20251102T060000
END:STANDARD
BEGIN:DAYLIGHT
TZOFFSETFROM:-0500
TZOFFSETTO:-0400
TZNAME:EDT
DTSTART:20260308T070000
END:DAYLIGHT
BEGIN:STANDARD
TZOFFSETFROM:-0400
TZOFFSETTO:-0500
TZNAME:EST
DTSTART:20261101T060000
END:STANDARD
BEGIN:DAYLIGHT
TZOFFSETFROM:-0500
TZOFFSETTO:-0400
TZNAME:EDT
DTSTART:20270314T070000
END:DAYLIGHT
BEGIN:STANDARD
TZOFFSETFROM:-0400
TZOFFSETTO:-0500
TZNAME:EST
DTSTART:20271107T060000
END:STANDARD
END:VTIMEZONE
BEGIN:VEVENT
DTSTART;TZID=America/New_York:20260414T180000
DTEND;TZID=America/New_York:20260414T190000
DTSTAMP:20260420T165257
CREATED:20260322T165709Z
LAST-MODIFIED:20260322T165709Z
UID:26663-1776189600-1776193200@adventlutheranyork.org
SUMMARY:Advent Book Club
DESCRIPTION:
URL:https://adventlutheranyork.org/event/advent-book-club-39/
CATEGORIES:Advent Book Club
END:VEVENT
BEGIN:VEVENT
DTSTART;TZID=America/New_York:20260310T180000
DTEND;TZID=America/New_York:20260310T190000
DTSTAMP:20260420T165257
CREATED:20260227T013429Z
LAST-MODIFIED:20260227T013429Z
UID:26449-1773165600-1773169200@adventlutheranyork.org
SUMMARY:Advent Book Club
DESCRIPTION:
URL:https://adventlutheranyork.org/event/advent-book-club-38/
CATEGORIES:Advent Book Club
END:VEVENT
BEGIN:VEVENT
DTSTART;TZID=America/New_York:20251209T180000
DTEND;TZID=America/New_York:20251209T190000
DTSTAMP:20260420T165257
CREATED:20251126T213653Z
LAST-MODIFIED:20251126T213653Z
UID:25955-1765303200-1765306800@adventlutheranyork.org
SUMMARY:Advent Book Club
DESCRIPTION:
URL:https://adventlutheranyork.org/event/advent-book-club-36/
CATEGORIES:Advent Book Club
END:VEVENT
BEGIN:VEVENT
DTSTART;TZID=America/New_York:20251111T183000
DTEND;TZID=America/New_York:20251111T193000
DTSTAMP:20260420T165257
CREATED:20251024T025113Z
LAST-MODIFIED:20251024T025113Z
UID:25811-1762885800-1762889400@adventlutheranyork.org
SUMMARY:Advent Book Club
DESCRIPTION:
URL:https://adventlutheranyork.org/event/advent-book-club-35/
CATEGORIES:Advent Book Club
END:VEVENT
BEGIN:VEVENT
DTSTART;TZID=America/New_York:20251014T183000
DTEND;TZID=America/New_York:20251014T193000
DTSTAMP:20260420T165257
CREATED:20250923T181958Z
LAST-MODIFIED:20250923T181958Z
UID:25644-1760466600-1760470200@adventlutheranyork.org
SUMMARY:Advent Book Club
DESCRIPTION:
URL:https://adventlutheranyork.org/event/advent-book-club-34/
CATEGORIES:Advent Book Club
END:VEVENT
BEGIN:VEVENT
DTSTART;TZID=America/New_York:20250909T183000
DTEND;TZID=America/New_York:20250909T193000
DTSTAMP:20260420T165257
CREATED:20250821T171004Z
LAST-MODIFIED:20250821T171004Z
UID:25469-1757442600-1757446200@adventlutheranyork.org
SUMMARY:Advent Book Club
DESCRIPTION:
URL:https://adventlutheranyork.org/event/advent-book-club-33/
CATEGORIES:Advent Book Club
END:VEVENT
BEGIN:VEVENT
DTSTART;TZID=America/New_York:20250812T183000
DTEND;TZID=America/New_York:20250812T193000
DTSTAMP:20260420T165257
CREATED:20250722T121536Z
LAST-MODIFIED:20250722T121536Z
UID:25396-1755023400-1755027000@adventlutheranyork.org
SUMMARY:Advent Book Club
DESCRIPTION:
URL:https://adventlutheranyork.org/event/advent-book-club-32/
CATEGORIES:Advent Book Club
END:VEVENT
BEGIN:VEVENT
DTSTART;TZID=America/New_York:20250708T183000
DTEND;TZID=America/New_York:20250708T193000
DTSTAMP:20260420T165257
CREATED:20250621T180229Z
LAST-MODIFIED:20250621T180229Z
UID:25327-1751999400-1752003000@adventlutheranyork.org
SUMMARY:Advent Book Club
DESCRIPTION:
URL:https://adventlutheranyork.org/event/advent-book-club-31/
CATEGORIES:Advent Book Club
END:VEVENT
BEGIN:VEVENT
DTSTART;TZID=America/New_York:20250610T183000
DTEND;TZID=America/New_York:20250610T193000
DTSTAMP:20260420T165257
CREATED:20250525T153457Z
LAST-MODIFIED:20250525T153457Z
UID:25257-1749580200-1749583800@adventlutheranyork.org
SUMMARY:Advent Book Club
DESCRIPTION:
URL:https://adventlutheranyork.org/event/advent-book-club-30/
CATEGORIES:Advent Book Club
END:VEVENT
BEGIN:VEVENT
DTSTART;TZID=America/New_York:20250513T183000
DTEND;TZID=America/New_York:20250513T193000
DTSTAMP:20260420T165257
CREATED:20250428T162958Z
LAST-MODIFIED:20250428T162958Z
UID:25146-1747161000-1747164600@adventlutheranyork.org
SUMMARY:Advent Book Club
DESCRIPTION:
URL:https://adventlutheranyork.org/event/advent-book-club-29/
CATEGORIES:Advent Book Club
END:VEVENT
BEGIN:VEVENT
DTSTART;TZID=America/New_York:20250513T130000
DTEND;TZID=America/New_York:20250513T140000
DTSTAMP:20260420T165257
CREATED:20250428T162900Z
LAST-MODIFIED:20250428T162900Z
UID:25144-1747141200-1747144800@adventlutheranyork.org
SUMMARY:Advent Book Club
DESCRIPTION:
URL:https://adventlutheranyork.org/event/advent-book-club-28/
CATEGORIES:Advent Book Club
END:VEVENT
BEGIN:VEVENT
DTSTART;TZID=America/New_York:20250408T183000
DTEND;TZID=America/New_York:20250408T193000
DTSTAMP:20260420T165257
CREATED:20250406T141516Z
LAST-MODIFIED:20250406T141516Z
UID:24960-1744137000-1744140600@adventlutheranyork.org
SUMMARY:Advent Book Club
DESCRIPTION:
URL:https://adventlutheranyork.org/event/advent-book-club-27/
CATEGORIES:Advent Book Club
END:VEVENT
BEGIN:VEVENT
DTSTART;TZID=America/New_York:20250408T130000
DTEND;TZID=America/New_York:20250408T140000
DTSTAMP:20260420T165257
CREATED:20250406T141427Z
LAST-MODIFIED:20250406T141427Z
UID:24958-1744117200-1744120800@adventlutheranyork.org
SUMMARY:Advent Book Club
DESCRIPTION:
URL:https://adventlutheranyork.org/event/advent-book-club-26/
CATEGORIES:Advent Book Club
END:VEVENT
BEGIN:VEVENT
DTSTART;TZID=America/New_York:20250311T183000
DTEND;TZID=America/New_York:20250311T193000
DTSTAMP:20260420T165257
CREATED:20250302T152252Z
LAST-MODIFIED:20250302T152252Z
UID:24794-1741717800-1741721400@adventlutheranyork.org
SUMMARY:Advent Book Club
DESCRIPTION:
URL:https://adventlutheranyork.org/event/advent-book-club-25/
CATEGORIES:Advent Book Club
END:VEVENT
BEGIN:VEVENT
DTSTART;TZID=America/New_York:20250311T130000
DTEND;TZID=America/New_York:20250311T140000
DTSTAMP:20260420T165257
CREATED:20250302T152206Z
LAST-MODIFIED:20250302T152206Z
UID:24792-1741698000-1741701600@adventlutheranyork.org
SUMMARY:Advent Book Club
DESCRIPTION:
URL:https://adventlutheranyork.org/event/advent-book-club-24/
CATEGORIES:Advent Book Club
END:VEVENT
BEGIN:VEVENT
DTSTART;TZID=America/New_York:20250211T183000
DTEND;TZID=America/New_York:20250211T193000
DTSTAMP:20260420T165257
CREATED:20250201T230602Z
LAST-MODIFIED:20250201T230602Z
UID:24655-1739298600-1739302200@adventlutheranyork.org
SUMMARY:ABC Book Club
DESCRIPTION:
URL:https://adventlutheranyork.org/event/abc-book-club-2/
CATEGORIES:Advent Book Club
END:VEVENT
BEGIN:VEVENT
DTSTART;TZID=America/New_York:20250211T130000
DTEND;TZID=America/New_York:20250211T140000
DTSTAMP:20260420T165257
CREATED:20250201T230444Z
LAST-MODIFIED:20250201T231538Z
UID:24653-1739278800-1739282400@adventlutheranyork.org
SUMMARY:ABC Book Club
DESCRIPTION:
URL:https://adventlutheranyork.org/event/abc-book-club/
CATEGORIES:Advent Book Club
END:VEVENT
BEGIN:VEVENT
DTSTART;TZID=America/New_York:20250114T183000
DTEND;TZID=America/New_York:20250114T193000
DTSTAMP:20260420T165257
CREATED:20241231T234820Z
LAST-MODIFIED:20241231T234820Z
UID:24546-1736879400-1736883000@adventlutheranyork.org
SUMMARY:Advent Book Club
DESCRIPTION:
URL:https://adventlutheranyork.org/event/advent-book-club-23/
CATEGORIES:Advent Book Club
END:VEVENT
BEGIN:VEVENT
DTSTART;TZID=America/New_York:20250114T130000
DTEND;TZID=America/New_York:20250114T140000
DTSTAMP:20260420T165257
CREATED:20241231T234741Z
LAST-MODIFIED:20241231T234741Z
UID:24544-1736859600-1736863200@adventlutheranyork.org
SUMMARY:Advent Book Club
DESCRIPTION:
URL:https://adventlutheranyork.org/event/advent-book-club-22/
CATEGORIES:Advent Book Club
END:VEVENT
BEGIN:VEVENT
DTSTART;TZID=America/New_York:20241112T183000
DTEND;TZID=America/New_York:20241112T193000
DTSTAMP:20260420T165257
CREATED:20241030T155735Z
LAST-MODIFIED:20241030T155735Z
UID:24220-1731436200-1731439800@adventlutheranyork.org
SUMMARY:Advent Book Club
DESCRIPTION:
URL:https://adventlutheranyork.org/event/advent-book-club-21/
CATEGORIES:Advent Book Club
END:VEVENT
BEGIN:VEVENT
DTSTART;TZID=America/New_York:20241112T130000
DTEND;TZID=America/New_York:20241112T140000
DTSTAMP:20260420T165257
CREATED:20241030T155658Z
LAST-MODIFIED:20241030T155658Z
UID:24218-1731416400-1731420000@adventlutheranyork.org
SUMMARY:Advent Book Club
DESCRIPTION:
URL:https://adventlutheranyork.org/event/advent-book-club-20/
LOCATION:Advent Lutheran Church\, 1775 East Market Street\, York\, PA\, 17402\, United States
CATEGORIES:Advent Book Club
END:VEVENT
BEGIN:VEVENT
DTSTART;TZID=America/New_York:20241008T183000
DTEND;TZID=America/New_York:20241008T190000
DTSTAMP:20260420T165257
CREATED:20240922T144201Z
LAST-MODIFIED:20240922T144201Z
UID:24069-1728412200-1728414000@adventlutheranyork.org
SUMMARY:Advent Book Club
DESCRIPTION:
URL:https://adventlutheranyork.org/event/advent-book-club-19/
LOCATION:Advent Lutheran Church\, 1775 East Market Street\, York\, PA\, 17402\, United States
CATEGORIES:Advent Book Club
END:VEVENT
BEGIN:VEVENT
DTSTART;TZID=America/New_York:20241008T130000
DTEND;TZID=America/New_York:20241008T140000
DTSTAMP:20260420T165257
CREATED:20240922T144121Z
LAST-MODIFIED:20240922T144121Z
UID:24067-1728392400-1728396000@adventlutheranyork.org
SUMMARY:Advent Book Club
DESCRIPTION:
URL:https://adventlutheranyork.org/event/advent-book-club-18/
LOCATION:Advent Lutheran Church\, 1775 East Market Street\, York\, PA\, 17402\, United States
CATEGORIES:Advent Book Club
END:VEVENT
BEGIN:VEVENT
DTSTART;TZID=America/New_York:20240910T183000
DTEND;TZID=America/New_York:20240910T193000
DTSTAMP:20260420T165257
CREATED:20240829T174055Z
LAST-MODIFIED:20240829T174055Z
UID:23936-1725993000-1725996600@adventlutheranyork.org
SUMMARY:Advent Book Club
DESCRIPTION:
URL:https://adventlutheranyork.org/event/advent-book-club-17/
CATEGORIES:Advent Book Club
END:VEVENT
BEGIN:VEVENT
DTSTART;TZID=America/New_York:20240910T130000
DTEND;TZID=America/New_York:20240910T140000
DTSTAMP:20260420T165257
CREATED:20240829T174024Z
LAST-MODIFIED:20240829T174024Z
UID:23934-1725973200-1725976800@adventlutheranyork.org
SUMMARY:Advent Book Club
DESCRIPTION:
URL:https://adventlutheranyork.org/event/advent-book-club-16/
LOCATION:Advent Lutheran Church\, 1775 East Market Street\, York\, PA\, 17402\, United States
CATEGORIES:Advent Book Club
END:VEVENT
BEGIN:VEVENT
DTSTART;TZID=America/New_York:20240813T183000
DTEND;TZID=America/New_York:20240813T193000
DTSTAMP:20260420T165257
CREATED:20240731T013215Z
LAST-MODIFIED:20240731T013215Z
UID:23865-1723573800-1723577400@adventlutheranyork.org
SUMMARY:Advent Book Club
DESCRIPTION:
URL:https://adventlutheranyork.org/event/advent-book-club-15/
LOCATION:Advent Lutheran Church\, 1775 East Market Street\, York\, PA\, 17402\, United States
CATEGORIES:Advent Book Club
END:VEVENT
BEGIN:VEVENT
DTSTART;TZID=America/New_York:20240813T130000
DTEND;TZID=America/New_York:20240813T140000
DTSTAMP:20260420T165257
CREATED:20240731T013009Z
LAST-MODIFIED:20240731T013009Z
UID:23863-1723554000-1723557600@adventlutheranyork.org
SUMMARY:Advent Book Club
DESCRIPTION:
URL:https://adventlutheranyork.org/event/advent-book-club-14/
LOCATION:Advent Lutheran Church\, 1775 East Market Street\, York\, PA\, 17402\, United States
CATEGORIES:Advent Book Club
END:VEVENT
BEGIN:VEVENT
DTSTART;TZID=America/New_York:20240709T183000
DTEND;TZID=America/New_York:20240709T193000
DTSTAMP:20260420T165257
CREATED:20240621T142959Z
LAST-MODIFIED:20240621T142959Z
UID:23779-1720549800-1720553400@adventlutheranyork.org
SUMMARY:Advent Book Club
DESCRIPTION:
URL:https://adventlutheranyork.org/event/advent-book-club-13/
CATEGORIES:Advent Book Club
END:VEVENT
BEGIN:VEVENT
DTSTART;TZID=America/New_York:20240709T130000
DTEND;TZID=America/New_York:20240709T140000
DTSTAMP:20260420T165257
CREATED:20240621T142851Z
LAST-MODIFIED:20240621T142851Z
UID:23775-1720530000-1720533600@adventlutheranyork.org
SUMMARY:Advent Book Club
DESCRIPTION:
URL:https://adventlutheranyork.org/event/advent-book-club-12/
CATEGORIES:Advent Book Club
END:VEVENT
BEGIN:VEVENT
DTSTART;TZID=America/New_York:20240611T183000
DTEND;TZID=America/New_York:20240611T193000
DTSTAMP:20260420T165257
CREATED:20240529T182705Z
LAST-MODIFIED:20240529T182705Z
UID:23688-1718130600-1718134200@adventlutheranyork.org
SUMMARY:Advent Book Club
DESCRIPTION:
URL:https://adventlutheranyork.org/event/advent-book-club-11/
LOCATION:Advent Lutheran Church\, 1775 East Market Street\, York\, PA\, 17402\, United States
CATEGORIES:Advent Book Club
END:VEVENT
END:VCALENDAR