BEGIN:VCALENDAR
VERSION:2.0
PRODID:-//Advent Lutheran Church - ECPv6.15.20//NONSGML v1.0//EN
CALSCALE:GREGORIAN
METHOD:PUBLISH
X-WR-CALNAME:Advent Lutheran Church
X-ORIGINAL-URL:https://adventlutheranyork.org
X-WR-CALDESC:Events for Advent Lutheran Church
REFRESH-INTERVAL;VALUE=DURATION:PT1H
X-Robots-Tag:noindex
X-PUBLISHED-TTL:PT1H
BEGIN:VTIMEZONE
TZID:America/New_York
BEGIN:DAYLIGHT
TZOFFSETFROM:-0500
TZOFFSETTO:-0400
TZNAME:EDT
DTSTART:20240310T070000
END:DAYLIGHT
BEGIN:STANDARD
TZOFFSETFROM:-0400
TZOFFSETTO:-0500
TZNAME:EST
DTSTART:20241103T060000
END:STANDARD
BEGIN:DAYLIGHT
TZOFFSETFROM:-0500
TZOFFSETTO:-0400
TZNAME:EDT
DTSTART:20250309T070000
END:DAYLIGHT
BEGIN:STANDARD
TZOFFSETFROM:-0400
TZOFFSETTO:-0500
TZNAME:EST
DTSTART:20251102T060000
END:STANDARD
BEGIN:DAYLIGHT
TZOFFSETFROM:-0500
TZOFFSETTO:-0400
TZNAME:EDT
DTSTART:20260308T070000
END:DAYLIGHT
BEGIN:STANDARD
TZOFFSETFROM:-0400
TZOFFSETTO:-0500
TZNAME:EST
DTSTART:20261101T060000
END:STANDARD
END:VTIMEZONE
BEGIN:VEVENT
DTSTART;TZID=America/New_York:20251217T190000
DTEND;TZID=America/New_York:20251217T203000
DTSTAMP:20260422T003755
CREATED:20251126T222805Z
LAST-MODIFIED:20251126T222805Z
UID:25999-1765998000-1766003400@adventlutheranyork.org
SUMMARY:Adult Choir Rehearsal
DESCRIPTION:
URL:https://adventlutheranyork.org/event/adult-choir-rehearsal-72/
CATEGORIES:Music Ministry
END:VEVENT
BEGIN:VEVENT
DTSTART;TZID=America/New_York:20251217T180000
DTEND;TZID=America/New_York:20251217T190000
DTSTAMP:20260422T003755
CREATED:20251126T222716Z
LAST-MODIFIED:20251126T222716Z
UID:25997-1765994400-1765998000@adventlutheranyork.org
SUMMARY:Handbell Ensemble Rehearsal
DESCRIPTION:
URL:https://adventlutheranyork.org/event/handbell-ensemble-rehearsal-42/
CATEGORIES:Music Ministry
END:VEVENT
BEGIN:VEVENT
DTSTART;TZID=America/New_York:20251217T180000
DTEND;TZID=America/New_York:20251217T190000
DTSTAMP:20260422T003755
CREATED:20251126T222625Z
LAST-MODIFIED:20251126T222625Z
UID:25995-1765994400-1765998000@adventlutheranyork.org
SUMMARY:Good News & Brews
DESCRIPTION:
URL:https://adventlutheranyork.org/event/good-news-brews-6/
END:VEVENT
BEGIN:VEVENT
DTSTART;TZID=America/New_York:20251215T183000
DTEND;TZID=America/New_York:20251215T193000
DTSTAMP:20260422T003755
CREATED:20251126T222530Z
LAST-MODIFIED:20251126T222530Z
UID:25993-1765823400-1765827000@adventlutheranyork.org
SUMMARY:Church Council Meeting
DESCRIPTION:
URL:https://adventlutheranyork.org/event/church-council-meeting-7/
CATEGORIES:Administration,Committee
END:VEVENT
BEGIN:VEVENT
DTSTART;TZID=America/New_York:20251215T170000
DTEND;TZID=America/New_York:20251215T180000
DTSTAMP:20260422T003755
CREATED:20251126T222435Z
LAST-MODIFIED:20251126T222435Z
UID:25991-1765818000-1765821600@adventlutheranyork.org
SUMMARY:Soccer Shots in FH
DESCRIPTION:
URL:https://adventlutheranyork.org/event/soccer-shots-in-fh-6/
CATEGORIES:Community
END:VEVENT
BEGIN:VEVENT
DTSTART;TZID=America/New_York:20251215T090000
DTEND;TZID=America/New_York:20251215T100000
DTSTAMP:20260422T003755
CREATED:20251126T222348Z
LAST-MODIFIED:20251126T222348Z
UID:25989-1765789200-1765792800@adventlutheranyork.org
SUMMARY:Joy in the Morning
DESCRIPTION:
URL:https://adventlutheranyork.org/event/joy-in-the-morning-33/
CATEGORIES:Joy in the Morning
END:VEVENT
BEGIN:VEVENT
DTSTART;TZID=America/New_York:20251214T140000
DTEND;TZID=America/New_York:20251214T150000
DTSTAMP:20260422T003755
CREATED:20251126T222220Z
LAST-MODIFIED:20251126T222220Z
UID:25987-1765720800-1765724400@adventlutheranyork.org
SUMMARY:Blue Christmas Service
DESCRIPTION:
URL:https://adventlutheranyork.org/event/blue-christmas-service-2/
CATEGORIES:Holiday,Services
END:VEVENT
BEGIN:VEVENT
DTSTART;TZID=America/New_York:20251214T111500
DTEND;TZID=America/New_York:20251214T120000
DTSTAMP:20260422T003755
CREATED:20251126T222131Z
LAST-MODIFIED:20251126T222131Z
UID:25985-1765710900-1765713600@adventlutheranyork.org
SUMMARY:Contemporary Worship Service
DESCRIPTION:
URL:https://adventlutheranyork.org/event/contemporary-worship-service-53/
CATEGORIES:Services
END:VEVENT
BEGIN:VEVENT
DTSTART;TZID=America/New_York:20251214T110000
DTEND;TZID=America/New_York:20251214T120000
DTSTAMP:20260422T003755
CREATED:20251126T222032Z
LAST-MODIFIED:20251126T222032Z
UID:25983-1765710000-1765713600@adventlutheranyork.org
SUMMARY:Worship Service
DESCRIPTION:
URL:https://adventlutheranyork.org/event/worship-service-176/
CATEGORIES:Services
END:VEVENT
BEGIN:VEVENT
DTSTART;TZID=America/New_York:20251214T094500
DTEND;TZID=America/New_York:20251214T104500
DTSTAMP:20260422T003755
CREATED:20251126T221939Z
LAST-MODIFIED:20251126T221939Z
UID:25981-1765705500-1765709100@adventlutheranyork.org
SUMMARY:Sunday School
DESCRIPTION:
URL:https://adventlutheranyork.org/event/sunday-school-69/
CATEGORIES:Christian Education
END:VEVENT
BEGIN:VEVENT
DTSTART;TZID=America/New_York:20251214T093000
DTEND;TZID=America/New_York:20251214T094500
DTSTAMP:20260422T003755
CREATED:20251126T221839Z
LAST-MODIFIED:20251126T221839Z
UID:25979-1765704600-1765705500@adventlutheranyork.org
SUMMARY:Youth Choir Rehearsal
DESCRIPTION:
URL:https://adventlutheranyork.org/event/youth-choir-rehearsal-39/
CATEGORIES:Music Ministry
END:VEVENT
BEGIN:VEVENT
DTSTART;TZID=America/New_York:20251214T083000
DTEND;TZID=America/New_York:20251214T093000
DTSTAMP:20260422T003755
CREATED:20251126T221741Z
LAST-MODIFIED:20251126T221741Z
UID:25977-1765701000-1765704600@adventlutheranyork.org
SUMMARY:Worship Service
DESCRIPTION:
URL:https://adventlutheranyork.org/event/worship-service-175/
CATEGORIES:Services
END:VEVENT
BEGIN:VEVENT
DTSTART;VALUE=DATE:20251214
DTEND;VALUE=DATE:20251215
DTSTAMP:20260422T003755
CREATED:20251126T221648Z
LAST-MODIFIED:20251126T221648Z
UID:25975-1765670400-1765756799@adventlutheranyork.org
SUMMARY:Advent 3
DESCRIPTION:
URL:https://adventlutheranyork.org/event/advent-3-3/
END:VEVENT
BEGIN:VEVENT
DTSTART;TZID=America/New_York:20251213T140000
DTEND;TZID=America/New_York:20251213T170000
DTSTAMP:20260422T003755
CREATED:20251126T221554Z
LAST-MODIFIED:20251126T221554Z
UID:25973-1765634400-1765645200@adventlutheranyork.org
SUMMARY:Prayers & Stitches Christmas Tea
DESCRIPTION:
URL:https://adventlutheranyork.org/event/prayers-stitches-christmas-tea-2/
CATEGORIES:Prayers and Stitches
END:VEVENT
BEGIN:VEVENT
DTSTART;TZID=America/New_York:20251213T080000
DTEND;TZID=America/New_York:20251213T090000
DTSTAMP:20260422T003755
CREATED:20251126T221443Z
LAST-MODIFIED:20251126T221443Z
UID:25971-1765612800-1765616400@adventlutheranyork.org
SUMMARY:Men's Bible Study
DESCRIPTION:
URL:https://adventlutheranyork.org/event/mens-bible-study-21/
CATEGORIES:Christian Education
END:VEVENT
BEGIN:VEVENT
DTSTART;TZID=America/New_York:20251212T173000
DTEND;TZID=America/New_York:20251212T193000
DTSTAMP:20260422T003755
CREATED:20251126T214151Z
LAST-MODIFIED:20251126T214151Z
UID:25965-1765560600-1765567800@adventlutheranyork.org
SUMMARY:Young Adventurers Pizza Party
DESCRIPTION:
URL:https://adventlutheranyork.org/event/young-adventurers-pizza-party/
CATEGORIES:Youth Ministry
END:VEVENT
BEGIN:VEVENT
DTSTART;TZID=America/New_York:20251212T090000
DTEND;TZID=America/New_York:20251212T220000
DTSTAMP:20260422T003755
CREATED:20251126T214102Z
LAST-MODIFIED:20251126T214102Z
UID:25963-1765530000-1765576800@adventlutheranyork.org
SUMMARY:Coffee with Pr. Brad
DESCRIPTION:
URL:https://adventlutheranyork.org/event/coffee-with-pr-brad-10/
END:VEVENT
BEGIN:VEVENT
DTSTART;TZID=America/New_York:20251211T183000
DTEND;TZID=America/New_York:20251211T193000
DTSTAMP:20260422T003755
CREATED:20251126T214245Z
LAST-MODIFIED:20251203T120348Z
UID:25967-1765477800-1765481400@adventlutheranyork.org
SUMMARY:Property Committee Meeting
DESCRIPTION:
URL:https://adventlutheranyork.org/event/property-committee-meeting-14/
CATEGORIES:Committee
END:VEVENT
BEGIN:VEVENT
DTSTART;TZID=America/New_York:20251211T113000
DTEND;TZID=America/New_York:20251211T123000
DTSTAMP:20260422T003755
CREATED:20251126T213955Z
LAST-MODIFIED:20251126T213955Z
UID:25961-1765452600-1765456200@adventlutheranyork.org
SUMMARY:Leisure Lunch at Olive Garden
DESCRIPTION:
URL:https://adventlutheranyork.org/event/leisure-lunch-at-olive-garden-3/
CATEGORIES:Leisure Group
END:VEVENT
BEGIN:VEVENT
DTSTART;TZID=America/New_York:20251210T190000
DTEND;TZID=America/New_York:20251210T203000
DTSTAMP:20260422T003755
CREATED:20251126T213854Z
LAST-MODIFIED:20251126T213854Z
UID:25959-1765393200-1765398600@adventlutheranyork.org
SUMMARY:Adult Choir Rehearsal
DESCRIPTION:
URL:https://adventlutheranyork.org/event/adult-choir-rehearsal-71/
CATEGORIES:Music Ministry
END:VEVENT
BEGIN:VEVENT
DTSTART;TZID=America/New_York:20251210T180000
DTEND;TZID=America/New_York:20251210T190000
DTSTAMP:20260422T003755
CREATED:20251126T213749Z
LAST-MODIFIED:20251126T213749Z
UID:25957-1765389600-1765393200@adventlutheranyork.org
SUMMARY:Handbell Ensemble Rehearsal
DESCRIPTION:
URL:https://adventlutheranyork.org/event/handbell-ensemble-rehearsal-41/
CATEGORIES:Music Ministry
END:VEVENT
BEGIN:VEVENT
DTSTART;TZID=America/New_York:20251209T180000
DTEND;TZID=America/New_York:20251209T190000
DTSTAMP:20260422T003755
CREATED:20251126T213653Z
LAST-MODIFIED:20251126T213653Z
UID:25955-1765303200-1765306800@adventlutheranyork.org
SUMMARY:Advent Book Club
DESCRIPTION:
URL:https://adventlutheranyork.org/event/advent-book-club-36/
CATEGORIES:Advent Book Club
END:VEVENT
BEGIN:VEVENT
DTSTART;TZID=America/New_York:20251209T110000
DTEND;TZID=America/New_York:20251209T120000
DTSTAMP:20260422T003755
CREATED:20251126T213551Z
LAST-MODIFIED:20251126T213551Z
UID:25953-1765278000-1765281600@adventlutheranyork.org
SUMMARY:Brown Baggers
DESCRIPTION:
URL:https://adventlutheranyork.org/event/brown-baggers-43/
CATEGORIES:Brown Baggers
END:VEVENT
BEGIN:VEVENT
DTSTART;TZID=America/New_York:20251208T180000
DTEND;TZID=America/New_York:20251208T190000
DTSTAMP:20260422T003755
CREATED:20251126T213448Z
LAST-MODIFIED:20251126T213448Z
UID:25951-1765216800-1765220400@adventlutheranyork.org
SUMMARY:Cancer Support Group
DESCRIPTION:
URL:https://adventlutheranyork.org/event/cancer-support-group-16/
CATEGORIES:Community
END:VEVENT
BEGIN:VEVENT
DTSTART;TZID=America/New_York:20251208T180000
DTEND;TZID=America/New_York:20251208T190000
DTSTAMP:20260422T003755
CREATED:20251126T213329Z
LAST-MODIFIED:20251126T213329Z
UID:25949-1765216800-1765220400@adventlutheranyork.org
SUMMARY:Advent Quilters
DESCRIPTION:
URL:https://adventlutheranyork.org/event/advent-quilters-50/
CATEGORIES:Advent Quilters
END:VEVENT
BEGIN:VEVENT
DTSTART;TZID=America/New_York:20251208T170000
DTEND;TZID=America/New_York:20251208T180000
DTSTAMP:20260422T003755
CREATED:20251126T213241Z
LAST-MODIFIED:20251126T213241Z
UID:25947-1765213200-1765216800@adventlutheranyork.org
SUMMARY:Soccer Shots in FH
DESCRIPTION:
URL:https://adventlutheranyork.org/event/soccer-shots-in-fh-5/
CATEGORIES:Community
END:VEVENT
BEGIN:VEVENT
DTSTART;TZID=America/New_York:20251207T180000
DTEND;TZID=America/New_York:20251207T190000
DTSTAMP:20260422T003755
CREATED:20251126T213152Z
LAST-MODIFIED:20251126T213152Z
UID:25945-1765130400-1765134000@adventlutheranyork.org
SUMMARY:Youth Group Service Event
DESCRIPTION:
URL:https://adventlutheranyork.org/event/youth-group-service-event/
CATEGORIES:Youth Ministry
END:VEVENT
BEGIN:VEVENT
DTSTART;TZID=America/New_York:20251207T121500
DTEND;TZID=America/New_York:20251207T130000
DTSTAMP:20260422T003755
CREATED:20251126T213034Z
LAST-MODIFIED:20251126T213034Z
UID:25943-1765109700-1765112400@adventlutheranyork.org
SUMMARY:Communication Audit Team Meeting
DESCRIPTION:
URL:https://adventlutheranyork.org/event/communication-audit-team-meeting/
CATEGORIES:Administration,Committee
END:VEVENT
BEGIN:VEVENT
DTSTART;TZID=America/New_York:20251207T111500
DTEND;TZID=America/New_York:20251207T120000
DTSTAMP:20260422T003755
CREATED:20251126T212905Z
LAST-MODIFIED:20251126T212905Z
UID:25941-1765106100-1765108800@adventlutheranyork.org
SUMMARY:Contemporary Worship Service
DESCRIPTION:
URL:https://adventlutheranyork.org/event/contemporary-worship-service-52/
CATEGORIES:Services
END:VEVENT
BEGIN:VEVENT
DTSTART;TZID=America/New_York:20251207T110000
DTEND;TZID=America/New_York:20251207T120000
DTSTAMP:20260422T003755
CREATED:20251126T212742Z
LAST-MODIFIED:20251126T212742Z
UID:25939-1765105200-1765108800@adventlutheranyork.org
SUMMARY:Worship Service
DESCRIPTION:
URL:https://adventlutheranyork.org/event/worship-service-174/
CATEGORIES:Services
END:VEVENT
END:VCALENDAR