BEGIN:VCALENDAR
VERSION:2.0
PRODID:-//Advent Lutheran Church - ECPv6.15.20//NONSGML v1.0//EN
CALSCALE:GREGORIAN
METHOD:PUBLISH
X-WR-CALNAME:Advent Lutheran Church
X-ORIGINAL-URL:https://adventlutheranyork.org
X-WR-CALDESC:Events for Advent Lutheran Church
REFRESH-INTERVAL;VALUE=DURATION:PT1H
X-Robots-Tag:noindex
X-PUBLISHED-TTL:PT1H
BEGIN:VTIMEZONE
TZID:America/New_York
BEGIN:DAYLIGHT
TZOFFSETFROM:-0500
TZOFFSETTO:-0400
TZNAME:EDT
DTSTART:20250309T070000
END:DAYLIGHT
BEGIN:STANDARD
TZOFFSETFROM:-0400
TZOFFSETTO:-0500
TZNAME:EST
DTSTART:20251102T060000
END:STANDARD
BEGIN:DAYLIGHT
TZOFFSETFROM:-0500
TZOFFSETTO:-0400
TZNAME:EDT
DTSTART:20260308T070000
END:DAYLIGHT
BEGIN:STANDARD
TZOFFSETFROM:-0400
TZOFFSETTO:-0500
TZNAME:EST
DTSTART:20261101T060000
END:STANDARD
BEGIN:DAYLIGHT
TZOFFSETFROM:-0500
TZOFFSETTO:-0400
TZNAME:EDT
DTSTART:20270314T070000
END:DAYLIGHT
BEGIN:STANDARD
TZOFFSETFROM:-0400
TZOFFSETTO:-0500
TZNAME:EST
DTSTART:20271107T060000
END:STANDARD
END:VTIMEZONE
BEGIN:VEVENT
DTSTART;TZID=America/New_York:20260207T083000
DTEND;TZID=America/New_York:20260207T103000
DTSTAMP:20260421T204725
CREATED:20260115T225612Z
LAST-MODIFIED:20260115T225612Z
UID:26209-1770453000-1770460200@adventlutheranyork.org
SUMMARY:YJSO
DESCRIPTION:
URL:https://adventlutheranyork.org/event/yjso-22/
CATEGORIES:Community
END:VEVENT
BEGIN:VEVENT
DTSTART;TZID=America/New_York:20260205T183000
DTEND;TZID=America/New_York:20260205T193000
DTSTAMP:20260421T204725
CREATED:20260115T225316Z
LAST-MODIFIED:20260115T225316Z
UID:26207-1770316200-1770319800@adventlutheranyork.org
SUMMARY:Worship and Music Committee Meeting
DESCRIPTION:
URL:https://adventlutheranyork.org/event/worship-and-music-committee-meeting-2/
CATEGORIES:Committee
END:VEVENT
BEGIN:VEVENT
DTSTART;TZID=America/New_York:20260205T180000
DTEND;TZID=America/New_York:20260205T190000
DTSTAMP:20260421T204725
CREATED:20260115T225200Z
LAST-MODIFIED:20260115T225200Z
UID:26205-1770314400-1770318000@adventlutheranyork.org
SUMMARY:Praise Band Rehearsal
DESCRIPTION:
URL:https://adventlutheranyork.org/event/praise-band-rehearsal-3/
CATEGORIES:Music Ministry
END:VEVENT
BEGIN:VEVENT
DTSTART;TZID=America/New_York:20260205T180000
DTEND;TZID=America/New_York:20260205T190000
DTSTAMP:20260421T204725
CREATED:20260115T224935Z
LAST-MODIFIED:20260115T224935Z
UID:26203-1770314400-1770318000@adventlutheranyork.org
SUMMARY:Girl Scouts
DESCRIPTION:
URL:https://adventlutheranyork.org/event/girl-scouts-23/
CATEGORIES:Community
END:VEVENT
BEGIN:VEVENT
DTSTART;TZID=America/New_York:20260204T190000
DTEND;TZID=America/New_York:20260204T203000
DTSTAMP:20260421T204725
CREATED:20260115T224635Z
LAST-MODIFIED:20260115T224635Z
UID:26201-1770231600-1770237000@adventlutheranyork.org
SUMMARY:Adult Choir Rehearsal
DESCRIPTION:
URL:https://adventlutheranyork.org/event/adult-choir-rehearsal-77/
CATEGORIES:Music Ministry
END:VEVENT
BEGIN:VEVENT
DTSTART;TZID=America/New_York:20260204T180000
DTEND;TZID=America/New_York:20260204T190000
DTSTAMP:20260421T204725
CREATED:20260115T224518Z
LAST-MODIFIED:20260115T224518Z
UID:26199-1770228000-1770231600@adventlutheranyork.org
SUMMARY:Handbell Ensemble Rehearsal
DESCRIPTION:
URL:https://adventlutheranyork.org/event/handbell-ensemble-rehearsal-47/
CATEGORIES:Music Ministry
END:VEVENT
BEGIN:VEVENT
DTSTART;TZID=America/New_York:20260204T090000
DTEND;TZID=America/New_York:20260204T100000
DTSTAMP:20260421T204725
CREATED:20260115T224427Z
LAST-MODIFIED:20260115T224427Z
UID:26197-1770195600-1770199200@adventlutheranyork.org
SUMMARY:Advent Quilters
DESCRIPTION:
URL:https://adventlutheranyork.org/event/advent-quilters-53/
CATEGORIES:Advent Quilters
END:VEVENT
BEGIN:VEVENT
DTSTART;TZID=America/New_York:20260202T090000
DTEND;TZID=America/New_York:20260202T100000
DTSTAMP:20260421T204725
CREATED:20260115T224205Z
LAST-MODIFIED:20260115T224205Z
UID:26195-1770022800-1770026400@adventlutheranyork.org
SUMMARY:Joy in the Morning
DESCRIPTION:
URL:https://adventlutheranyork.org/event/joy-in-the-morning-36/
CATEGORIES:Joy in the Morning
END:VEVENT
BEGIN:VEVENT
DTSTART;TZID=America/New_York:20260201T130000
DTEND;TZID=America/New_York:20260201T140000
DTSTAMP:20260421T204725
CREATED:20260115T224043Z
LAST-MODIFIED:20260115T224043Z
UID:26193-1769950800-1769954400@adventlutheranyork.org
SUMMARY:All-Staff Meeting
DESCRIPTION:
URL:https://adventlutheranyork.org/event/all-staff-meeting/
CATEGORIES:Administration
END:VEVENT
BEGIN:VEVENT
DTSTART;TZID=America/New_York:20260201T111500
DTEND;TZID=America/New_York:20260201T120000
DTSTAMP:20260421T204725
CREATED:20260115T223942Z
LAST-MODIFIED:20260115T223942Z
UID:26191-1769944500-1769947200@adventlutheranyork.org
SUMMARY:Contemporary Worship Service
DESCRIPTION:
URL:https://adventlutheranyork.org/event/contemporary-worship-service-59/
CATEGORIES:Services
END:VEVENT
BEGIN:VEVENT
DTSTART;TZID=America/New_York:20260201T110000
DTEND;TZID=America/New_York:20260201T120000
DTSTAMP:20260421T204725
CREATED:20260115T223453Z
LAST-MODIFIED:20260115T223453Z
UID:26189-1769943600-1769947200@adventlutheranyork.org
SUMMARY:Traditional Worship Service
DESCRIPTION:
URL:https://adventlutheranyork.org/event/traditional-worship-service-16/
CATEGORIES:Services
END:VEVENT
BEGIN:VEVENT
DTSTART;TZID=America/New_York:20260201T094500
DTEND;TZID=America/New_York:20260201T104500
DTSTAMP:20260421T204725
CREATED:20260122T232758Z
LAST-MODIFIED:20260122T232758Z
UID:26358-1769939100-1769942700@adventlutheranyork.org
SUMMARY:Outreach Committee Meeting
DESCRIPTION:
URL:https://adventlutheranyork.org/event/outreach-committee-meeting-9/
CATEGORIES:Committee
END:VEVENT
BEGIN:VEVENT
DTSTART;TZID=America/New_York:20260201T094500
DTEND;TZID=America/New_York:20260201T104500
DTSTAMP:20260421T204725
CREATED:20260115T223048Z
LAST-MODIFIED:20260115T223048Z
UID:26187-1769939100-1769942700@adventlutheranyork.org
SUMMARY:Sunday School
DESCRIPTION:
URL:https://adventlutheranyork.org/event/sunday-school-76/
CATEGORIES:Christian Education
END:VEVENT
BEGIN:VEVENT
DTSTART;TZID=America/New_York:20260201T093000
DTEND;TZID=America/New_York:20260201T094500
DTSTAMP:20260421T204725
CREATED:20260115T222948Z
LAST-MODIFIED:20260115T222948Z
UID:26185-1769938200-1769939100@adventlutheranyork.org
SUMMARY:Youth Choir Rehearsal
DESCRIPTION:
URL:https://adventlutheranyork.org/event/youth-choir-rehearsal-44/
CATEGORIES:Music Ministry
END:VEVENT
BEGIN:VEVENT
DTSTART;TZID=America/New_York:20260201T083000
DTEND;TZID=America/New_York:20260201T093000
DTSTAMP:20260421T204725
CREATED:20260115T222848Z
LAST-MODIFIED:20260115T222848Z
UID:26183-1769934600-1769938200@adventlutheranyork.org
SUMMARY:Traditional Worship Service
DESCRIPTION:
URL:https://adventlutheranyork.org/event/traditional-worship-service-15/
CATEGORIES:Services
END:VEVENT
BEGIN:VEVENT
DTSTART;VALUE=DATE:20260201
DTEND;VALUE=DATE:20260202
DTSTAMP:20260421T204725
CREATED:20260115T230832Z
LAST-MODIFIED:20260115T230832Z
UID:26223-1769904000-1769990399@adventlutheranyork.org
SUMMARY:Epiphany 4
DESCRIPTION:
URL:https://adventlutheranyork.org/event/epiphany-4-3/
END:VEVENT
BEGIN:VEVENT
DTSTART;TZID=America/New_York:20260131T083000
DTEND;TZID=America/New_York:20260131T103000
DTSTAMP:20260421T204725
CREATED:20251228T200642Z
LAST-MODIFIED:20251228T200642Z
UID:26176-1769848200-1769855400@adventlutheranyork.org
SUMMARY:YJSO
DESCRIPTION:
URL:https://adventlutheranyork.org/event/yjso-21/
CATEGORIES:Community
END:VEVENT
BEGIN:VEVENT
DTSTART;TZID=America/New_York:20260128T190000
DTEND;TZID=America/New_York:20260128T203000
DTSTAMP:20260421T204725
CREATED:20251228T200529Z
LAST-MODIFIED:20251228T200529Z
UID:26173-1769626800-1769632200@adventlutheranyork.org
SUMMARY:Adult Choir Rehearsal
DESCRIPTION:
URL:https://adventlutheranyork.org/event/adult-choir-rehearsal-76/
CATEGORIES:Music Ministry
END:VEVENT
BEGIN:VEVENT
DTSTART;TZID=America/New_York:20260128T180000
DTEND;TZID=America/New_York:20260128T190000
DTSTAMP:20260421T204725
CREATED:20251228T200441Z
LAST-MODIFIED:20251228T200441Z
UID:26171-1769623200-1769626800@adventlutheranyork.org
SUMMARY:Handbell Ensemble Rehearsal
DESCRIPTION:
URL:https://adventlutheranyork.org/event/handbell-ensemble-rehearsal-46/
CATEGORIES:Music Ministry
END:VEVENT
BEGIN:VEVENT
DTSTART;TZID=America/New_York:20260127T110000
DTEND;TZID=America/New_York:20260127T120000
DTSTAMP:20260421T204725
CREATED:20251228T200348Z
LAST-MODIFIED:20251228T200348Z
UID:26169-1769511600-1769515200@adventlutheranyork.org
SUMMARY:Brown Baggers
DESCRIPTION:
URL:https://adventlutheranyork.org/event/brown-baggers-46/
CATEGORIES:Brown Baggers
END:VEVENT
BEGIN:VEVENT
DTSTART;TZID=America/New_York:20260125T111500
DTEND;TZID=America/New_York:20260125T120000
DTSTAMP:20260421T204725
CREATED:20251228T200307Z
LAST-MODIFIED:20251228T200307Z
UID:26167-1769339700-1769342400@adventlutheranyork.org
SUMMARY:Contemporary Worship Service
DESCRIPTION:
URL:https://adventlutheranyork.org/event/contemporary-worship-service-58/
CATEGORIES:Services
END:VEVENT
BEGIN:VEVENT
DTSTART;TZID=America/New_York:20260125T110000
DTEND;TZID=America/New_York:20260125T120000
DTSTAMP:20260421T204725
CREATED:20251228T200222Z
LAST-MODIFIED:20251228T200222Z
UID:26165-1769338800-1769342400@adventlutheranyork.org
SUMMARY:Traditional Worship Service
DESCRIPTION:
URL:https://adventlutheranyork.org/event/traditional-worship-service-14/
CATEGORIES:Services
END:VEVENT
BEGIN:VEVENT
DTSTART;TZID=America/New_York:20260125T094500
DTEND;TZID=America/New_York:20260125T104500
DTSTAMP:20260421T204725
CREATED:20251228T200141Z
LAST-MODIFIED:20251228T200141Z
UID:26163-1769334300-1769337900@adventlutheranyork.org
SUMMARY:Sunday School
DESCRIPTION:
URL:https://adventlutheranyork.org/event/sunday-school-75/
CATEGORIES:Christian Education
END:VEVENT
BEGIN:VEVENT
DTSTART;TZID=America/New_York:20260125T094500
DTEND;TZID=America/New_York:20260125T104500
DTSTAMP:20260421T204725
CREATED:20251228T200053Z
LAST-MODIFIED:20251228T200053Z
UID:26161-1769334300-1769337900@adventlutheranyork.org
SUMMARY:Outreach Committee Meeting
DESCRIPTION:
URL:https://adventlutheranyork.org/event/outreach-committee-meeting-8/
CATEGORIES:Committee
END:VEVENT
BEGIN:VEVENT
DTSTART;TZID=America/New_York:20260125T093000
DTEND;TZID=America/New_York:20260125T094500
DTSTAMP:20260421T204725
CREATED:20251228T195959Z
LAST-MODIFIED:20251228T195959Z
UID:26159-1769333400-1769334300@adventlutheranyork.org
SUMMARY:Youth Choir Rehearsal
DESCRIPTION:
URL:https://adventlutheranyork.org/event/youth-choir-rehearsal-43/
CATEGORIES:Music Ministry
END:VEVENT
BEGIN:VEVENT
DTSTART;TZID=America/New_York:20260125T083000
DTEND;TZID=America/New_York:20260125T093000
DTSTAMP:20260421T204725
CREATED:20251228T195914Z
LAST-MODIFIED:20251228T195914Z
UID:26157-1769329800-1769333400@adventlutheranyork.org
SUMMARY:Traditional Worship Service
DESCRIPTION:
URL:https://adventlutheranyork.org/event/traditional-worship-service-13/
CATEGORIES:Services
END:VEVENT
BEGIN:VEVENT
DTSTART;VALUE=DATE:20260125
DTEND;VALUE=DATE:20260126
DTSTAMP:20260421T204725
CREATED:20251228T195828Z
LAST-MODIFIED:20251228T195828Z
UID:26155-1769299200-1769385599@adventlutheranyork.org
SUMMARY:Epiphany 3
DESCRIPTION:
URL:https://adventlutheranyork.org/event/epiphany-3-3/
END:VEVENT
BEGIN:VEVENT
DTSTART;TZID=America/New_York:20260124T083000
DTEND;TZID=America/New_York:20260124T103000
DTSTAMP:20260421T204725
CREATED:20251228T195741Z
LAST-MODIFIED:20251228T195741Z
UID:26153-1769243400-1769250600@adventlutheranyork.org
SUMMARY:YJSO
DESCRIPTION:
URL:https://adventlutheranyork.org/event/yjso-20/
CATEGORIES:Community
END:VEVENT
BEGIN:VEVENT
DTSTART;TZID=America/New_York:20260122T123000
DTEND;TZID=America/New_York:20260122T130000
DTSTAMP:20260421T204725
CREATED:20260122T234423Z
LAST-MODIFIED:20260122T234423Z
UID:26364-1769085000-1769086800@adventlutheranyork.org
SUMMARY:New Members Class
DESCRIPTION:
URL:https://adventlutheranyork.org/event/new-members-class-3/
END:VEVENT
BEGIN:VEVENT
DTSTART;TZID=America/New_York:20260121T190000
DTEND;TZID=America/New_York:20260121T203000
DTSTAMP:20260421T204725
CREATED:20251228T195548Z
LAST-MODIFIED:20251228T195548Z
UID:26149-1769022000-1769027400@adventlutheranyork.org
SUMMARY:Adult Choir Rehearsal
DESCRIPTION:
URL:https://adventlutheranyork.org/event/adult-choir-rehearsal-75/
CATEGORIES:Music Ministry
END:VEVENT
END:VCALENDAR