BEGIN:VCALENDAR
VERSION:2.0
PRODID:-//Advent Lutheran Church - ECPv6.15.20//NONSGML v1.0//EN
CALSCALE:GREGORIAN
METHOD:PUBLISH
X-WR-CALNAME:Advent Lutheran Church
X-ORIGINAL-URL:https://adventlutheranyork.org
X-WR-CALDESC:Events for Advent Lutheran Church
REFRESH-INTERVAL;VALUE=DURATION:PT1H
X-Robots-Tag:noindex
X-PUBLISHED-TTL:PT1H
BEGIN:VTIMEZONE
TZID:America/New_York
BEGIN:DAYLIGHT
TZOFFSETFROM:-0500
TZOFFSETTO:-0400
TZNAME:EDT
DTSTART:20250309T070000
END:DAYLIGHT
BEGIN:STANDARD
TZOFFSETFROM:-0400
TZOFFSETTO:-0500
TZNAME:EST
DTSTART:20251102T060000
END:STANDARD
BEGIN:DAYLIGHT
TZOFFSETFROM:-0500
TZOFFSETTO:-0400
TZNAME:EDT
DTSTART:20260308T070000
END:DAYLIGHT
BEGIN:STANDARD
TZOFFSETFROM:-0400
TZOFFSETTO:-0500
TZNAME:EST
DTSTART:20261101T060000
END:STANDARD
BEGIN:DAYLIGHT
TZOFFSETFROM:-0500
TZOFFSETTO:-0400
TZNAME:EDT
DTSTART:20270314T070000
END:DAYLIGHT
BEGIN:STANDARD
TZOFFSETFROM:-0400
TZOFFSETTO:-0500
TZNAME:EST
DTSTART:20271107T060000
END:STANDARD
END:VTIMEZONE
BEGIN:VEVENT
DTSTART;TZID=America/New_York:20260517T110000
DTEND;TZID=America/New_York:20260517T120000
DTSTAMP:20260422T013057
CREATED:20260422T013015Z
LAST-MODIFIED:20260422T013015Z
UID:26829-1779015600-1779019200@adventlutheranyork.org
SUMMARY:Traditional Worship Service
DESCRIPTION:
URL:https://adventlutheranyork.org/event/traditional-worship-service-37/
CATEGORIES:Services
END:VEVENT
BEGIN:VEVENT
DTSTART;TZID=America/New_York:20260517T094500
DTEND;TZID=America/New_York:20260517T104500
DTSTAMP:20260422T013057
CREATED:20260422T012352Z
LAST-MODIFIED:20260422T012352Z
UID:26827-1779011100-1779014700@adventlutheranyork.org
SUMMARY:Sunday School
DESCRIPTION:
URL:https://adventlutheranyork.org/event/sunday-school-89/
CATEGORIES:Christian Education
END:VEVENT
BEGIN:VEVENT
DTSTART;TZID=America/New_York:20260517T094500
DTEND;TZID=America/New_York:20260517T104500
DTSTAMP:20260422T013057
CREATED:20260422T011028Z
LAST-MODIFIED:20260422T011028Z
UID:26825-1779011100-1779014700@adventlutheranyork.org
SUMMARY:Outreach Committee Meeting
DESCRIPTION:
URL:https://adventlutheranyork.org/event/outreach-committee-meeting-11/
CATEGORIES:Committee
END:VEVENT
BEGIN:VEVENT
DTSTART;TZID=America/New_York:20260517T083000
DTEND;TZID=America/New_York:20260517T093000
DTSTAMP:20260422T013057
CREATED:20260422T010801Z
LAST-MODIFIED:20260422T010801Z
UID:26823-1779006600-1779010200@adventlutheranyork.org
SUMMARY:Traditional Worship Service
DESCRIPTION:
URL:https://adventlutheranyork.org/event/traditional-worship-service-36/
CATEGORIES:Services
END:VEVENT
BEGIN:VEVENT
DTSTART;VALUE=DATE:20260517
DTEND;VALUE=DATE:20260518
DTSTAMP:20260422T013057
CREATED:20260422T010618Z
LAST-MODIFIED:20260422T010618Z
UID:26821-1778976000-1779062399@adventlutheranyork.org
SUMMARY:Last Day of Sunday School
DESCRIPTION:
URL:https://adventlutheranyork.org/event/last-day-of-sunday-school/
END:VEVENT
BEGIN:VEVENT
DTSTART;VALUE=DATE:20260517
DTEND;VALUE=DATE:20260518
DTSTAMP:20260422T013057
CREATED:20260422T010515Z
LAST-MODIFIED:20260422T010515Z
UID:26819-1778976000-1779062399@adventlutheranyork.org
SUMMARY:Easter 7
DESCRIPTION:
URL:https://adventlutheranyork.org/event/easter-7-4/
END:VEVENT
BEGIN:VEVENT
DTSTART;TZID=America/New_York:20260515T100000
DTEND;TZID=America/New_York:20260515T110000
DTSTAMP:20260422T013057
CREATED:20260422T010337Z
LAST-MODIFIED:20260422T010337Z
UID:26816-1778839200-1778842800@adventlutheranyork.org
SUMMARY:Ladies Shares and Prayers
DESCRIPTION:
URL:https://adventlutheranyork.org/event/ladies-shares-and-prayers-8/
CATEGORIES:Ladies Shares and Prayers
END:VEVENT
BEGIN:VEVENT
DTSTART;TZID=America/New_York:20260514T183000
DTEND;TZID=America/New_York:20260514T193000
DTSTAMP:20260422T013057
CREATED:20260422T010052Z
LAST-MODIFIED:20260422T010052Z
UID:26814-1778783400-1778787000@adventlutheranyork.org
SUMMARY:Property Committee Meeting
DESCRIPTION:
URL:https://adventlutheranyork.org/event/property-committee-meeting-20/
CATEGORIES:Committee
END:VEVENT
BEGIN:VEVENT
DTSTART;TZID=America/New_York:20260514T113000
DTEND;TZID=America/New_York:20260514T123000
DTSTAMP:20260422T013057
CREATED:20260422T005911Z
LAST-MODIFIED:20260422T005911Z
UID:26812-1778758200-1778761800@adventlutheranyork.org
SUMMARY:Leisure Lunch at Round the Clock East
DESCRIPTION:
URL:https://adventlutheranyork.org/event/leisure-lunch-at-round-the-clock-east/
CATEGORIES:Leisure Group
END:VEVENT
BEGIN:VEVENT
DTSTART;TZID=America/New_York:20260513T190000
DTEND;TZID=America/New_York:20260513T203000
DTSTAMP:20260422T013057
CREATED:20260422T005625Z
LAST-MODIFIED:20260422T005625Z
UID:26810-1778698800-1778704200@adventlutheranyork.org
SUMMARY:Adult Choir Rehearsal
DESCRIPTION:
URL:https://adventlutheranyork.org/event/adult-choir-rehearsal-89/
CATEGORIES:Music Ministry
END:VEVENT
BEGIN:VEVENT
DTSTART;TZID=America/New_York:20260513T180000
DTEND;TZID=America/New_York:20260513T190000
DTSTAMP:20260422T013058
CREATED:20260422T005309Z
LAST-MODIFIED:20260422T005309Z
UID:26808-1778695200-1778698800@adventlutheranyork.org
SUMMARY:Handbell Rehearsal
DESCRIPTION:
URL:https://adventlutheranyork.org/event/handbell-rehearsal-31/
CATEGORIES:Music Ministry
END:VEVENT
BEGIN:VEVENT
DTSTART;TZID=America/New_York:20260512T180000
DTEND;TZID=America/New_York:20260512T190000
DTSTAMP:20260422T013058
CREATED:20260422T004857Z
LAST-MODIFIED:20260422T004857Z
UID:26806-1778608800-1778612400@adventlutheranyork.org
SUMMARY:Advent Book Club
DESCRIPTION:
URL:https://adventlutheranyork.org/event/advent-book-club-40/
CATEGORIES:Advent Book Club
END:VEVENT
BEGIN:VEVENT
DTSTART;TZID=America/New_York:20260512T110000
DTEND;TZID=America/New_York:20260512T120000
DTSTAMP:20260422T013058
CREATED:20260422T004437Z
LAST-MODIFIED:20260422T004437Z
UID:26804-1778583600-1778587200@adventlutheranyork.org
SUMMARY:Brown Baggers
DESCRIPTION:
URL:https://adventlutheranyork.org/event/brown-baggers-53/
CATEGORIES:Brown Baggers
END:VEVENT
BEGIN:VEVENT
DTSTART;TZID=America/New_York:20260511T190000
DTEND;TZID=America/New_York:20260511T200000
DTSTAMP:20260422T013058
CREATED:20260422T004254Z
LAST-MODIFIED:20260422T004254Z
UID:26802-1778526000-1778529600@adventlutheranyork.org
SUMMARY:Social Justice & Advocacy Committee Meeting
DESCRIPTION:
URL:https://adventlutheranyork.org/event/social-justice-advocacy-committee-meeting-2/
CATEGORIES:Committee
END:VEVENT
BEGIN:VEVENT
DTSTART;TZID=America/New_York:20260511T180000
DTEND;TZID=America/New_York:20260511T190000
DTSTAMP:20260422T013058
CREATED:20260422T003527Z
LAST-MODIFIED:20260422T003527Z
UID:26800-1778522400-1778526000@adventlutheranyork.org
SUMMARY:Cancer Support Group
DESCRIPTION:
URL:https://adventlutheranyork.org/event/cancer-support-group-21/
CATEGORIES:Cancer Support
END:VEVENT
BEGIN:VEVENT
DTSTART;TZID=America/New_York:20260511T180000
DTEND;TZID=America/New_York:20260511T190000
DTSTAMP:20260422T013058
CREATED:20260422T003211Z
LAST-MODIFIED:20260422T003211Z
UID:26798-1778522400-1778526000@adventlutheranyork.org
SUMMARY:Advent Quilters
DESCRIPTION:
URL:https://adventlutheranyork.org/event/advent-quilters-60/
CATEGORIES:Advent Quilters
END:VEVENT
BEGIN:VEVENT
DTSTART;TZID=America/New_York:20260510T111500
DTEND;TZID=America/New_York:20260510T120000
DTSTAMP:20260422T013058
CREATED:20260422T002932Z
LAST-MODIFIED:20260422T002932Z
UID:26796-1778411700-1778414400@adventlutheranyork.org
SUMMARY:Contemporary Worship Service
DESCRIPTION:
URL:https://adventlutheranyork.org/event/contemporary-worship-service-73/
CATEGORIES:Services
END:VEVENT
BEGIN:VEVENT
DTSTART;TZID=America/New_York:20260510T110000
DTEND;TZID=America/New_York:20260510T120000
DTSTAMP:20260422T013058
CREATED:20260422T002645Z
LAST-MODIFIED:20260422T002802Z
UID:26794-1778410800-1778414400@adventlutheranyork.org
SUMMARY:Traditional Worship Service
DESCRIPTION:
URL:https://adventlutheranyork.org/event/traditional-worship-service-35/
CATEGORIES:Services
END:VEVENT
BEGIN:VEVENT
DTSTART;TZID=America/New_York:20260510T094500
DTEND;TZID=America/New_York:20260510T104500
DTSTAMP:20260422T013058
CREATED:20260422T002428Z
LAST-MODIFIED:20260422T002428Z
UID:26792-1778406300-1778409900@adventlutheranyork.org
SUMMARY:Sunday School
DESCRIPTION:
URL:https://adventlutheranyork.org/event/sunday-school-88/
CATEGORIES:Christian Education
END:VEVENT
BEGIN:VEVENT
DTSTART;TZID=America/New_York:20260510T083000
DTEND;TZID=America/New_York:20260510T093000
DTSTAMP:20260422T013058
CREATED:20260422T002230Z
LAST-MODIFIED:20260422T002230Z
UID:26790-1778401800-1778405400@adventlutheranyork.org
SUMMARY:Traditional Worship Service
DESCRIPTION:
URL:https://adventlutheranyork.org/event/traditional-worship-service-34/
CATEGORIES:Services
END:VEVENT
BEGIN:VEVENT
DTSTART;VALUE=DATE:20260510
DTEND;VALUE=DATE:20260511
DTSTAMP:20260422T013058
CREATED:20260422T001812Z
LAST-MODIFIED:20260422T001812Z
UID:26788-1778371200-1778457599@adventlutheranyork.org
SUMMARY:Mother's Day
DESCRIPTION:
URL:https://adventlutheranyork.org/event/mothers-day/
END:VEVENT
BEGIN:VEVENT
DTSTART;VALUE=DATE:20260510
DTEND;VALUE=DATE:20260511
DTSTAMP:20260422T013058
CREATED:20260422T001703Z
LAST-MODIFIED:20260422T001703Z
UID:26786-1778371200-1778457599@adventlutheranyork.org
SUMMARY:Easter 6
DESCRIPTION:
URL:https://adventlutheranyork.org/event/easter-6-3/
END:VEVENT
BEGIN:VEVENT
DTSTART;TZID=America/New_York:20260509T080000
DTEND;TZID=America/New_York:20260509T090000
DTSTAMP:20260422T013058
CREATED:20260422T001443Z
LAST-MODIFIED:20260422T001443Z
UID:26784-1778313600-1778317200@adventlutheranyork.org
SUMMARY:Men's Bible Study
DESCRIPTION:
URL:https://adventlutheranyork.org/event/mens-bible-study-26/
CATEGORIES:Christian Education
END:VEVENT
BEGIN:VEVENT
DTSTART;TZID=America/New_York:20260508T090000
DTEND;TZID=America/New_York:20260508T100000
DTSTAMP:20260422T013058
CREATED:20260422T001218Z
LAST-MODIFIED:20260422T001218Z
UID:26782-1778230800-1778234400@adventlutheranyork.org
SUMMARY:Coffee with Pr. Brad
DESCRIPTION:
URL:https://adventlutheranyork.org/event/coffee-with-pr-brad-14/
END:VEVENT
BEGIN:VEVENT
DTSTART;TZID=America/New_York:20260507T180000
DTEND;TZID=America/New_York:20260507T190000
DTSTAMP:20260422T013058
CREATED:20260422T001000Z
LAST-MODIFIED:20260422T001000Z
UID:26780-1778176800-1778180400@adventlutheranyork.org
SUMMARY:Girl Scouts
DESCRIPTION:
URL:https://adventlutheranyork.org/event/girl-scouts-32/
CATEGORIES:Community
END:VEVENT
BEGIN:VEVENT
DTSTART;TZID=America/New_York:20260506T190000
DTEND;TZID=America/New_York:20260506T203000
DTSTAMP:20260422T013058
CREATED:20260421T185600Z
LAST-MODIFIED:20260421T185600Z
UID:26778-1778094000-1778099400@adventlutheranyork.org
SUMMARY:Adult Choir Rehearsal
DESCRIPTION:
URL:https://adventlutheranyork.org/event/adult-choir-rehearsal-88/
CATEGORIES:Music Ministry
END:VEVENT
BEGIN:VEVENT
DTSTART;TZID=America/New_York:20260506T180000
DTEND;TZID=America/New_York:20260506T190000
DTSTAMP:20260422T013058
CREATED:20260421T185444Z
LAST-MODIFIED:20260421T185444Z
UID:26776-1778090400-1778094000@adventlutheranyork.org
SUMMARY:Handbell Rehearsal
DESCRIPTION:
URL:https://adventlutheranyork.org/event/handbell-rehearsal-30/
CATEGORIES:Music Ministry
END:VEVENT
BEGIN:VEVENT
DTSTART;TZID=America/New_York:20260506T090000
DTEND;TZID=America/New_York:20260506T110000
DTSTAMP:20260422T013058
CREATED:20260421T185304Z
LAST-MODIFIED:20260421T185304Z
UID:26773-1778058000-1778065200@adventlutheranyork.org
SUMMARY:Advent Quilters
DESCRIPTION:
URL:https://adventlutheranyork.org/event/advent-quilters-59/
CATEGORIES:Advent Quilters
END:VEVENT
BEGIN:VEVENT
DTSTART;TZID=America/New_York:20260504T090000
DTEND;TZID=America/New_York:20260504T100000
DTSTAMP:20260422T013058
CREATED:20260421T185144Z
LAST-MODIFIED:20260421T185144Z
UID:26771-1777885200-1777888800@adventlutheranyork.org
SUMMARY:Joy in the Morning
DESCRIPTION:
URL:https://adventlutheranyork.org/event/joy-in-the-morning-42/
CATEGORIES:Joy in the Morning
END:VEVENT
BEGIN:VEVENT
DTSTART;TZID=America/New_York:20260503T170000
DTEND;TZID=America/New_York:20260503T200000
DTSTAMP:20260422T013058
CREATED:20260421T185015Z
LAST-MODIFIED:20260421T185015Z
UID:26769-1777827600-1777838400@adventlutheranyork.org
SUMMARY:Youth Group at Friendly Acres
DESCRIPTION:
URL:https://adventlutheranyork.org/event/youth-group-at-friendly-acres/
CATEGORIES:Youth Ministry
END:VEVENT
END:VCALENDAR