BEGIN:VCALENDAR
VERSION:2.0
PRODID:-//Advent Lutheran Church - ECPv6.15.20//NONSGML v1.0//EN
CALSCALE:GREGORIAN
METHOD:PUBLISH
X-WR-CALNAME:Advent Lutheran Church
X-ORIGINAL-URL:https://adventlutheranyork.org
X-WR-CALDESC:Events for Advent Lutheran Church
REFRESH-INTERVAL;VALUE=DURATION:PT1H
X-Robots-Tag:noindex
X-PUBLISHED-TTL:PT1H
BEGIN:VTIMEZONE
TZID:America/New_York
BEGIN:DAYLIGHT
TZOFFSETFROM:-0500
TZOFFSETTO:-0400
TZNAME:EDT
DTSTART:20240310T070000
END:DAYLIGHT
BEGIN:STANDARD
TZOFFSETFROM:-0400
TZOFFSETTO:-0500
TZNAME:EST
DTSTART:20241103T060000
END:STANDARD
BEGIN:DAYLIGHT
TZOFFSETFROM:-0500
TZOFFSETTO:-0400
TZNAME:EDT
DTSTART:20250309T070000
END:DAYLIGHT
BEGIN:STANDARD
TZOFFSETFROM:-0400
TZOFFSETTO:-0500
TZNAME:EST
DTSTART:20251102T060000
END:STANDARD
BEGIN:DAYLIGHT
TZOFFSETFROM:-0500
TZOFFSETTO:-0400
TZNAME:EDT
DTSTART:20260308T070000
END:DAYLIGHT
BEGIN:STANDARD
TZOFFSETFROM:-0400
TZOFFSETTO:-0500
TZNAME:EST
DTSTART:20261101T060000
END:STANDARD
BEGIN:DAYLIGHT
TZOFFSETFROM:-0500
TZOFFSETTO:-0400
TZNAME:EDT
DTSTART:20270314T070000
END:DAYLIGHT
BEGIN:STANDARD
TZOFFSETFROM:-0400
TZOFFSETTO:-0500
TZNAME:EST
DTSTART:20271107T060000
END:STANDARD
END:VTIMEZONE
BEGIN:VEVENT
DTSTART;VALUE=DATE:20251221
DTEND;VALUE=DATE:20251222
DTSTAMP:20260421T215605
CREATED:20251126T230402Z
LAST-MODIFIED:20251126T230402Z
UID:26005-1766275200-1766361599@adventlutheranyork.org
SUMMARY:Advent 4
DESCRIPTION:
URL:https://adventlutheranyork.org/event/advent-4-3/
END:VEVENT
BEGIN:VEVENT
DTSTART;TZID=America/New_York:20251221T083000
DTEND;TZID=America/New_York:20251221T093000
DTSTAMP:20260421T215605
CREATED:20251126T230517Z
LAST-MODIFIED:20251126T230517Z
UID:26007-1766305800-1766309400@adventlutheranyork.org
SUMMARY:Worship Service
DESCRIPTION:
URL:https://adventlutheranyork.org/event/worship-service-177/
CATEGORIES:Services
END:VEVENT
BEGIN:VEVENT
DTSTART;TZID=America/New_York:20251221T093000
DTEND;TZID=America/New_York:20251221T094500
DTSTAMP:20260421T215605
CREATED:20251126T230616Z
LAST-MODIFIED:20251126T230616Z
UID:26009-1766309400-1766310300@adventlutheranyork.org
SUMMARY:Youth Choir Rehearsal
DESCRIPTION:
URL:https://adventlutheranyork.org/event/youth-choir-rehearsal-40/
CATEGORIES:Music Ministry
END:VEVENT
BEGIN:VEVENT
DTSTART;TZID=America/New_York:20251221T094500
DTEND;TZID=America/New_York:20251221T104500
DTSTAMP:20260421T215605
CREATED:20251126T230759Z
LAST-MODIFIED:20251126T230759Z
UID:26011-1766310300-1766313900@adventlutheranyork.org
SUMMARY:Sunday School
DESCRIPTION:
URL:https://adventlutheranyork.org/event/sunday-school-70/
CATEGORIES:Christian Education
END:VEVENT
BEGIN:VEVENT
DTSTART;TZID=America/New_York:20251221T110000
DTEND;TZID=America/New_York:20251221T120000
DTSTAMP:20260421T215605
CREATED:20251126T230846Z
LAST-MODIFIED:20251126T230846Z
UID:26013-1766314800-1766318400@adventlutheranyork.org
SUMMARY:Worship Service
DESCRIPTION:
URL:https://adventlutheranyork.org/event/worship-service-178/
CATEGORIES:Services
END:VEVENT
BEGIN:VEVENT
DTSTART;TZID=America/New_York:20251221T111500
DTEND;TZID=America/New_York:20251221T120000
DTSTAMP:20260421T215605
CREATED:20251126T230936Z
LAST-MODIFIED:20251126T230936Z
UID:26015-1766315700-1766318400@adventlutheranyork.org
SUMMARY:Contemporary Worship Service
DESCRIPTION:
URL:https://adventlutheranyork.org/event/contemporary-worship-service-54/
CATEGORIES:Services
END:VEVENT
BEGIN:VEVENT
DTSTART;TZID=America/New_York:20251221T140000
DTEND;TZID=America/New_York:20251221T150000
DTSTAMP:20260421T215605
CREATED:20251126T232452Z
LAST-MODIFIED:20251126T232452Z
UID:26017-1766325600-1766329200@adventlutheranyork.org
SUMMARY:Twin Rose Band Concert
DESCRIPTION:
URL:https://adventlutheranyork.org/event/twin-rose-band-concert-3/
CATEGORIES:Community
END:VEVENT
BEGIN:VEVENT
DTSTART;TZID=America/New_York:20251221T170000
DTEND;TZID=America/New_York:20251221T190000
DTSTAMP:20260421T215605
CREATED:20251126T232602Z
LAST-MODIFIED:20251126T232602Z
UID:26019-1766336400-1766343600@adventlutheranyork.org
SUMMARY:Youth Group Xmas Party
DESCRIPTION:
URL:https://adventlutheranyork.org/event/youth-group-xmas-party/
CATEGORIES:Youth Ministry
END:VEVENT
BEGIN:VEVENT
DTSTART;TZID=America/New_York:20251223T110000
DTEND;TZID=America/New_York:20251223T120000
DTSTAMP:20260421T215605
CREATED:20251126T232657Z
LAST-MODIFIED:20251126T232657Z
UID:26021-1766487600-1766491200@adventlutheranyork.org
SUMMARY:Brown Baggers
DESCRIPTION:
URL:https://adventlutheranyork.org/event/brown-baggers-44/
CATEGORIES:Brown Baggers
END:VEVENT
BEGIN:VEVENT
DTSTART;VALUE=DATE:20251224
DTEND;VALUE=DATE:20251225
DTSTAMP:20260421T215605
CREATED:20251126T232808Z
LAST-MODIFIED:20251126T232808Z
UID:26023-1766534400-1766620799@adventlutheranyork.org
SUMMARY:Christmas Eve
DESCRIPTION:
URL:https://adventlutheranyork.org/event/christmas-eve-2/
END:VEVENT
BEGIN:VEVENT
DTSTART;VALUE=DATE:20251224
DTEND;VALUE=DATE:20251225
DTSTAMP:20260421T215605
CREATED:20251126T232901Z
LAST-MODIFIED:20251126T232901Z
UID:26025-1766534400-1766620799@adventlutheranyork.org
SUMMARY:Office Closes at Noon
DESCRIPTION:
URL:https://adventlutheranyork.org/event/office-closes-at-noon/
CATEGORIES:Administration
END:VEVENT
BEGIN:VEVENT
DTSTART;TZID=America/New_York:20251224T160000
DTEND;TZID=America/New_York:20251224T170000
DTSTAMP:20260421T215605
CREATED:20251126T233013Z
LAST-MODIFIED:20251126T233013Z
UID:26027-1766592000-1766595600@adventlutheranyork.org
SUMMARY:Children's Christmas Eve Service
DESCRIPTION:
URL:https://adventlutheranyork.org/event/childrens-christmas-eve-service-2/
CATEGORIES:Holiday,Services
END:VEVENT
BEGIN:VEVENT
DTSTART;TZID=America/New_York:20251224T200000
DTEND;TZID=America/New_York:20251224T210000
DTSTAMP:20260421T215605
CREATED:20251126T233153Z
LAST-MODIFIED:20251126T233153Z
UID:26029-1766606400-1766610000@adventlutheranyork.org
SUMMARY:Christmas Eve Service
DESCRIPTION:
URL:https://adventlutheranyork.org/event/christmas-eve-service-2/
CATEGORIES:Holiday,Services
END:VEVENT
BEGIN:VEVENT
DTSTART;TZID=America/New_York:20251224T230000
DTEND;TZID=America/New_York:20251225T000000
DTSTAMP:20260421T215605
CREATED:20251126T233244Z
LAST-MODIFIED:20251126T234235Z
UID:26031-1766617200-1766620800@adventlutheranyork.org
SUMMARY:Christmas Eve Service
DESCRIPTION:
URL:https://adventlutheranyork.org/event/christmas-eve-service-3/
CATEGORIES:Holiday,Services
END:VEVENT
BEGIN:VEVENT
DTSTART;VALUE=DATE:20251225
DTEND;VALUE=DATE:20251226
DTSTAMP:20260421T215605
CREATED:20251126T233336Z
LAST-MODIFIED:20251126T233336Z
UID:26033-1766620800-1766707199@adventlutheranyork.org
SUMMARY:Christmas Day- Office Closed
DESCRIPTION:
URL:https://adventlutheranyork.org/event/christmas-day-office-closed/
CATEGORIES:Administration
END:VEVENT
BEGIN:VEVENT
DTSTART;VALUE=DATE:20251226
DTEND;VALUE=DATE:20251227
DTSTAMP:20260421T215605
CREATED:20251126T233421Z
LAST-MODIFIED:20251126T233421Z
UID:26035-1766707200-1766793599@adventlutheranyork.org
SUMMARY:Office Closed
DESCRIPTION:
URL:https://adventlutheranyork.org/event/office-closed-4/
END:VEVENT
BEGIN:VEVENT
DTSTART;TZID=America/New_York:20251227T110000
DTEND;TZID=America/New_York:20251227T140000
DTSTAMP:20260421T215605
CREATED:20251126T233507Z
LAST-MODIFIED:20251126T233507Z
UID:26037-1766833200-1766844000@adventlutheranyork.org
SUMMARY:Event Rental- FH
DESCRIPTION:
URL:https://adventlutheranyork.org/event/event-rental-fh/
END:VEVENT
BEGIN:VEVENT
DTSTART;VALUE=DATE:20251228
DTEND;VALUE=DATE:20251229
DTSTAMP:20260421T215605
CREATED:20251126T233546Z
LAST-MODIFIED:20251126T233546Z
UID:26039-1766880000-1766966399@adventlutheranyork.org
SUMMARY:Christmas 1
DESCRIPTION:
URL:https://adventlutheranyork.org/event/christmas-1-3/
END:VEVENT
BEGIN:VEVENT
DTSTART;TZID=America/New_York:20251228T083000
DTEND;TZID=America/New_York:20251228T093000
DTSTAMP:20260421T215605
CREATED:20251126T233634Z
LAST-MODIFIED:20251126T233634Z
UID:26041-1766910600-1766914200@adventlutheranyork.org
SUMMARY:Worship Service
DESCRIPTION:
URL:https://adventlutheranyork.org/event/worship-service-179/
CATEGORIES:Services
END:VEVENT
BEGIN:VEVENT
DTSTART;TZID=America/New_York:20251228T094500
DTEND;TZID=America/New_York:20251228T104500
DTSTAMP:20260421T215605
CREATED:20251126T233840Z
LAST-MODIFIED:20251126T233840Z
UID:26043-1766915100-1766918700@adventlutheranyork.org
SUMMARY:Sunday School
DESCRIPTION:
URL:https://adventlutheranyork.org/event/sunday-school-71/
CATEGORIES:Christian Education
END:VEVENT
BEGIN:VEVENT
DTSTART;TZID=America/New_York:20251228T111500
DTEND;TZID=America/New_York:20251228T120000
DTSTAMP:20260421T215605
CREATED:20251126T233922Z
LAST-MODIFIED:20251126T233922Z
UID:26045-1766920500-1766923200@adventlutheranyork.org
SUMMARY:Contemporary Worship Service
DESCRIPTION:
URL:https://adventlutheranyork.org/event/contemporary-worship-service-55/
CATEGORIES:Services
END:VEVENT
BEGIN:VEVENT
DTSTART;VALUE=DATE:20251231
DTEND;VALUE=DATE:20260101
DTSTAMP:20260421T215605
CREATED:20251126T234020Z
LAST-MODIFIED:20251126T234020Z
UID:26047-1767139200-1767225599@adventlutheranyork.org
SUMMARY:New Year's Eve- Office Closes at Noon
DESCRIPTION:
URL:https://adventlutheranyork.org/event/new-years-eve-office-closes-at-noon/
END:VEVENT
BEGIN:VEVENT
DTSTART;VALUE=DATE:20260101
DTEND;VALUE=DATE:20260102
DTSTAMP:20260421T215605
CREATED:20251228T181349Z
LAST-MODIFIED:20251228T181349Z
UID:26061-1767225600-1767311999@adventlutheranyork.org
SUMMARY:Office Closed- New Years Day
DESCRIPTION:
URL:https://adventlutheranyork.org/event/office-closed-new-years-day/
END:VEVENT
BEGIN:VEVENT
DTSTART;TZID=America/New_York:20260103T083000
DTEND;TZID=America/New_York:20260103T103000
DTSTAMP:20260421T215605
CREATED:20251228T181626Z
LAST-MODIFIED:20251228T181626Z
UID:26063-1767429000-1767436200@adventlutheranyork.org
SUMMARY:YJSO
DESCRIPTION:
URL:https://adventlutheranyork.org/event/yjso-18/
CATEGORIES:Community
END:VEVENT
BEGIN:VEVENT
DTSTART;VALUE=DATE:20260104
DTEND;VALUE=DATE:20260105
DTSTAMP:20260421T215605
CREATED:20251228T181945Z
LAST-MODIFIED:20251228T181945Z
UID:26065-1767484800-1767571199@adventlutheranyork.org
SUMMARY:Christmas 2
DESCRIPTION:
URL:https://adventlutheranyork.org/event/christmas-2-2/
END:VEVENT
BEGIN:VEVENT
DTSTART;TZID=America/New_York:20260104T083000
DTEND;TZID=America/New_York:20260104T093000
DTSTAMP:20260421T215605
CREATED:20251228T182506Z
LAST-MODIFIED:20251228T182506Z
UID:26067-1767515400-1767519000@adventlutheranyork.org
SUMMARY:Traditional Worship Service
DESCRIPTION:
URL:https://adventlutheranyork.org/event/traditional-worship-service-9/
CATEGORIES:Services
END:VEVENT
BEGIN:VEVENT
DTSTART;TZID=America/New_York:20260104T093000
DTEND;TZID=America/New_York:20260104T094500
DTSTAMP:20260421T215605
CREATED:20251228T182717Z
LAST-MODIFIED:20251228T182717Z
UID:26069-1767519000-1767519900@adventlutheranyork.org
SUMMARY:Youth Choir Rehearsal
DESCRIPTION:
URL:https://adventlutheranyork.org/event/youth-choir-rehearsal-41/
CATEGORIES:Music Ministry
END:VEVENT
BEGIN:VEVENT
DTSTART;TZID=America/New_York:20260104T094500
DTEND;TZID=America/New_York:20260104T104500
DTSTAMP:20260421T215605
CREATED:20251228T182900Z
LAST-MODIFIED:20251228T182900Z
UID:26071-1767519900-1767523500@adventlutheranyork.org
SUMMARY:Sunday School
DESCRIPTION:
URL:https://adventlutheranyork.org/event/sunday-school-72/
CATEGORIES:Christian Education
END:VEVENT
BEGIN:VEVENT
DTSTART;TZID=America/New_York:20260104T110000
DTEND;TZID=America/New_York:20260104T120000
DTSTAMP:20260421T215605
CREATED:20251228T183007Z
LAST-MODIFIED:20251228T183007Z
UID:26073-1767524400-1767528000@adventlutheranyork.org
SUMMARY:Traditional Worship Service
DESCRIPTION:
URL:https://adventlutheranyork.org/event/traditional-worship-service-10/
CATEGORIES:Services
END:VEVENT
BEGIN:VEVENT
DTSTART;TZID=America/New_York:20260104T111500
DTEND;TZID=America/New_York:20260104T120000
DTSTAMP:20260421T215605
CREATED:20251228T183109Z
LAST-MODIFIED:20251228T183109Z
UID:26075-1767525300-1767528000@adventlutheranyork.org
SUMMARY:Contemporary Worship Service
DESCRIPTION:
URL:https://adventlutheranyork.org/event/contemporary-worship-service-56/
CATEGORIES:Services
END:VEVENT
END:VCALENDAR