BEGIN:VCALENDAR
VERSION:2.0
PRODID:-//Advent Lutheran Church - ECPv6.15.20//NONSGML v1.0//EN
CALSCALE:GREGORIAN
METHOD:PUBLISH
X-ORIGINAL-URL:https://adventlutheranyork.org
X-WR-CALDESC:Events for Advent Lutheran Church
REFRESH-INTERVAL;VALUE=DURATION:PT1H
X-Robots-Tag:noindex
X-PUBLISHED-TTL:PT1H
BEGIN:VTIMEZONE
TZID:America/New_York
BEGIN:DAYLIGHT
TZOFFSETFROM:-0500
TZOFFSETTO:-0400
TZNAME:EDT
DTSTART:20240310T070000
END:DAYLIGHT
BEGIN:STANDARD
TZOFFSETFROM:-0400
TZOFFSETTO:-0500
TZNAME:EST
DTSTART:20241103T060000
END:STANDARD
BEGIN:DAYLIGHT
TZOFFSETFROM:-0500
TZOFFSETTO:-0400
TZNAME:EDT
DTSTART:20250309T070000
END:DAYLIGHT
BEGIN:STANDARD
TZOFFSETFROM:-0400
TZOFFSETTO:-0500
TZNAME:EST
DTSTART:20251102T060000
END:STANDARD
BEGIN:DAYLIGHT
TZOFFSETFROM:-0500
TZOFFSETTO:-0400
TZNAME:EDT
DTSTART:20260308T070000
END:DAYLIGHT
BEGIN:STANDARD
TZOFFSETFROM:-0400
TZOFFSETTO:-0500
TZNAME:EST
DTSTART:20261101T060000
END:STANDARD
END:VTIMEZONE
BEGIN:VEVENT
DTSTART;TZID=America/New_York:20250803T083000
DTEND;TZID=America/New_York:20250803T093000
DTSTAMP:20260422T015654
CREATED:20250722T115807Z
LAST-MODIFIED:20250722T115807Z
UID:25373-1754209800-1754213400@adventlutheranyork.org
SUMMARY:Worship Service
DESCRIPTION:
URL:https://adventlutheranyork.org/event/worship-service-157/
CATEGORIES:Services
END:VEVENT
BEGIN:VEVENT
DTSTART;TZID=America/New_York:20250803T110000
DTEND;TZID=America/New_York:20250803T120000
DTSTAMP:20260422T015654
CREATED:20250722T120054Z
LAST-MODIFIED:20250722T120054Z
UID:25376-1754218800-1754222400@adventlutheranyork.org
SUMMARY:Worship Service
DESCRIPTION:
URL:https://adventlutheranyork.org/event/worship-service-158/
CATEGORIES:Services
END:VEVENT
BEGIN:VEVENT
DTSTART;TZID=America/New_York:20250803T111500
DTEND;TZID=America/New_York:20250803T120000
DTSTAMP:20260422T015654
CREATED:20250722T120138Z
LAST-MODIFIED:20250722T120138Z
UID:25378-1754219700-1754222400@adventlutheranyork.org
SUMMARY:Contemporary Worship Service
DESCRIPTION:
URL:https://adventlutheranyork.org/event/contemporary-worship-service-40/
CATEGORIES:Services
END:VEVENT
BEGIN:VEVENT
DTSTART;TZID=America/New_York:20250806T190000
DTEND;TZID=America/New_York:20250806T200000
DTSTAMP:20260422T015654
CREATED:20250722T120428Z
LAST-MODIFIED:20250722T120428Z
UID:25380-1754506800-1754510400@adventlutheranyork.org
SUMMARY:Stewardship Committee Meeting
DESCRIPTION:
URL:https://adventlutheranyork.org/event/stewardship-committee-meeting-9/
CATEGORIES:Committee
END:VEVENT
BEGIN:VEVENT
DTSTART;TZID=America/New_York:20250807T190000
DTEND;TZID=America/New_York:20250807T200000
DTSTAMP:20260422T015654
CREATED:20250722T120605Z
LAST-MODIFIED:20250722T120605Z
UID:25382-1754593200-1754596800@adventlutheranyork.org
SUMMARY:Temples of Egypt Presentation w/ Pr. Brad
DESCRIPTION:
URL:https://adventlutheranyork.org/event/temples-of-egypt-presentation-w-pr-brad/
END:VEVENT
BEGIN:VEVENT
DTSTART;TZID=America/New_York:20250809T080000
DTEND;TZID=America/New_York:20250809T090000
DTSTAMP:20260422T015654
CREATED:20250722T120709Z
LAST-MODIFIED:20250722T120709Z
UID:25384-1754726400-1754730000@adventlutheranyork.org
SUMMARY:Men's Bible Study
DESCRIPTION:
URL:https://adventlutheranyork.org/event/mens-bible-study-17/
CATEGORIES:Christian Education
END:VEVENT
BEGIN:VEVENT
DTSTART;TZID=America/New_York:20250809T080000
DTEND;TZID=America/New_York:20250809T100000
DTSTAMP:20260422T015654
CREATED:20250722T120824Z
LAST-MODIFIED:20250722T120824Z
UID:25386-1754726400-1754733600@adventlutheranyork.org
SUMMARY:Young Adventurers at First Fruit Farms
DESCRIPTION:
URL:https://adventlutheranyork.org/event/young-adventurers-at-first-fruit-farms/
CATEGORIES:Youth Ministry
END:VEVENT
BEGIN:VEVENT
DTSTART;VALUE=DATE:20250810
DTEND;VALUE=DATE:20250811
DTSTAMP:20260422T015654
CREATED:20250722T121007Z
LAST-MODIFIED:20250722T121007Z
UID:25388-1754784000-1754870399@adventlutheranyork.org
SUMMARY:Fair Trade Sunday
DESCRIPTION:
URL:https://adventlutheranyork.org/event/fair-trade-sunday-13/
END:VEVENT
BEGIN:VEVENT
DTSTART;TZID=America/New_York:20250810T093000
DTEND;TZID=America/New_York:20250810T103000
DTSTAMP:20260422T015654
CREATED:20250722T121134Z
LAST-MODIFIED:20250722T121134Z
UID:25390-1754818200-1754821800@adventlutheranyork.org
SUMMARY:Worship Service
DESCRIPTION:
URL:https://adventlutheranyork.org/event/worship-service-159/
CATEGORIES:Services
END:VEVENT
BEGIN:VEVENT
DTSTART;TZID=America/New_York:20250810T111500
DTEND;TZID=America/New_York:20250810T120000
DTSTAMP:20260422T015654
CREATED:20250722T121312Z
LAST-MODIFIED:20250722T121342Z
UID:25392-1754824500-1754827200@adventlutheranyork.org
SUMMARY:Contemporary Worship Service
DESCRIPTION:
URL:https://adventlutheranyork.org/event/contemporary-worship-service-41/
CATEGORIES:Services
END:VEVENT
BEGIN:VEVENT
DTSTART;TZID=America/New_York:20250812T110000
DTEND;TZID=America/New_York:20250812T120000
DTSTAMP:20260422T015654
CREATED:20250722T121432Z
LAST-MODIFIED:20250722T121432Z
UID:25394-1754996400-1755000000@adventlutheranyork.org
SUMMARY:Brown Baggers
DESCRIPTION:
URL:https://adventlutheranyork.org/event/brown-baggers-35/
CATEGORIES:Brown Baggers
END:VEVENT
BEGIN:VEVENT
DTSTART;TZID=America/New_York:20250812T183000
DTEND;TZID=America/New_York:20250812T193000
DTSTAMP:20260422T015654
CREATED:20250722T121536Z
LAST-MODIFIED:20250722T121536Z
UID:25396-1755023400-1755027000@adventlutheranyork.org
SUMMARY:Advent Book Club
DESCRIPTION:
URL:https://adventlutheranyork.org/event/advent-book-club-32/
CATEGORIES:Advent Book Club
END:VEVENT
BEGIN:VEVENT
DTSTART;TZID=America/New_York:20250813T090000
DTEND;TZID=America/New_York:20250813T100000
DTSTAMP:20260422T015655
CREATED:20250722T121649Z
LAST-MODIFIED:20250722T121649Z
UID:25398-1755075600-1755079200@adventlutheranyork.org
SUMMARY:Advent Quilters
DESCRIPTION:
URL:https://adventlutheranyork.org/event/advent-quilters-41/
CATEGORIES:Advent Quilters
END:VEVENT
BEGIN:VEVENT
DTSTART;TZID=America/New_York:20250814T113000
DTEND;TZID=America/New_York:20250814T123000
DTSTAMP:20260422T015655
CREATED:20250722T121752Z
LAST-MODIFIED:20250722T121752Z
UID:25400-1755171000-1755174600@adventlutheranyork.org
SUMMARY:Leisure Lunch at Olive Garden
DESCRIPTION:
URL:https://adventlutheranyork.org/event/leisure-lunch-at-olive-garden-2/
CATEGORIES:Leisure Group
END:VEVENT
BEGIN:VEVENT
DTSTART;TZID=America/New_York:20250814T183000
DTEND;TZID=America/New_York:20250814T193000
DTSTAMP:20260422T015655
CREATED:20250722T121856Z
LAST-MODIFIED:20250722T121856Z
UID:25402-1755196200-1755199800@adventlutheranyork.org
SUMMARY:Worship & Music Committee Meeting
DESCRIPTION:
URL:https://adventlutheranyork.org/event/worship-music-committee-meeting-9/
CATEGORIES:Committee
END:VEVENT
BEGIN:VEVENT
DTSTART;TZID=America/New_York:20250817T083000
DTEND;TZID=America/New_York:20250817T093000
DTSTAMP:20260422T015655
CREATED:20250722T122012Z
LAST-MODIFIED:20250722T122012Z
UID:25404-1755419400-1755423000@adventlutheranyork.org
SUMMARY:Worship Service
DESCRIPTION:
URL:https://adventlutheranyork.org/event/worship-service-160/
CATEGORIES:Services
END:VEVENT
BEGIN:VEVENT
DTSTART;TZID=America/New_York:20250817T110000
DTEND;TZID=America/New_York:20250817T120000
DTSTAMP:20260422T015655
CREATED:20250722T122125Z
LAST-MODIFIED:20250722T122125Z
UID:25406-1755428400-1755432000@adventlutheranyork.org
SUMMARY:Worship Service
DESCRIPTION:
URL:https://adventlutheranyork.org/event/worship-service-161/
CATEGORIES:Services
END:VEVENT
BEGIN:VEVENT
DTSTART;TZID=America/New_York:20250817T111500
DTEND;TZID=America/New_York:20250817T120000
DTSTAMP:20260422T015655
CREATED:20250722T122253Z
LAST-MODIFIED:20250722T122253Z
UID:25408-1755429300-1755432000@adventlutheranyork.org
SUMMARY:Contemporary Worship Service
DESCRIPTION:
URL:https://adventlutheranyork.org/event/contemporary-worship-service-42/
CATEGORIES:Services
END:VEVENT
BEGIN:VEVENT
DTSTART;TZID=America/New_York:20250818T180000
DTEND;TZID=America/New_York:20250818T190000
DTSTAMP:20260422T015655
CREATED:20250722T122507Z
LAST-MODIFIED:20250722T122507Z
UID:25410-1755540000-1755543600@adventlutheranyork.org
SUMMARY:Cancer Support Group
DESCRIPTION:
URL:https://adventlutheranyork.org/event/cancer-support-group-12/
CATEGORIES:Cancer Support,Community
END:VEVENT
BEGIN:VEVENT
DTSTART;TZID=America/New_York:20250818T180000
DTEND;TZID=America/New_York:20250818T190000
DTSTAMP:20260422T015655
CREATED:20250722T122546Z
LAST-MODIFIED:20250722T122546Z
UID:25412-1755540000-1755543600@adventlutheranyork.org
SUMMARY:Advent Quilters
DESCRIPTION:
URL:https://adventlutheranyork.org/event/advent-quilters-42/
CATEGORIES:Advent Quilters
END:VEVENT
BEGIN:VEVENT
DTSTART;TZID=America/New_York:20250823T083000
DTEND;TZID=America/New_York:20250823T113000
DTSTAMP:20260422T015655
CREATED:20250722T122713Z
LAST-MODIFIED:20250722T122713Z
UID:25414-1755937800-1755948600@adventlutheranyork.org
SUMMARY:YJSO Auditions
DESCRIPTION:
URL:https://adventlutheranyork.org/event/yjso-auditions/
CATEGORIES:Community
END:VEVENT
BEGIN:VEVENT
DTSTART;TZID=America/New_York:20250823T100000
DTEND;TZID=America/New_York:20250823T230000
DTSTAMP:20260422T015655
CREATED:20250722T122756Z
LAST-MODIFIED:20250722T122756Z
UID:25416-1755943200-1755990000@adventlutheranyork.org
SUMMARY:Advent Crafters
DESCRIPTION:
URL:https://adventlutheranyork.org/event/advent-crafters-13/
CATEGORIES:Advent Crafters
END:VEVENT
BEGIN:VEVENT
DTSTART;VALUE=DATE:20250824
DTEND;VALUE=DATE:20250825
DTSTAMP:20260422T015655
CREATED:20250722T122910Z
LAST-MODIFIED:20250722T122910Z
UID:25418-1755993600-1756079999@adventlutheranyork.org
SUMMARY:Coffee Social Training (following each service)
DESCRIPTION:
URL:https://adventlutheranyork.org/event/coffee-social-training-following-each-service/
END:VEVENT
BEGIN:VEVENT
DTSTART;TZID=America/New_York:20250824T083000
DTEND;TZID=America/New_York:20250824T093000
DTSTAMP:20260422T015655
CREATED:20250722T123207Z
LAST-MODIFIED:20250722T123207Z
UID:25420-1756024200-1756027800@adventlutheranyork.org
SUMMARY:Worship Service
DESCRIPTION:
URL:https://adventlutheranyork.org/event/worship-service-162/
CATEGORIES:Services
END:VEVENT
BEGIN:VEVENT
DTSTART;TZID=America/New_York:20250824T110000
DTEND;TZID=America/New_York:20250824T120000
DTSTAMP:20260422T015655
CREATED:20250722T123328Z
LAST-MODIFIED:20250722T123328Z
UID:25422-1756033200-1756036800@adventlutheranyork.org
SUMMARY:Worship Service
DESCRIPTION:
URL:https://adventlutheranyork.org/event/worship-service-163/
CATEGORIES:Services
END:VEVENT
BEGIN:VEVENT
DTSTART;TZID=America/New_York:20250824T111500
DTEND;TZID=America/New_York:20250824T120000
DTSTAMP:20260422T015655
CREATED:20250722T123513Z
LAST-MODIFIED:20250722T123513Z
UID:25424-1756034100-1756036800@adventlutheranyork.org
SUMMARY:Contemporary Worship Service
DESCRIPTION:
URL:https://adventlutheranyork.org/event/contemporary-worship-service-43/
CATEGORIES:Services
END:VEVENT
BEGIN:VEVENT
DTSTART;TZID=America/New_York:20250824T160000
DTEND;TZID=America/New_York:20250824T180000
DTSTAMP:20260422T015655
CREATED:20250722T123609Z
LAST-MODIFIED:20250722T123609Z
UID:25426-1756051200-1756058400@adventlutheranyork.org
SUMMARY:Youth Group Family Picnic at Friendly Acres
DESCRIPTION:
URL:https://adventlutheranyork.org/event/youth-group-family-picnic-at-friendly-acres/
CATEGORIES:Youth Ministry
END:VEVENT
BEGIN:VEVENT
DTSTART;TZID=America/New_York:20250826T110000
DTEND;TZID=America/New_York:20250826T120000
DTSTAMP:20260422T015655
CREATED:20250722T123649Z
LAST-MODIFIED:20250722T123649Z
UID:25428-1756206000-1756209600@adventlutheranyork.org
SUMMARY:Brown Baggers
DESCRIPTION:
URL:https://adventlutheranyork.org/event/brown-baggers-36/
CATEGORIES:Brown Baggers
END:VEVENT
BEGIN:VEVENT
DTSTART;TZID=America/New_York:20250826T190000
DTEND;TZID=America/New_York:20250826T200000
DTSTAMP:20260422T015655
CREATED:20250722T123804Z
LAST-MODIFIED:20250722T123804Z
UID:25430-1756234800-1756238400@adventlutheranyork.org
SUMMARY:Finance Committee Meeting
DESCRIPTION:
URL:https://adventlutheranyork.org/event/finance-committee-meeting-8/
CATEGORIES:Committee
END:VEVENT
BEGIN:VEVENT
DTSTART;TZID=America/New_York:20250831T083000
DTEND;TZID=America/New_York:20250831T213000
DTSTAMP:20260422T015655
CREATED:20250722T123941Z
LAST-MODIFIED:20250722T123941Z
UID:25432-1756629000-1756675800@adventlutheranyork.org
SUMMARY:Worship Service
DESCRIPTION:
URL:https://adventlutheranyork.org/event/worship-service-164/
CATEGORIES:Services
END:VEVENT
END:VCALENDAR