BEGIN:VCALENDAR
VERSION:2.0
PRODID:-//Advent Lutheran Church - ECPv6.15.20//NONSGML v1.0//EN
CALSCALE:GREGORIAN
METHOD:PUBLISH
X-WR-CALNAME:Advent Lutheran Church
X-ORIGINAL-URL:https://adventlutheranyork.org
X-WR-CALDESC:Events for Advent Lutheran Church
REFRESH-INTERVAL;VALUE=DURATION:PT1H
X-Robots-Tag:noindex
X-PUBLISHED-TTL:PT1H
BEGIN:VTIMEZONE
TZID:America/New_York
BEGIN:DAYLIGHT
TZOFFSETFROM:-0500
TZOFFSETTO:-0400
TZNAME:EDT
DTSTART:20230312T070000
END:DAYLIGHT
BEGIN:STANDARD
TZOFFSETFROM:-0400
TZOFFSETTO:-0500
TZNAME:EST
DTSTART:20231105T060000
END:STANDARD
BEGIN:DAYLIGHT
TZOFFSETFROM:-0500
TZOFFSETTO:-0400
TZNAME:EDT
DTSTART:20240310T070000
END:DAYLIGHT
BEGIN:STANDARD
TZOFFSETFROM:-0400
TZOFFSETTO:-0500
TZNAME:EST
DTSTART:20241103T060000
END:STANDARD
BEGIN:DAYLIGHT
TZOFFSETFROM:-0500
TZOFFSETTO:-0400
TZNAME:EDT
DTSTART:20250309T070000
END:DAYLIGHT
BEGIN:STANDARD
TZOFFSETFROM:-0400
TZOFFSETTO:-0500
TZNAME:EST
DTSTART:20251102T060000
END:STANDARD
BEGIN:DAYLIGHT
TZOFFSETFROM:-0500
TZOFFSETTO:-0400
TZNAME:EDT
DTSTART:20260308T070000
END:DAYLIGHT
BEGIN:STANDARD
TZOFFSETFROM:-0400
TZOFFSETTO:-0500
TZNAME:EST
DTSTART:20261101T060000
END:STANDARD
END:VTIMEZONE
BEGIN:VEVENT
DTSTART;VALUE=DATE:20250101
DTEND;VALUE=DATE:20250102
DTSTAMP:20260423T074659
CREATED:20241231T020015Z
LAST-MODIFIED:20241231T020015Z
UID:24476-1735689600-1735775999@adventlutheranyork.org
SUMMARY:Office Closed for New Years Day
DESCRIPTION:
URL:https://adventlutheranyork.org/event/office-closed-for-new-years-day/
CATEGORIES:Administration
END:VEVENT
BEGIN:VEVENT
DTSTART;TZID=America/New_York:20241231T120000
DTEND;TZID=America/New_York:20241231T120000
DTSTAMP:20260423T074659
CREATED:20241216T185147Z
LAST-MODIFIED:20241216T185147Z
UID:24468-1735646400-1735646400@adventlutheranyork.org
SUMMARY:Office Closes
DESCRIPTION:
URL:https://adventlutheranyork.org/event/office-closes-2/
CATEGORIES:Administration
END:VEVENT
BEGIN:VEVENT
DTSTART;TZID=America/New_York:20241229T100000
DTEND;TZID=America/New_York:20241229T110000
DTSTAMP:20260423T074659
CREATED:20241216T185119Z
LAST-MODIFIED:20241216T185119Z
UID:24466-1735466400-1735470000@adventlutheranyork.org
SUMMARY:Worship Service
DESCRIPTION:
URL:https://adventlutheranyork.org/event/worship-service-97/
LOCATION:Advent Lutheran Church\, 1775 East Market Street\, York\, PA\, 17402\, United States
CATEGORIES:Services
END:VEVENT
BEGIN:VEVENT
DTSTART;TZID=America/New_York:20241229T090000
DTEND;TZID=America/New_York:20241229T100000
DTSTAMP:20260423T074659
CREATED:20241216T185042Z
LAST-MODIFIED:20241216T185042Z
UID:24464-1735462800-1735466400@adventlutheranyork.org
SUMMARY:Sunday School
DESCRIPTION:
URL:https://adventlutheranyork.org/event/sunday-school-36/
LOCATION:Advent Lutheran Church\, 1775 East Market Street\, York\, PA\, 17402\, United States
CATEGORIES:Christian Education
END:VEVENT
BEGIN:VEVENT
DTSTART;VALUE=DATE:20241229
DTEND;VALUE=DATE:20241230
DTSTAMP:20260423T074659
CREATED:20241216T185006Z
LAST-MODIFIED:20241216T185006Z
UID:24462-1735430400-1735516799@adventlutheranyork.org
SUMMARY:Christmas 1
DESCRIPTION:
URL:https://adventlutheranyork.org/event/christmas-1-2/
END:VEVENT
BEGIN:VEVENT
DTSTART;VALUE=DATE:20241226
DTEND;VALUE=DATE:20241227
DTSTAMP:20260423T074659
CREATED:20241216T184939Z
LAST-MODIFIED:20241216T184939Z
UID:24460-1735171200-1735257599@adventlutheranyork.org
SUMMARY:Office Closed
DESCRIPTION:
URL:https://adventlutheranyork.org/event/office-closed-3/
CATEGORIES:Administration
END:VEVENT
BEGIN:VEVENT
DTSTART;VALUE=DATE:20241225
DTEND;VALUE=DATE:20241226
DTSTAMP:20260423T074659
CREATED:20241216T184914Z
LAST-MODIFIED:20241216T184914Z
UID:24458-1735084800-1735171199@adventlutheranyork.org
SUMMARY:Church Office Closed
DESCRIPTION:
URL:https://adventlutheranyork.org/event/church-office-closed-3/
CATEGORIES:Holiday,Services
END:VEVENT
BEGIN:VEVENT
DTSTART;TZID=America/New_York:20241224T200000
DTEND;TZID=America/New_York:20241224T210000
DTSTAMP:20260423T074659
CREATED:20241216T184803Z
LAST-MODIFIED:20241216T184803Z
UID:24454-1735070400-1735074000@adventlutheranyork.org
SUMMARY:Christmas Eve Service
DESCRIPTION:
URL:https://adventlutheranyork.org/event/christmas-eve-service/
LOCATION:Advent Lutheran Church\, 1775 East Market Street\, York\, PA\, 17402\, United States
CATEGORIES:Holiday,Services
END:VEVENT
BEGIN:VEVENT
DTSTART;TZID=America/New_York:20241224T160000
DTEND;TZID=America/New_York:20241224T170000
DTSTAMP:20260423T074659
CREATED:20241216T184708Z
LAST-MODIFIED:20241216T184708Z
UID:24452-1735056000-1735059600@adventlutheranyork.org
SUMMARY:Family Christmas Eve Service
DESCRIPTION:
URL:https://adventlutheranyork.org/event/family-christmas-eve-service/
LOCATION:Advent Lutheran Church\, 1775 East Market Street\, York\, PA\, 17402\, United States
CATEGORIES:Holiday,Services
END:VEVENT
BEGIN:VEVENT
DTSTART;TZID=America/New_York:20241224T120000
DTEND;TZID=America/New_York:20241224T120000
DTSTAMP:20260423T074659
CREATED:20241216T184630Z
LAST-MODIFIED:20241216T184630Z
UID:24450-1735041600-1735041600@adventlutheranyork.org
SUMMARY:Office Closes
DESCRIPTION:
URL:https://adventlutheranyork.org/event/office-closes/
CATEGORIES:Administration
END:VEVENT
BEGIN:VEVENT
DTSTART;VALUE=DATE:20241224
DTEND;VALUE=DATE:20241225
DTSTAMP:20260423T074659
CREATED:20241216T184543Z
LAST-MODIFIED:20241216T184543Z
UID:24448-1734998400-1735084799@adventlutheranyork.org
SUMMARY:Christmas Eve
DESCRIPTION:
URL:https://adventlutheranyork.org/event/christmas-eve/
END:VEVENT
BEGIN:VEVENT
DTSTART;TZID=America/New_York:20241222T160000
DTEND;TZID=America/New_York:20241222T170000
DTSTAMP:20260423T074659
CREATED:20241216T184458Z
LAST-MODIFIED:20241216T184458Z
UID:24446-1734883200-1734886800@adventlutheranyork.org
SUMMARY:Christmas Caroling
DESCRIPTION:
URL:https://adventlutheranyork.org/event/christmas-caroling/
CATEGORIES:Family Ministry,Holiday
END:VEVENT
BEGIN:VEVENT
DTSTART;TZID=America/New_York:20241222T140000
DTEND;TZID=America/New_York:20241222T150000
DTSTAMP:20260423T074659
CREATED:20241216T184415Z
LAST-MODIFIED:20241216T184415Z
UID:24444-1734876000-1734879600@adventlutheranyork.org
SUMMARY:Blue Christmas Service
DESCRIPTION:
URL:https://adventlutheranyork.org/event/blue-christmas-service/
LOCATION:Advent Lutheran Church\, 1775 East Market Street\, York\, PA\, 17402\, United States
CATEGORIES:Holiday,Services
END:VEVENT
BEGIN:VEVENT
DTSTART;TZID=America/New_York:20241222T111500
DTEND;TZID=America/New_York:20241222T120000
DTSTAMP:20260423T074659
CREATED:20241216T184333Z
LAST-MODIFIED:20241216T184333Z
UID:24442-1734866100-1734868800@adventlutheranyork.org
SUMMARY:Contemporary Worship Service
DESCRIPTION:
URL:https://adventlutheranyork.org/event/contemporary-worship-service-11/
LOCATION:Advent Lutheran Church\, 1775 East Market Street\, York\, PA\, 17402\, United States
CATEGORIES:Services
END:VEVENT
BEGIN:VEVENT
DTSTART;TZID=America/New_York:20241222T110000
DTEND;TZID=America/New_York:20241222T120000
DTSTAMP:20260423T074659
CREATED:20241216T184248Z
LAST-MODIFIED:20241216T184248Z
UID:24440-1734865200-1734868800@adventlutheranyork.org
SUMMARY:Worship Service
DESCRIPTION:
URL:https://adventlutheranyork.org/event/worship-service-96/
LOCATION:Advent Lutheran Church\, 1775 East Market Street\, York\, PA\, 17402\, United States
CATEGORIES:Services
END:VEVENT
BEGIN:VEVENT
DTSTART;TZID=America/New_York:20241222T094500
DTEND;TZID=America/New_York:20241222T104500
DTSTAMP:20260423T074659
CREATED:20241216T184151Z
LAST-MODIFIED:20241216T184151Z
UID:24438-1734860700-1734864300@adventlutheranyork.org
SUMMARY:Sunday School
DESCRIPTION:
URL:https://adventlutheranyork.org/event/sunday-school-35/
LOCATION:Advent Lutheran Church\, 1775 East Market Street\, York\, PA\, 17402\, United States
CATEGORIES:Christian Education
END:VEVENT
BEGIN:VEVENT
DTSTART;TZID=America/New_York:20241222T093000
DTEND;TZID=America/New_York:20241222T094500
DTSTAMP:20260423T074659
CREATED:20241216T184027Z
LAST-MODIFIED:20241216T184027Z
UID:24436-1734859800-1734860700@adventlutheranyork.org
SUMMARY:Youth Choir Rehearsal
DESCRIPTION:
URL:https://adventlutheranyork.org/event/youth-choir-rehearsal-16/
LOCATION:Advent Lutheran Church\, 1775 East Market Street\, York\, PA\, 17402\, United States
CATEGORIES:Music Ministry
END:VEVENT
BEGIN:VEVENT
DTSTART;TZID=America/New_York:20241222T083000
DTEND;TZID=America/New_York:20241222T093000
DTSTAMP:20260423T074659
CREATED:20241216T183940Z
LAST-MODIFIED:20241216T183940Z
UID:24434-1734856200-1734859800@adventlutheranyork.org
SUMMARY:Worship Service
DESCRIPTION:
URL:https://adventlutheranyork.org/event/worship-service-95/
LOCATION:Advent Lutheran Church\, 1775 East Market Street\, York\, PA\, 17402\, United States
CATEGORIES:Services
END:VEVENT
BEGIN:VEVENT
DTSTART;VALUE=DATE:20241222
DTEND;VALUE=DATE:20241223
DTSTAMP:20260423T074700
CREATED:20241216T183910Z
LAST-MODIFIED:20241216T183910Z
UID:24431-1734825600-1734911999@adventlutheranyork.org
SUMMARY:Advent 4
DESCRIPTION:
URL:https://adventlutheranyork.org/event/advent-4-2/
LOCATION:Advent Lutheran Church\, 1775 East Market Street\, York\, PA\, 17402\, United States
END:VEVENT
BEGIN:VEVENT
DTSTART;TZID=America/New_York:20241220T100000
DTEND;TZID=America/New_York:20241220T110000
DTSTAMP:20260423T074700
CREATED:20241216T183727Z
LAST-MODIFIED:20241216T183727Z
UID:24429-1734688800-1734692400@adventlutheranyork.org
SUMMARY:Ladies Shares and Prayers
DESCRIPTION:
URL:https://adventlutheranyork.org/event/ladies-shares-and-prayers-4/
CATEGORIES:Ladies Shares and Prayers
END:VEVENT
BEGIN:VEVENT
DTSTART;TZID=America/New_York:20241219T190000
DTEND;TZID=America/New_York:20241219T200000
DTSTAMP:20260423T074700
CREATED:20241216T183643Z
LAST-MODIFIED:20241216T183643Z
UID:24427-1734634800-1734638400@adventlutheranyork.org
SUMMARY:Stewardship Committee Meeting
DESCRIPTION:
URL:https://adventlutheranyork.org/event/stewardship-committee-meeting-6/
LOCATION:Advent Lutheran Church\, 1775 East Market Street\, York\, PA\, 17402\, United States
CATEGORIES:Committee
END:VEVENT
BEGIN:VEVENT
DTSTART;TZID=America/New_York:20241219T180000
DTEND;TZID=America/New_York:20241219T190000
DTSTAMP:20260423T074700
CREATED:20241216T183603Z
LAST-MODIFIED:20241216T183603Z
UID:24425-1734631200-1734634800@adventlutheranyork.org
SUMMARY:Girl Scouts (FH & OH)
DESCRIPTION:
URL:https://adventlutheranyork.org/event/girl-scouts-fh-oh/
LOCATION:Advent Lutheran Church\, 1775 East Market Street\, York\, PA\, 17402\, United States
CATEGORIES:Community
END:VEVENT
BEGIN:VEVENT
DTSTART;TZID=America/New_York:20241218T190000
DTEND;TZID=America/New_York:20241218T203000
DTSTAMP:20260423T074700
CREATED:20241216T183512Z
LAST-MODIFIED:20241216T183512Z
UID:24423-1734548400-1734553800@adventlutheranyork.org
SUMMARY:Adult Choir Rehearsal
DESCRIPTION:
URL:https://adventlutheranyork.org/event/adult-choir-rehearsal-38/
LOCATION:Advent Lutheran Church\, 1775 East Market Street\, York\, PA\, 17402\, United States
CATEGORIES:Music Ministry
END:VEVENT
BEGIN:VEVENT
DTSTART;TZID=America/New_York:20241218T180000
DTEND;TZID=America/New_York:20241218T190000
DTSTAMP:20260423T074700
CREATED:20241216T183419Z
LAST-MODIFIED:20241216T183419Z
UID:24421-1734544800-1734548400@adventlutheranyork.org
SUMMARY:Handbell Rehearsal
DESCRIPTION:
URL:https://adventlutheranyork.org/event/handbell-rehearsal-5/
LOCATION:Advent Lutheran Church\, 1775 East Market Street\, York\, PA\, 17402\, United States
CATEGORIES:Music Ministry
END:VEVENT
BEGIN:VEVENT
DTSTART;TZID=America/New_York:20241216T183000
DTEND;TZID=America/New_York:20241216T193000
DTSTAMP:20260423T074700
CREATED:20241216T183335Z
LAST-MODIFIED:20241216T183335Z
UID:24419-1734373800-1734377400@adventlutheranyork.org
SUMMARY:Council Meeting
DESCRIPTION:
URL:https://adventlutheranyork.org/event/council-meeting-10/
LOCATION:Advent Lutheran Church\, 1775 East Market Street\, York\, PA\, 17402\, United States
CATEGORIES:Administration
END:VEVENT
BEGIN:VEVENT
DTSTART;TZID=America/New_York:20241216T163000
DTEND;TZID=America/New_York:20241216T170000
DTSTAMP:20260423T074700
CREATED:20241216T183159Z
LAST-MODIFIED:20241216T183159Z
UID:24417-1734366600-1734368400@adventlutheranyork.org
SUMMARY:Soccer Shots (FH)
DESCRIPTION:
URL:https://adventlutheranyork.org/event/soccer-shots-fh/
LOCATION:Advent Lutheran Church\, 1775 East Market Street\, York\, PA\, 17402\, United States
CATEGORIES:Community
END:VEVENT
BEGIN:VEVENT
DTSTART;TZID=America/New_York:20241216T090000
DTEND;TZID=America/New_York:20241216T100000
DTSTAMP:20260423T074700
CREATED:20241216T183058Z
LAST-MODIFIED:20241216T183058Z
UID:24415-1734339600-1734343200@adventlutheranyork.org
SUMMARY:Joy in the Morning
DESCRIPTION:
URL:https://adventlutheranyork.org/event/joy-in-the-morning-16/
CATEGORIES:Joy in the Morning
END:VEVENT
BEGIN:VEVENT
DTSTART;TZID=America/New_York:20241215T111500
DTEND;TZID=America/New_York:20241215T120000
DTSTAMP:20260423T074700
CREATED:20241216T183007Z
LAST-MODIFIED:20241216T183007Z
UID:24413-1734261300-1734264000@adventlutheranyork.org
SUMMARY:Contemporary Worship Service
DESCRIPTION:
URL:https://adventlutheranyork.org/event/contemporary-worship-service-10/
CATEGORIES:Services
END:VEVENT
BEGIN:VEVENT
DTSTART;TZID=America/New_York:20241215T110000
DTEND;TZID=America/New_York:20241215T120000
DTSTAMP:20260423T074700
CREATED:20241216T182848Z
LAST-MODIFIED:20241216T182848Z
UID:24411-1734260400-1734264000@adventlutheranyork.org
SUMMARY:Worship Service
DESCRIPTION:
URL:https://adventlutheranyork.org/event/worship-service-94/
LOCATION:Advent Lutheran Church\, 1775 East Market Street\, York\, PA\, 17402\, United States
CATEGORIES:Services
END:VEVENT
BEGIN:VEVENT
DTSTART;TZID=America/New_York:20241215T093000
DTEND;TZID=America/New_York:20241215T094500
DTSTAMP:20260423T074700
CREATED:20241216T181213Z
LAST-MODIFIED:20241216T181213Z
UID:24407-1734255000-1734255900@adventlutheranyork.org
SUMMARY:Youth Choir Rehearsal
DESCRIPTION:
URL:https://adventlutheranyork.org/event/youth-choir-rehearsal-15/
LOCATION:Advent Lutheran Church\, 1775 East Market Street\, York\, PA\, 17402\, United States
CATEGORIES:Music Ministry
END:VEVENT
END:VCALENDAR