BEGIN:VCALENDAR
VERSION:2.0
PRODID:-//Advent Lutheran Church - ECPv6.15.20//NONSGML v1.0//EN
CALSCALE:GREGORIAN
METHOD:PUBLISH
X-ORIGINAL-URL:https://adventlutheranyork.org
X-WR-CALDESC:Events for Advent Lutheran Church
REFRESH-INTERVAL;VALUE=DURATION:PT1H
X-Robots-Tag:noindex
X-PUBLISHED-TTL:PT1H
BEGIN:VTIMEZONE
TZID:America/New_York
BEGIN:DAYLIGHT
TZOFFSETFROM:-0500
TZOFFSETTO:-0400
TZNAME:EDT
DTSTART:20240310T070000
END:DAYLIGHT
BEGIN:STANDARD
TZOFFSETFROM:-0400
TZOFFSETTO:-0500
TZNAME:EST
DTSTART:20241103T060000
END:STANDARD
BEGIN:DAYLIGHT
TZOFFSETFROM:-0500
TZOFFSETTO:-0400
TZNAME:EDT
DTSTART:20250309T070000
END:DAYLIGHT
BEGIN:STANDARD
TZOFFSETFROM:-0400
TZOFFSETTO:-0500
TZNAME:EST
DTSTART:20251102T060000
END:STANDARD
BEGIN:DAYLIGHT
TZOFFSETFROM:-0500
TZOFFSETTO:-0400
TZNAME:EDT
DTSTART:20260308T070000
END:DAYLIGHT
BEGIN:STANDARD
TZOFFSETFROM:-0400
TZOFFSETTO:-0500
TZNAME:EST
DTSTART:20261101T060000
END:STANDARD
END:VTIMEZONE
BEGIN:VEVENT
DTSTART;TZID=America/New_York:20250528T190000
DTEND;TZID=America/New_York:20250528T203000
DTSTAMP:20260422T222537
CREATED:20250428T165009Z
LAST-MODIFIED:20250428T165009Z
UID:25196-1748458800-1748464200@adventlutheranyork.org
SUMMARY:Adult Choir Rehearsal
DESCRIPTION:
URL:https://adventlutheranyork.org/event/adult-choir-rehearsal-58/
CATEGORIES:Music Ministry
END:VEVENT
BEGIN:VEVENT
DTSTART;TZID=America/New_York:20250531T090000
DTEND;TZID=America/New_York:20250531T110000
DTSTAMP:20260422T222537
CREATED:20250428T165105Z
LAST-MODIFIED:20250428T165105Z
UID:25198-1748682000-1748689200@adventlutheranyork.org
SUMMARY:Junior/Senior High Youth Group- Work Day @ FA
DESCRIPTION:
URL:https://adventlutheranyork.org/event/junior-senior-high-youth-group-work-day-fa/
CATEGORIES:Youth Ministry
END:VEVENT
BEGIN:VEVENT
DTSTART;VALUE=DATE:20250601
DTEND;VALUE=DATE:20250602
DTSTAMP:20260422T222537
CREATED:20250525T153944Z
LAST-MODIFIED:20250525T153944Z
UID:25269-1748736000-1748822399@adventlutheranyork.org
SUMMARY:Easter 7
DESCRIPTION:
URL:https://adventlutheranyork.org/event/easter-7-3/
END:VEVENT
BEGIN:VEVENT
DTSTART;TZID=America/New_York:20250601T083000
DTEND;TZID=America/New_York:20250601T093000
DTSTAMP:20260422T222537
CREATED:20250525T152329Z
LAST-MODIFIED:20250525T152329Z
UID:25223-1748766600-1748770200@adventlutheranyork.org
SUMMARY:Worship Service
DESCRIPTION:
URL:https://adventlutheranyork.org/event/worship-service-143/
CATEGORIES:Services
END:VEVENT
BEGIN:VEVENT
DTSTART;TZID=America/New_York:20250601T094500
DTEND;TZID=America/New_York:20250601T104500
DTSTAMP:20260422T222537
CREATED:20250525T152416Z
LAST-MODIFIED:20250525T152416Z
UID:25225-1748771100-1748774700@adventlutheranyork.org
SUMMARY:Pancakes with the Pastors
DESCRIPTION:
URL:https://adventlutheranyork.org/event/pancakes-with-the-pastors/
CATEGORIES:Family Ministry
END:VEVENT
BEGIN:VEVENT
DTSTART;TZID=America/New_York:20250601T110000
DTEND;TZID=America/New_York:20250601T120000
DTSTAMP:20260422T222537
CREATED:20250525T152450Z
LAST-MODIFIED:20250525T152450Z
UID:25227-1748775600-1748779200@adventlutheranyork.org
SUMMARY:Worship Service
DESCRIPTION:
URL:https://adventlutheranyork.org/event/worship-service-144/
CATEGORIES:Services
END:VEVENT
BEGIN:VEVENT
DTSTART;TZID=America/New_York:20250601T111500
DTEND;TZID=America/New_York:20250601T120000
DTSTAMP:20260422T222537
CREATED:20250525T152529Z
LAST-MODIFIED:20250525T152529Z
UID:25229-1748776500-1748779200@adventlutheranyork.org
SUMMARY:Contemporary Worship Service
DESCRIPTION:
URL:https://adventlutheranyork.org/event/contemporary-worship-service-32/
CATEGORIES:Services
END:VEVENT
BEGIN:VEVENT
DTSTART;TZID=America/New_York:20250604T090000
DTEND;TZID=America/New_York:20250604T100000
DTSTAMP:20260422T222537
CREATED:20250525T152631Z
LAST-MODIFIED:20250525T152631Z
UID:25231-1749027600-1749031200@adventlutheranyork.org
SUMMARY:Advent Quilters
DESCRIPTION:
URL:https://adventlutheranyork.org/event/advent-quilters-37/
CATEGORIES:Advent Quilters
END:VEVENT
BEGIN:VEVENT
DTSTART;TZID=America/New_York:20250604T190000
DTEND;TZID=America/New_York:20250604T200000
DTSTAMP:20260422T222537
CREATED:20250525T152716Z
LAST-MODIFIED:20250525T152716Z
UID:25233-1749063600-1749067200@adventlutheranyork.org
SUMMARY:Adult Choir Rehearsal
DESCRIPTION:
URL:https://adventlutheranyork.org/event/adult-choir-rehearsal-59/
CATEGORIES:Music Ministry
END:VEVENT
BEGIN:VEVENT
DTSTART;TZID=America/New_York:20250605T180000
DTEND;TZID=America/New_York:20250605T190000
DTSTAMP:20260422T222537
CREATED:20250525T152804Z
LAST-MODIFIED:20250525T152804Z
UID:25235-1749146400-1749150000@adventlutheranyork.org
SUMMARY:Girl Scouts
DESCRIPTION:
URL:https://adventlutheranyork.org/event/girl-scouts-13/
CATEGORIES:Community
END:VEVENT
BEGIN:VEVENT
DTSTART;TZID=America/New_York:20250605T180000
DTEND;TZID=America/New_York:20250605T190000
DTSTAMP:20260422T222537
CREATED:20250525T152841Z
LAST-MODIFIED:20250525T152841Z
UID:25237-1749146400-1749150000@adventlutheranyork.org
SUMMARY:Worship Band Rehearsal
DESCRIPTION:
URL:https://adventlutheranyork.org/event/worship-band-rehearsal-5/
CATEGORIES:Music Ministry
END:VEVENT
BEGIN:VEVENT
DTSTART;VALUE=DATE:20250608
DTEND;VALUE=DATE:20250609
DTSTAMP:20260422T222537
CREATED:20250525T152910Z
LAST-MODIFIED:20250525T152910Z
UID:25239-1749340800-1749427199@adventlutheranyork.org
SUMMARY:Pentecost
DESCRIPTION:
URL:https://adventlutheranyork.org/event/pentecost-2/
END:VEVENT
BEGIN:VEVENT
DTSTART;VALUE=DATE:20250608
DTEND;VALUE=DATE:20250609
DTSTAMP:20260422T222537
CREATED:20250525T152943Z
LAST-MODIFIED:20250525T152943Z
UID:25241-1749340800-1749427199@adventlutheranyork.org
SUMMARY:Blessing of the Graduates
DESCRIPTION:
URL:https://adventlutheranyork.org/event/blessing-of-the-graduates/
END:VEVENT
BEGIN:VEVENT
DTSTART;VALUE=DATE:20250608
DTEND;VALUE=DATE:20250609
DTSTAMP:20260422T222537
CREATED:20250525T153014Z
LAST-MODIFIED:20250525T153014Z
UID:25243-1749340800-1749427199@adventlutheranyork.org
SUMMARY:Fair Trade Sunday
DESCRIPTION:
URL:https://adventlutheranyork.org/event/fair-trade-sunday-12/
END:VEVENT
BEGIN:VEVENT
DTSTART;TZID=America/New_York:20250608T083000
DTEND;TZID=America/New_York:20250608T093000
DTSTAMP:20260422T222537
CREATED:20250525T153053Z
LAST-MODIFIED:20250525T153053Z
UID:25245-1749371400-1749375000@adventlutheranyork.org
SUMMARY:Worship Service
DESCRIPTION:
URL:https://adventlutheranyork.org/event/worship-service-145/
CATEGORIES:Services
END:VEVENT
BEGIN:VEVENT
DTSTART;TZID=America/New_York:20250608T110000
DTEND;TZID=America/New_York:20250608T120000
DTSTAMP:20260422T222537
CREATED:20250525T153133Z
LAST-MODIFIED:20250525T153133Z
UID:25247-1749380400-1749384000@adventlutheranyork.org
SUMMARY:Worship Service
DESCRIPTION:
URL:https://adventlutheranyork.org/event/worship-service-146/
CATEGORIES:Services
END:VEVENT
BEGIN:VEVENT
DTSTART;TZID=America/New_York:20250608T110000
DTEND;TZID=America/New_York:20250608T120000
DTSTAMP:20260422T222537
CREATED:20250525T153207Z
LAST-MODIFIED:20250525T153207Z
UID:25249-1749380400-1749384000@adventlutheranyork.org
SUMMARY:Contemporary Worship Service
DESCRIPTION:
URL:https://adventlutheranyork.org/event/contemporary-worship-service-33/
CATEGORIES:Services
END:VEVENT
BEGIN:VEVENT
DTSTART;TZID=America/New_York:20250609T180000
DTEND;TZID=America/New_York:20250609T190000
DTSTAMP:20260422T222537
CREATED:20250525T153251Z
LAST-MODIFIED:20250525T153251Z
UID:25251-1749492000-1749495600@adventlutheranyork.org
SUMMARY:Advent Quilters
DESCRIPTION:
URL:https://adventlutheranyork.org/event/advent-quilters-38/
CATEGORIES:Advent Quilters
END:VEVENT
BEGIN:VEVENT
DTSTART;TZID=America/New_York:20250609T180000
DTEND;TZID=America/New_York:20250609T190000
DTSTAMP:20260422T222537
CREATED:20250525T153332Z
LAST-MODIFIED:20250525T153332Z
UID:25253-1749492000-1749495600@adventlutheranyork.org
SUMMARY:Cancer Support Group
DESCRIPTION:
URL:https://adventlutheranyork.org/event/cancer-support-group-10/
CATEGORIES:Cancer Support,Community
END:VEVENT
BEGIN:VEVENT
DTSTART;TZID=America/New_York:20250609T190000
DTEND;TZID=America/New_York:20250609T200000
DTSTAMP:20260422T222537
CREATED:20250602T222122Z
LAST-MODIFIED:20250602T222122Z
UID:25300-1749495600-1749499200@adventlutheranyork.org
SUMMARY:100th Anniversary Committee Meeting
DESCRIPTION:
URL:https://adventlutheranyork.org/event/100th-anniversary-committee-meeting/
CATEGORIES:Committee
END:VEVENT
BEGIN:VEVENT
DTSTART;TZID=America/New_York:20250610T110000
DTEND;TZID=America/New_York:20250610T120000
DTSTAMP:20260422T222537
CREATED:20250525T153409Z
LAST-MODIFIED:20250525T153409Z
UID:25255-1749553200-1749556800@adventlutheranyork.org
SUMMARY:Brown Baggers
DESCRIPTION:
URL:https://adventlutheranyork.org/event/brown-baggers-31/
CATEGORIES:Brown Baggers
END:VEVENT
BEGIN:VEVENT
DTSTART;TZID=America/New_York:20250610T183000
DTEND;TZID=America/New_York:20250610T193000
DTSTAMP:20260422T222537
CREATED:20250525T153457Z
LAST-MODIFIED:20250525T153457Z
UID:25257-1749580200-1749583800@adventlutheranyork.org
SUMMARY:Advent Book Club
DESCRIPTION:
URL:https://adventlutheranyork.org/event/advent-book-club-30/
CATEGORIES:Advent Book Club
END:VEVENT
BEGIN:VEVENT
DTSTART;TZID=America/New_York:20250611T190000
DTEND;TZID=America/New_York:20250611T200000
DTSTAMP:20260422T222537
CREATED:20250525T153543Z
LAST-MODIFIED:20250525T153543Z
UID:25259-1749668400-1749672000@adventlutheranyork.org
SUMMARY:Technology Committee Meeting
DESCRIPTION:
URL:https://adventlutheranyork.org/event/technology-committee-meeting/
CATEGORIES:Committee
END:VEVENT
BEGIN:VEVENT
DTSTART;TZID=America/New_York:20250612T113000
DTEND;TZID=America/New_York:20250612T123000
DTSTAMP:20260422T222537
CREATED:20250525T153640Z
LAST-MODIFIED:20250525T153640Z
UID:25261-1749727800-1749731400@adventlutheranyork.org
SUMMARY:Leisure Lunch at Marino's Restaurant
DESCRIPTION:
URL:https://adventlutheranyork.org/event/leisure-lunch-at-marinos-restaurant/
CATEGORIES:Leisure Group
END:VEVENT
BEGIN:VEVENT
DTSTART;TZID=America/New_York:20250612T183000
DTEND;TZID=America/New_York:20250612T193000
DTSTAMP:20260422T222537
CREATED:20250525T153725Z
LAST-MODIFIED:20250525T153725Z
UID:25263-1749753000-1749756600@adventlutheranyork.org
SUMMARY:Property Committee Meeting
DESCRIPTION:
URL:https://adventlutheranyork.org/event/property-committee-meeting-12/
CATEGORIES:Committee
END:VEVENT
BEGIN:VEVENT
DTSTART;TZID=America/New_York:20250614T080000
DTEND;TZID=America/New_York:20250614T090000
DTSTAMP:20260422T222537
CREATED:20250525T153812Z
LAST-MODIFIED:20250525T153812Z
UID:25265-1749888000-1749891600@adventlutheranyork.org
SUMMARY:Men's Bible Study
DESCRIPTION:
URL:https://adventlutheranyork.org/event/mens-bible-study-15/
CATEGORIES:Christian Education
END:VEVENT
BEGIN:VEVENT
DTSTART;TZID=America/New_York:20250614T090000
DTEND;TZID=America/New_York:20250614T100000
DTSTAMP:20260422T222537
CREATED:20250525T153850Z
LAST-MODIFIED:20250525T153850Z
UID:25267-1749891600-1749895200@adventlutheranyork.org
SUMMARY:Advent Crafters
DESCRIPTION:
URL:https://adventlutheranyork.org/event/advent-crafters-11/
CATEGORIES:Advent Crafters
END:VEVENT
BEGIN:VEVENT
DTSTART;VALUE=DATE:20250615
DTEND;VALUE=DATE:20250616
DTSTAMP:20260422T222537
CREATED:20250530T014048Z
LAST-MODIFIED:20250530T014048Z
UID:25271-1749945600-1750031999@adventlutheranyork.org
SUMMARY:Holy Trinity Sunday
DESCRIPTION:
URL:https://adventlutheranyork.org/event/holy-trinity-sunday-2/
END:VEVENT
BEGIN:VEVENT
DTSTART;VALUE=DATE:20250615
DTEND;VALUE=DATE:20250616
DTSTAMP:20260422T222537
CREATED:20250530T014207Z
LAST-MODIFIED:20250530T014207Z
UID:25273-1749945600-1750031999@adventlutheranyork.org
SUMMARY:Confirmation Camp Begins
DESCRIPTION:
URL:https://adventlutheranyork.org/event/confirmation-camp-begins/
CATEGORIES:Christian Education
END:VEVENT
BEGIN:VEVENT
DTSTART;TZID=America/New_York:20250615T083000
DTEND;TZID=America/New_York:20250615T093000
DTSTAMP:20260422T222537
CREATED:20250530T014353Z
LAST-MODIFIED:20250530T014353Z
UID:25275-1749976200-1749979800@adventlutheranyork.org
SUMMARY:Worship Service
DESCRIPTION:
URL:https://adventlutheranyork.org/event/worship-service-147/
CATEGORIES:Services
END:VEVENT
END:VCALENDAR