BEGIN:VCALENDAR
VERSION:2.0
PRODID:-//Advent Lutheran Church - ECPv6.15.20//NONSGML v1.0//EN
CALSCALE:GREGORIAN
METHOD:PUBLISH
X-WR-CALNAME:Advent Lutheran Church
X-ORIGINAL-URL:https://adventlutheranyork.org
X-WR-CALDESC:Events for Advent Lutheran Church
REFRESH-INTERVAL;VALUE=DURATION:PT1H
X-Robots-Tag:noindex
X-PUBLISHED-TTL:PT1H
BEGIN:VTIMEZONE
TZID:America/New_York
BEGIN:DAYLIGHT
TZOFFSETFROM:-0500
TZOFFSETTO:-0400
TZNAME:EDT
DTSTART:20230312T070000
END:DAYLIGHT
BEGIN:STANDARD
TZOFFSETFROM:-0400
TZOFFSETTO:-0500
TZNAME:EST
DTSTART:20231105T060000
END:STANDARD
BEGIN:DAYLIGHT
TZOFFSETFROM:-0500
TZOFFSETTO:-0400
TZNAME:EDT
DTSTART:20240310T070000
END:DAYLIGHT
BEGIN:STANDARD
TZOFFSETFROM:-0400
TZOFFSETTO:-0500
TZNAME:EST
DTSTART:20241103T060000
END:STANDARD
BEGIN:DAYLIGHT
TZOFFSETFROM:-0500
TZOFFSETTO:-0400
TZNAME:EDT
DTSTART:20250309T070000
END:DAYLIGHT
BEGIN:STANDARD
TZOFFSETFROM:-0400
TZOFFSETTO:-0500
TZNAME:EST
DTSTART:20251102T060000
END:STANDARD
END:VTIMEZONE
BEGIN:VEVENT
DTSTART;TZID=America/New_York:20241214T080000
DTEND;TZID=America/New_York:20241214T090000
DTSTAMP:20260425T194919
CREATED:20241216T180055Z
LAST-MODIFIED:20241216T180055Z
UID:24397-1734163200-1734166800@adventlutheranyork.org
SUMMARY:Men's Bible Study
DESCRIPTION:
URL:https://adventlutheranyork.org/event/mens-bible-study-9/
END:VEVENT
BEGIN:VEVENT
DTSTART;TZID=America/New_York:20241212T190000
DTEND;TZID=America/New_York:20241212T200000
DTSTAMP:20260425T194919
CREATED:20241216T175555Z
LAST-MODIFIED:20241216T175555Z
UID:24395-1734030000-1734033600@adventlutheranyork.org
SUMMARY:Worship & Music Committee Meeting
DESCRIPTION:
URL:https://adventlutheranyork.org/event/worship-music-committee-meeting-5/
CATEGORIES:Committee
END:VEVENT
BEGIN:VEVENT
DTSTART;TZID=America/New_York:20241212T183000
DTEND;TZID=America/New_York:20241212T193000
DTSTAMP:20260425T194919
CREATED:20241216T175515Z
LAST-MODIFIED:20241216T175515Z
UID:24393-1734028200-1734031800@adventlutheranyork.org
SUMMARY:Property Committee Meeting
DESCRIPTION:
URL:https://adventlutheranyork.org/event/property-committee-meeting-9/
LOCATION:Advent Lutheran Church\, 1775 East Market Street\, York\, PA\, 17402\, United States
CATEGORIES:Committee
END:VEVENT
BEGIN:VEVENT
DTSTART;TZID=America/New_York:20241212T113000
DTEND;TZID=America/New_York:20241212T123000
DTSTAMP:20260425T194919
CREATED:20241216T175349Z
LAST-MODIFIED:20241216T175349Z
UID:24391-1734003000-1734006600@adventlutheranyork.org
SUMMARY:Leisure Lunch at Olive Garden
DESCRIPTION:
URL:https://adventlutheranyork.org/event/leisure-lunch-at-olive-garden/
CATEGORIES:Leisure Group
END:VEVENT
BEGIN:VEVENT
DTSTART;TZID=America/New_York:20241211T190000
DTEND;TZID=America/New_York:20241211T203000
DTSTAMP:20260425T194919
CREATED:20241216T175251Z
LAST-MODIFIED:20241216T175251Z
UID:24389-1733943600-1733949000@adventlutheranyork.org
SUMMARY:Adult Choir Rehearsal
DESCRIPTION:
URL:https://adventlutheranyork.org/event/adult-choir-rehearsal-37/
LOCATION:Advent Lutheran Church\, 1775 East Market Street\, York\, PA\, 17402\, United States
CATEGORIES:Music Ministry
END:VEVENT
BEGIN:VEVENT
DTSTART;TZID=America/New_York:20241211T180000
DTEND;TZID=America/New_York:20241211T190000
DTSTAMP:20260425T194919
CREATED:20241216T175213Z
LAST-MODIFIED:20241216T175213Z
UID:24387-1733940000-1733943600@adventlutheranyork.org
SUMMARY:Handbell Rehearsal
DESCRIPTION:
URL:https://adventlutheranyork.org/event/handbell-rehearsal-4/
LOCATION:Advent Lutheran Church\, 1775 East Market Street\, York\, PA\, 17402\, United States
CATEGORIES:Music Ministry
END:VEVENT
BEGIN:VEVENT
DTSTART;TZID=America/New_York:20241211T090000
DTEND;TZID=America/New_York:20241211T220000
DTSTAMP:20260425T194919
CREATED:20241216T175110Z
LAST-MODIFIED:20241216T175110Z
UID:24385-1733907600-1733954400@adventlutheranyork.org
SUMMARY:Advent Quilters
DESCRIPTION:
URL:https://adventlutheranyork.org/event/advent-quilters-26/
LOCATION:Advent Lutheran Church\, 1775 East Market Street\, York\, PA\, 17402\, United States
CATEGORIES:Advent Quilters
END:VEVENT
BEGIN:VEVENT
DTSTART;TZID=America/New_York:20241210T170000
DTEND;TZID=America/New_York:20241210T180000
DTSTAMP:20260425T194919
CREATED:20241213T032111Z
LAST-MODIFIED:20241213T032111Z
UID:24380-1733850000-1733853600@adventlutheranyork.org
SUMMARY:Pressley Ridge
DESCRIPTION:
URL:https://adventlutheranyork.org/event/pressley-ridge/
CATEGORIES:Community
END:VEVENT
BEGIN:VEVENT
DTSTART;TZID=America/New_York:20241210T110000
DTEND;TZID=America/New_York:20241210T120000
DTSTAMP:20260425T194919
CREATED:20241213T031946Z
LAST-MODIFIED:20241213T031946Z
UID:24378-1733828400-1733832000@adventlutheranyork.org
SUMMARY:Brown Baggers
DESCRIPTION:
URL:https://adventlutheranyork.org/event/brown-baggers-21/
CATEGORIES:Brown Baggers
END:VEVENT
BEGIN:VEVENT
DTSTART;TZID=America/New_York:20241210T074500
DTEND;TZID=America/New_York:20241210T084500
DTSTAMP:20260425T194919
CREATED:20241213T031849Z
LAST-MODIFIED:20241213T031849Z
UID:24376-1733816700-1733820300@adventlutheranyork.org
SUMMARY:Good News and Brews
DESCRIPTION:
URL:https://adventlutheranyork.org/event/good-news-and-brews-6/
END:VEVENT
BEGIN:VEVENT
DTSTART;TZID=America/New_York:20241209T180000
DTEND;TZID=America/New_York:20241209T190000
DTSTAMP:20260425T194919
CREATED:20241213T031626Z
LAST-MODIFIED:20241213T031626Z
UID:24374-1733767200-1733770800@adventlutheranyork.org
SUMMARY:Cancer Support Group
DESCRIPTION:
URL:https://adventlutheranyork.org/event/cancer-support-group-4/
LOCATION:Advent Lutheran Church\, 1775 East Market Street\, York\, PA\, 17402\, United States
CATEGORIES:Cancer Support
END:VEVENT
BEGIN:VEVENT
DTSTART;TZID=America/New_York:20241209T180000
DTEND;TZID=America/New_York:20241209T190000
DTSTAMP:20260425T194919
CREATED:20241213T031544Z
LAST-MODIFIED:20241213T031544Z
UID:24372-1733767200-1733770800@adventlutheranyork.org
SUMMARY:Advent Quilters
DESCRIPTION:
URL:https://adventlutheranyork.org/event/advent-quilters-25/
LOCATION:Advent Lutheran Church\, 1775 East Market Street\, York\, PA\, 17402\, United States
CATEGORIES:Advent Quilters
END:VEVENT
BEGIN:VEVENT
DTSTART;TZID=America/New_York:20241209T163000
DTEND;TZID=America/New_York:20241209T173000
DTSTAMP:20260425T194919
CREATED:20241213T031252Z
LAST-MODIFIED:20241213T031252Z
UID:24370-1733761800-1733765400@adventlutheranyork.org
SUMMARY:Soccer Shots
DESCRIPTION:
URL:https://adventlutheranyork.org/event/soccer-shots-5/
LOCATION:Advent Lutheran Church\, 1775 East Market Street\, York\, PA\, 17402\, United States
CATEGORIES:Community
END:VEVENT
BEGIN:VEVENT
DTSTART;TZID=America/New_York:20241208T140000
DTEND;TZID=America/New_York:20241208T150000
DTSTAMP:20260425T194919
CREATED:20241213T031211Z
LAST-MODIFIED:20241213T031211Z
UID:24368-1733666400-1733670000@adventlutheranyork.org
SUMMARY:Twin Rose Band Concert
DESCRIPTION:
URL:https://adventlutheranyork.org/event/twin-rose-band-concert-2/
LOCATION:Advent Lutheran Church\, 1775 East Market Street\, York\, PA\, 17402\, United States
CATEGORIES:Community
END:VEVENT
BEGIN:VEVENT
DTSTART;TZID=America/New_York:20241208T111500
DTEND;TZID=America/New_York:20241208T120000
DTSTAMP:20260425T194919
CREATED:20241213T031118Z
LAST-MODIFIED:20241213T031118Z
UID:24366-1733656500-1733659200@adventlutheranyork.org
SUMMARY:Contemporary Worship Service
DESCRIPTION:
URL:https://adventlutheranyork.org/event/contemporary-worship-service-9/
LOCATION:Advent Lutheran Church\, 1775 East Market Street\, York\, PA\, 17402\, United States
END:VEVENT
BEGIN:VEVENT
DTSTART;TZID=America/New_York:20241208T110000
DTEND;TZID=America/New_York:20241208T120000
DTSTAMP:20260425T194920
CREATED:20241213T031019Z
LAST-MODIFIED:20241213T031019Z
UID:24364-1733655600-1733659200@adventlutheranyork.org
SUMMARY:Worship Service
DESCRIPTION:
URL:https://adventlutheranyork.org/event/worship-service-92/
LOCATION:Advent Lutheran Church\, 1775 East Market Street\, York\, PA\, 17402\, United States
CATEGORIES:Services
END:VEVENT
BEGIN:VEVENT
DTSTART;TZID=America/New_York:20241208T094500
DTEND;TZID=America/New_York:20241208T104500
DTSTAMP:20260425T194920
CREATED:20241213T030848Z
LAST-MODIFIED:20241213T030927Z
UID:24362-1733651100-1733654700@adventlutheranyork.org
SUMMARY:Sunday School
DESCRIPTION:
URL:https://adventlutheranyork.org/event/sunday-school-33/
LOCATION:Advent Lutheran Church\, 1775 East Market Street\, York\, PA\, 17402\, United States
CATEGORIES:Christian Education
END:VEVENT
BEGIN:VEVENT
DTSTART;TZID=America/New_York:20241208T093000
DTEND;TZID=America/New_York:20241208T094500
DTSTAMP:20260425T194920
CREATED:20241213T030609Z
LAST-MODIFIED:20241213T030609Z
UID:24360-1733650200-1733651100@adventlutheranyork.org
SUMMARY:Youth Choir Rehearsal
DESCRIPTION:
URL:https://adventlutheranyork.org/event/youth-choir-rehearsal-14/
LOCATION:Advent Lutheran Church\, 1775 East Market Street\, York\, PA\, 17402\, United States
CATEGORIES:Music Ministry
END:VEVENT
BEGIN:VEVENT
DTSTART;TZID=America/New_York:20241208T083000
DTEND;TZID=America/New_York:20241208T093000
DTSTAMP:20260425T194920
CREATED:20241213T030133Z
LAST-MODIFIED:20241213T030133Z
UID:24357-1733646600-1733650200@adventlutheranyork.org
SUMMARY:Worship Service
DESCRIPTION:
URL:https://adventlutheranyork.org/event/worship-service-91/
LOCATION:Advent Lutheran Church\, 1775 East Market Street\, York\, PA\, 17402\, United States
CATEGORIES:Services
END:VEVENT
BEGIN:VEVENT
DTSTART;VALUE=DATE:20241208
DTEND;VALUE=DATE:20241209
DTSTAMP:20260425T194920
CREATED:20241213T025954Z
LAST-MODIFIED:20241213T025954Z
UID:24355-1733616000-1733702399@adventlutheranyork.org
SUMMARY:Fair Trade Sunday
DESCRIPTION:
URL:https://adventlutheranyork.org/event/fair-trade-sunday-5/
END:VEVENT
BEGIN:VEVENT
DTSTART;VALUE=DATE:20241208
DTEND;VALUE=DATE:20241209
DTSTAMP:20260425T194920
CREATED:20241213T025928Z
LAST-MODIFIED:20241213T025928Z
UID:24352-1733616000-1733702399@adventlutheranyork.org
SUMMARY:Advent 2
DESCRIPTION:
URL:https://adventlutheranyork.org/event/advent-2-2/
END:VEVENT
BEGIN:VEVENT
DTSTART;TZID=America/New_York:20241207T130000
DTEND;TZID=America/New_York:20241207T150000
DTSTAMP:20260425T194920
CREATED:20241212T214243Z
LAST-MODIFIED:20241212T214243Z
UID:24350-1733576400-1733583600@adventlutheranyork.org
SUMMARY:Prayers & Stitches Christmas Tea
DESCRIPTION:
URL:https://adventlutheranyork.org/event/prayers-stitches-christmas-tea/
CATEGORIES:Prayers and Stitches
END:VEVENT
BEGIN:VEVENT
DTSTART;TZID=America/New_York:20241205T180000
DTEND;TZID=America/New_York:20241205T190000
DTSTAMP:20260425T194920
CREATED:20241212T214206Z
LAST-MODIFIED:20241212T214206Z
UID:24348-1733421600-1733425200@adventlutheranyork.org
SUMMARY:Girl Scouts
DESCRIPTION:
URL:https://adventlutheranyork.org/event/girl-scouts-3/
LOCATION:Advent Lutheran Church\, 1775 East Market Street\, York\, PA\, 17402\, United States
CATEGORIES:Community
END:VEVENT
BEGIN:VEVENT
DTSTART;TZID=America/New_York:20241204T190000
DTEND;TZID=America/New_York:20241204T203000
DTSTAMP:20260425T194920
CREATED:20241212T214122Z
LAST-MODIFIED:20241212T214122Z
UID:24345-1733338800-1733344200@adventlutheranyork.org
SUMMARY:Adult Choir Rehearsal
DESCRIPTION:
URL:https://adventlutheranyork.org/event/adult-choir-rehearsal-36/
LOCATION:Advent Lutheran Church\, 1775 East Market Street\, York\, PA\, 17402\, United States
CATEGORIES:Music Ministry
END:VEVENT
BEGIN:VEVENT
DTSTART;TZID=America/New_York:20241204T180000
DTEND;TZID=America/New_York:20241204T190000
DTSTAMP:20260425T194920
CREATED:20241212T214039Z
LAST-MODIFIED:20241212T214039Z
UID:24343-1733335200-1733338800@adventlutheranyork.org
SUMMARY:Handbell Rehearsal
DESCRIPTION:
URL:https://adventlutheranyork.org/event/handbell-rehearsal-3/
LOCATION:Advent Lutheran Church\, 1775 East Market Street\, York\, PA\, 17402\, United States
CATEGORIES:Music Ministry
END:VEVENT
BEGIN:VEVENT
DTSTART;TZID=America/New_York:20241204T090000
DTEND;TZID=America/New_York:20241204T100000
DTSTAMP:20260425T194920
CREATED:20241212T213905Z
LAST-MODIFIED:20241212T213905Z
UID:24341-1733302800-1733306400@adventlutheranyork.org
SUMMARY:Advent Quilters
DESCRIPTION:
URL:https://adventlutheranyork.org/event/advent-quilters-24/
LOCATION:Advent Lutheran Church\, 1775 East Market Street\, York\, PA\, 17402\, United States
CATEGORIES:Advent Quilters
END:VEVENT
BEGIN:VEVENT
DTSTART;TZID=America/New_York:20241203T193000
DTEND;TZID=America/New_York:20241203T203000
DTSTAMP:20260425T194920
CREATED:20241212T213804Z
LAST-MODIFIED:20241212T213804Z
UID:24339-1733254200-1733257800@adventlutheranyork.org
SUMMARY:Mutual Ministry Committee
DESCRIPTION:
URL:https://adventlutheranyork.org/event/mutual-ministry-committee/
LOCATION:Advent Lutheran Church\, 1775 East Market Street\, York\, PA\, 17402\, United States
CATEGORIES:Community
END:VEVENT
BEGIN:VEVENT
DTSTART;TZID=America/New_York:20241202T163000
DTEND;TZID=America/New_York:20241202T170000
DTSTAMP:20260425T194920
CREATED:20241212T213709Z
LAST-MODIFIED:20241212T213709Z
UID:24337-1733157000-1733158800@adventlutheranyork.org
SUMMARY:Soccer Shots
DESCRIPTION:
URL:https://adventlutheranyork.org/event/soccer-shots-4/
CATEGORIES:Community
END:VEVENT
BEGIN:VEVENT
DTSTART;TZID=America/New_York:20241202T090000
DTEND;TZID=America/New_York:20241202T100000
DTSTAMP:20260425T194920
CREATED:20241212T213511Z
LAST-MODIFIED:20241212T213511Z
UID:24335-1733130000-1733133600@adventlutheranyork.org
SUMMARY:Joy in the Morning
DESCRIPTION:
URL:https://adventlutheranyork.org/event/joy-in-the-morning-15/
CATEGORIES:Joy in the Morning
END:VEVENT
BEGIN:VEVENT
DTSTART;TZID=America/New_York:20241201T100000
DTEND;TZID=America/New_York:20241201T110000
DTSTAMP:20260425T194920
CREATED:20241212T213436Z
LAST-MODIFIED:20241212T213436Z
UID:24333-1733047200-1733050800@adventlutheranyork.org
SUMMARY:Combined Worship Service
DESCRIPTION:
URL:https://adventlutheranyork.org/event/combined-worship-service-3/
LOCATION:Advent Lutheran Church\, 1775 East Market Street\, York\, PA\, 17402\, United States
CATEGORIES:Services
END:VEVENT
END:VCALENDAR