BEGIN:VCALENDAR
VERSION:2.0
PRODID:-//Advent Lutheran Church - ECPv6.15.20//NONSGML v1.0//EN
CALSCALE:GREGORIAN
METHOD:PUBLISH
X-ORIGINAL-URL:https://adventlutheranyork.org
X-WR-CALDESC:Events for Advent Lutheran Church
REFRESH-INTERVAL;VALUE=DURATION:PT1H
X-Robots-Tag:noindex
X-PUBLISHED-TTL:PT1H
BEGIN:VTIMEZONE
TZID:America/New_York
BEGIN:DAYLIGHT
TZOFFSETFROM:-0500
TZOFFSETTO:-0400
TZNAME:EDT
DTSTART:20240310T070000
END:DAYLIGHT
BEGIN:STANDARD
TZOFFSETFROM:-0400
TZOFFSETTO:-0500
TZNAME:EST
DTSTART:20241103T060000
END:STANDARD
BEGIN:DAYLIGHT
TZOFFSETFROM:-0500
TZOFFSETTO:-0400
TZNAME:EDT
DTSTART:20250309T070000
END:DAYLIGHT
BEGIN:STANDARD
TZOFFSETFROM:-0400
TZOFFSETTO:-0500
TZNAME:EST
DTSTART:20251102T060000
END:STANDARD
BEGIN:DAYLIGHT
TZOFFSETFROM:-0500
TZOFFSETTO:-0400
TZNAME:EDT
DTSTART:20260308T070000
END:DAYLIGHT
BEGIN:STANDARD
TZOFFSETFROM:-0400
TZOFFSETTO:-0500
TZNAME:EST
DTSTART:20261101T060000
END:STANDARD
END:VTIMEZONE
BEGIN:VEVENT
DTSTART;TZID=America/New_York:20251030T183000
DTEND;TZID=America/New_York:20251030T193000
DTSTAMP:20260423T034655
CREATED:20250925T162517Z
LAST-MODIFIED:20250925T162517Z
UID:25707-1761849000-1761852600@adventlutheranyork.org
SUMMARY:Pressly Ridge in FH
DESCRIPTION:
URL:https://adventlutheranyork.org/event/pressly-ridge-in-fh/
CATEGORIES:Community
END:VEVENT
BEGIN:VEVENT
DTSTART;TZID=America/New_York:20251030T183000
DTEND;TZID=America/New_York:20251030T193000
DTSTAMP:20260423T034655
CREATED:20250925T163248Z
LAST-MODIFIED:20250925T163248Z
UID:25712-1761849000-1761852600@adventlutheranyork.org
SUMMARY:Finance Committee Meeting
DESCRIPTION:
URL:https://adventlutheranyork.org/event/finance-committee-meeting-10/
CATEGORIES:Committee
END:VEVENT
BEGIN:VEVENT
DTSTART;TZID=America/New_York:20251101T083000
DTEND;TZID=America/New_York:20251101T103000
DTSTAMP:20260423T034655
CREATED:20251022T174533Z
LAST-MODIFIED:20251022T174533Z
UID:25757-1761985800-1761993000@adventlutheranyork.org
SUMMARY:YJSO
DESCRIPTION:
URL:https://adventlutheranyork.org/event/yjso-16/
CATEGORIES:Community
END:VEVENT
BEGIN:VEVENT
DTSTART;VALUE=DATE:20251102
DTEND;VALUE=DATE:20251103
DTSTAMP:20260423T034655
CREATED:20251022T174633Z
LAST-MODIFIED:20251022T174633Z
UID:25759-1762041600-1762127999@adventlutheranyork.org
SUMMARY:All Saints Sunday
DESCRIPTION:
URL:https://adventlutheranyork.org/event/all-saints-sunday-2/
END:VEVENT
BEGIN:VEVENT
DTSTART;TZID=America/New_York:20251102T083000
DTEND;TZID=America/New_York:20251102T093000
DTSTAMP:20260423T034655
CREATED:20251022T174734Z
LAST-MODIFIED:20251022T174734Z
UID:25761-1762072200-1762075800@adventlutheranyork.org
SUMMARY:Traditional Worship Service
DESCRIPTION:
URL:https://adventlutheranyork.org/event/traditional-worship-service/
CATEGORIES:Services
END:VEVENT
BEGIN:VEVENT
DTSTART;TZID=America/New_York:20251102T093000
DTEND;TZID=America/New_York:20251102T094500
DTSTAMP:20260423T034655
CREATED:20251022T174907Z
LAST-MODIFIED:20251022T174907Z
UID:25763-1762075800-1762076700@adventlutheranyork.org
SUMMARY:Youth Choir Rehearsal
DESCRIPTION:
URL:https://adventlutheranyork.org/event/youth-choir-rehearsal-35/
CATEGORIES:Music Ministry
END:VEVENT
BEGIN:VEVENT
DTSTART;TZID=America/New_York:20251102T094500
DTEND;TZID=America/New_York:20251102T104500
DTSTAMP:20260423T034655
CREATED:20251022T175229Z
LAST-MODIFIED:20251022T175229Z
UID:25765-1762076700-1762080300@adventlutheranyork.org
SUMMARY:Sunday School
DESCRIPTION:
URL:https://adventlutheranyork.org/event/sunday-school-63/
CATEGORIES:Christian Education
END:VEVENT
BEGIN:VEVENT
DTSTART;TZID=America/New_York:20251102T110000
DTEND;TZID=America/New_York:20251102T120000
DTSTAMP:20260423T034655
CREATED:20251022T175327Z
LAST-MODIFIED:20251022T175327Z
UID:25767-1762081200-1762084800@adventlutheranyork.org
SUMMARY:Traditional Worship Service
DESCRIPTION:
URL:https://adventlutheranyork.org/event/traditional-worship-service-2/
CATEGORIES:Services
END:VEVENT
BEGIN:VEVENT
DTSTART;TZID=America/New_York:20251102T111500
DTEND;TZID=America/New_York:20251102T120000
DTSTAMP:20260423T034655
CREATED:20251022T175435Z
LAST-MODIFIED:20251022T175435Z
UID:25769-1762082100-1762084800@adventlutheranyork.org
SUMMARY:Contemporary Worship Service
DESCRIPTION:
URL:https://adventlutheranyork.org/event/contemporary-worship-service-48/
CATEGORIES:Services
END:VEVENT
BEGIN:VEVENT
DTSTART;TZID=America/New_York:20251103T090000
DTEND;TZID=America/New_York:20251103T100000
DTSTAMP:20260423T034655
CREATED:20251022T175542Z
LAST-MODIFIED:20251022T175542Z
UID:25771-1762160400-1762164000@adventlutheranyork.org
SUMMARY:Joy in the Morning
DESCRIPTION:
URL:https://adventlutheranyork.org/event/joy-in-the-morning-30/
CATEGORIES:Joy in the Morning
END:VEVENT
BEGIN:VEVENT
DTSTART;TZID=America/New_York:20251105T090000
DTEND;TZID=America/New_York:20251105T110000
DTSTAMP:20260423T034655
CREATED:20251022T175628Z
LAST-MODIFIED:20251022T175628Z
UID:25773-1762333200-1762340400@adventlutheranyork.org
SUMMARY:Advent Quilters
DESCRIPTION:
URL:https://adventlutheranyork.org/event/advent-quilters-47/
CATEGORIES:Advent Quilters
END:VEVENT
BEGIN:VEVENT
DTSTART;TZID=America/New_York:20251105T180000
DTEND;TZID=America/New_York:20251105T190000
DTSTAMP:20260423T034655
CREATED:20251022T175731Z
LAST-MODIFIED:20251022T175731Z
UID:25775-1762365600-1762369200@adventlutheranyork.org
SUMMARY:Handbell Ensemble Rehearsal
DESCRIPTION:
URL:https://adventlutheranyork.org/event/handbell-ensemble-rehearsal-37/
CATEGORIES:Music Ministry
END:VEVENT
BEGIN:VEVENT
DTSTART;TZID=America/New_York:20251105T190000
DTEND;TZID=America/New_York:20251105T203000
DTSTAMP:20260423T034655
CREATED:20251022T175831Z
LAST-MODIFIED:20251022T175831Z
UID:25777-1762369200-1762374600@adventlutheranyork.org
SUMMARY:Adult Choir Rehearsal
DESCRIPTION:
URL:https://adventlutheranyork.org/event/adult-choir-rehearsal-67/
CATEGORIES:Music Ministry
END:VEVENT
BEGIN:VEVENT
DTSTART;TZID=America/New_York:20251106T180000
DTEND;TZID=America/New_York:20251106T190000
DTSTAMP:20260423T034655
CREATED:20251022T181015Z
LAST-MODIFIED:20251022T181015Z
UID:25779-1762452000-1762455600@adventlutheranyork.org
SUMMARY:Girl Scouts
DESCRIPTION:
URL:https://adventlutheranyork.org/event/girl-scouts-18/
CATEGORIES:Community
END:VEVENT
BEGIN:VEVENT
DTSTART;TZID=America/New_York:20251106T180000
DTEND;TZID=America/New_York:20251106T190000
DTSTAMP:20260423T034655
CREATED:20251022T181114Z
LAST-MODIFIED:20251022T181114Z
UID:25781-1762452000-1762455600@adventlutheranyork.org
SUMMARY:Worship Band Rehearsal
DESCRIPTION:
URL:https://adventlutheranyork.org/event/worship-band-rehearsal-6/
CATEGORIES:Music Ministry
END:VEVENT
BEGIN:VEVENT
DTSTART;TZID=America/New_York:20251107T173000
DTEND;TZID=America/New_York:20251108T120000
DTSTAMP:20260423T034655
CREATED:20251022T181629Z
LAST-MODIFIED:20251022T181629Z
UID:25783-1762536600-1762603200@adventlutheranyork.org
SUMMARY:Youth Group Overnight at FA
DESCRIPTION:
URL:https://adventlutheranyork.org/event/youth-group-overnight-at-fa/
CATEGORIES:Youth Ministry
END:VEVENT
BEGIN:VEVENT
DTSTART;TZID=America/New_York:20251108T080000
DTEND;TZID=America/New_York:20251108T090000
DTSTAMP:20260423T034655
CREATED:20251022T181714Z
LAST-MODIFIED:20251022T181714Z
UID:25785-1762588800-1762592400@adventlutheranyork.org
SUMMARY:Men's Bible Study
DESCRIPTION:
URL:https://adventlutheranyork.org/event/mens-bible-study-20/
CATEGORIES:Christian Education
END:VEVENT
BEGIN:VEVENT
DTSTART;TZID=America/New_York:20251108T083000
DTEND;TZID=America/New_York:20251108T103000
DTSTAMP:20260423T034655
CREATED:20251022T181905Z
LAST-MODIFIED:20251022T181905Z
UID:25787-1762590600-1762597800@adventlutheranyork.org
SUMMARY:YJSO
DESCRIPTION:
URL:https://adventlutheranyork.org/event/yjso-17/
CATEGORIES:Community
END:VEVENT
BEGIN:VEVENT
DTSTART;VALUE=DATE:20251109
DTEND;VALUE=DATE:20251110
DTSTAMP:20260423T034655
CREATED:20251023T014727Z
LAST-MODIFIED:20251023T014727Z
UID:25790-1762646400-1762732799@adventlutheranyork.org
SUMMARY:Fair Trade Sunday
DESCRIPTION:
URL:https://adventlutheranyork.org/event/fair-trade-sunday-16/
END:VEVENT
BEGIN:VEVENT
DTSTART;VALUE=DATE:20251109
DTEND;VALUE=DATE:20251110
DTSTAMP:20260423T034655
CREATED:20251024T164243Z
LAST-MODIFIED:20251024T164243Z
UID:25847-1762646400-1762732799@adventlutheranyork.org
SUMMARY:Commitment Sunday
DESCRIPTION:
URL:https://adventlutheranyork.org/event/commitment-sunday/
END:VEVENT
BEGIN:VEVENT
DTSTART;VALUE=DATE:20251109
DTEND;VALUE=DATE:20251110
DTSTAMP:20260423T034655
CREATED:20251024T164510Z
LAST-MODIFIED:20251024T164510Z
UID:25849-1762646400-1762732799@adventlutheranyork.org
SUMMARY:Veteran Recognition
DESCRIPTION:
URL:https://adventlutheranyork.org/event/veteran-recognition/
END:VEVENT
BEGIN:VEVENT
DTSTART;TZID=America/New_York:20251109T083000
DTEND;TZID=America/New_York:20251109T093000
DTSTAMP:20260423T034655
CREATED:20251024T164633Z
LAST-MODIFIED:20251024T164633Z
UID:25851-1762677000-1762680600@adventlutheranyork.org
SUMMARY:Traditional Worship Service
DESCRIPTION:
URL:https://adventlutheranyork.org/event/traditional-worship-service-7/
END:VEVENT
BEGIN:VEVENT
DTSTART;TZID=America/New_York:20251109T094500
DTEND;TZID=America/New_York:20251109T104500
DTSTAMP:20260423T034655
CREATED:20251024T015240Z
LAST-MODIFIED:20251024T015240Z
UID:25797-1762681500-1762685100@adventlutheranyork.org
SUMMARY:Sunday School
DESCRIPTION:
URL:https://adventlutheranyork.org/event/sunday-school-64/
CATEGORIES:Christian Education
END:VEVENT
BEGIN:VEVENT
DTSTART;TZID=America/New_York:20251109T110000
DTEND;TZID=America/New_York:20251109T120000
DTSTAMP:20260423T034655
CREATED:20251024T015740Z
LAST-MODIFIED:20251024T015740Z
UID:25799-1762686000-1762689600@adventlutheranyork.org
SUMMARY:Traditional Worship Service
DESCRIPTION:
URL:https://adventlutheranyork.org/event/traditional-worship-service-4/
CATEGORIES:Services
END:VEVENT
BEGIN:VEVENT
DTSTART;TZID=America/New_York:20251109T111500
DTEND;TZID=America/New_York:20251109T120000
DTSTAMP:20260423T034655
CREATED:20251024T015853Z
LAST-MODIFIED:20251024T015853Z
UID:25801-1762686900-1762689600@adventlutheranyork.org
SUMMARY:Contemporary Worship Service
DESCRIPTION:
URL:https://adventlutheranyork.org/event/contemporary-worship-service-49/
CATEGORIES:Services
END:VEVENT
BEGIN:VEVENT
DTSTART;TZID=America/New_York:20251110T161500
DTEND;TZID=America/New_York:20251110T171500
DTSTAMP:20260423T034655
CREATED:20251024T024757Z
LAST-MODIFIED:20251024T024757Z
UID:25803-1762791300-1762794900@adventlutheranyork.org
SUMMARY:Soccer Shots in FH
DESCRIPTION:
URL:https://adventlutheranyork.org/event/soccer-shots-in-fh/
CATEGORIES:Community
END:VEVENT
BEGIN:VEVENT
DTSTART;TZID=America/New_York:20251110T180000
DTEND;TZID=America/New_York:20251110T190000
DTSTAMP:20260423T034655
CREATED:20251024T024849Z
LAST-MODIFIED:20251024T024849Z
UID:25805-1762797600-1762801200@adventlutheranyork.org
SUMMARY:Cancer Support Group
DESCRIPTION:
URL:https://adventlutheranyork.org/event/cancer-support-group-15/
CATEGORIES:Cancer Support
END:VEVENT
BEGIN:VEVENT
DTSTART;TZID=America/New_York:20251110T180000
DTEND;TZID=America/New_York:20251110T190000
DTSTAMP:20260423T034655
CREATED:20251024T024934Z
LAST-MODIFIED:20251024T024934Z
UID:25807-1762797600-1762801200@adventlutheranyork.org
SUMMARY:Advent Quilters
DESCRIPTION:
URL:https://adventlutheranyork.org/event/advent-quilters-48/
CATEGORIES:Advent Quilters
END:VEVENT
BEGIN:VEVENT
DTSTART;TZID=America/New_York:20251111T110000
DTEND;TZID=America/New_York:20251111T120000
DTSTAMP:20260423T034655
CREATED:20251024T025016Z
LAST-MODIFIED:20251024T025016Z
UID:25809-1762858800-1762862400@adventlutheranyork.org
SUMMARY:Brown Baggers
DESCRIPTION:
URL:https://adventlutheranyork.org/event/brown-baggers-41/
CATEGORIES:Brown Baggers
END:VEVENT
BEGIN:VEVENT
DTSTART;TZID=America/New_York:20251111T183000
DTEND;TZID=America/New_York:20251111T193000
DTSTAMP:20260423T034655
CREATED:20251024T025113Z
LAST-MODIFIED:20251024T025113Z
UID:25811-1762885800-1762889400@adventlutheranyork.org
SUMMARY:Advent Book Club
DESCRIPTION:
URL:https://adventlutheranyork.org/event/advent-book-club-35/
CATEGORIES:Advent Book Club
END:VEVENT
END:VCALENDAR