BEGIN:VCALENDAR
VERSION:2.0
PRODID:-//Advent Lutheran Church - ECPv6.15.20//NONSGML v1.0//EN
CALSCALE:GREGORIAN
METHOD:PUBLISH
X-WR-CALNAME:Advent Lutheran Church
X-ORIGINAL-URL:https://adventlutheranyork.org
X-WR-CALDESC:Events for Advent Lutheran Church
REFRESH-INTERVAL;VALUE=DURATION:PT1H
X-Robots-Tag:noindex
X-PUBLISHED-TTL:PT1H
BEGIN:VTIMEZONE
TZID:America/New_York
BEGIN:DAYLIGHT
TZOFFSETFROM:-0500
TZOFFSETTO:-0400
TZNAME:EDT
DTSTART:20230312T070000
END:DAYLIGHT
BEGIN:STANDARD
TZOFFSETFROM:-0400
TZOFFSETTO:-0500
TZNAME:EST
DTSTART:20231105T060000
END:STANDARD
BEGIN:DAYLIGHT
TZOFFSETFROM:-0500
TZOFFSETTO:-0400
TZNAME:EDT
DTSTART:20240310T070000
END:DAYLIGHT
BEGIN:STANDARD
TZOFFSETFROM:-0400
TZOFFSETTO:-0500
TZNAME:EST
DTSTART:20241103T060000
END:STANDARD
BEGIN:DAYLIGHT
TZOFFSETFROM:-0500
TZOFFSETTO:-0400
TZNAME:EDT
DTSTART:20250309T070000
END:DAYLIGHT
BEGIN:STANDARD
TZOFFSETFROM:-0400
TZOFFSETTO:-0500
TZNAME:EST
DTSTART:20251102T060000
END:STANDARD
END:VTIMEZONE
BEGIN:VTIMEZONE
TZID:UTC
BEGIN:STANDARD
TZOFFSETFROM:+0000
TZOFFSETTO:+0000
TZNAME:UTC
DTSTART:20230101T000000
END:STANDARD
END:VTIMEZONE
BEGIN:VEVENT
DTSTART;TZID=America/New_York:20241204T180000
DTEND;TZID=America/New_York:20241204T190000
DTSTAMP:20260425T225131
CREATED:20241212T214039Z
LAST-MODIFIED:20241212T214039Z
UID:24343-1733335200-1733338800@adventlutheranyork.org
SUMMARY:Handbell Rehearsal
DESCRIPTION:
URL:https://adventlutheranyork.org/event/handbell-rehearsal-3/
LOCATION:Advent Lutheran Church\, 1775 East Market Street\, York\, PA\, 17402\, United States
CATEGORIES:Music Ministry
END:VEVENT
BEGIN:VEVENT
DTSTART;TZID=America/New_York:20241204T090000
DTEND;TZID=America/New_York:20241204T100000
DTSTAMP:20260425T225131
CREATED:20241212T213905Z
LAST-MODIFIED:20241212T213905Z
UID:24341-1733302800-1733306400@adventlutheranyork.org
SUMMARY:Advent Quilters
DESCRIPTION:
URL:https://adventlutheranyork.org/event/advent-quilters-24/
LOCATION:Advent Lutheran Church\, 1775 East Market Street\, York\, PA\, 17402\, United States
CATEGORIES:Advent Quilters
END:VEVENT
BEGIN:VEVENT
DTSTART;TZID=America/New_York:20241203T193000
DTEND;TZID=America/New_York:20241203T203000
DTSTAMP:20260425T225131
CREATED:20241212T213804Z
LAST-MODIFIED:20241212T213804Z
UID:24339-1733254200-1733257800@adventlutheranyork.org
SUMMARY:Mutual Ministry Committee
DESCRIPTION:
URL:https://adventlutheranyork.org/event/mutual-ministry-committee/
LOCATION:Advent Lutheran Church\, 1775 East Market Street\, York\, PA\, 17402\, United States
CATEGORIES:Community
END:VEVENT
BEGIN:VEVENT
DTSTART;TZID=America/New_York:20241202T163000
DTEND;TZID=America/New_York:20241202T170000
DTSTAMP:20260425T225131
CREATED:20241212T213709Z
LAST-MODIFIED:20241212T213709Z
UID:24337-1733157000-1733158800@adventlutheranyork.org
SUMMARY:Soccer Shots
DESCRIPTION:
URL:https://adventlutheranyork.org/event/soccer-shots-4/
CATEGORIES:Community
END:VEVENT
BEGIN:VEVENT
DTSTART;TZID=America/New_York:20241202T090000
DTEND;TZID=America/New_York:20241202T100000
DTSTAMP:20260425T225131
CREATED:20241212T213511Z
LAST-MODIFIED:20241212T213511Z
UID:24335-1733130000-1733133600@adventlutheranyork.org
SUMMARY:Joy in the Morning
DESCRIPTION:
URL:https://adventlutheranyork.org/event/joy-in-the-morning-15/
CATEGORIES:Joy in the Morning
END:VEVENT
BEGIN:VEVENT
DTSTART;TZID=America/New_York:20241201T100000
DTEND;TZID=America/New_York:20241201T110000
DTSTAMP:20260425T225131
CREATED:20241212T213436Z
LAST-MODIFIED:20241212T213436Z
UID:24333-1733047200-1733050800@adventlutheranyork.org
SUMMARY:Combined Worship Service
DESCRIPTION:
URL:https://adventlutheranyork.org/event/combined-worship-service-3/
LOCATION:Advent Lutheran Church\, 1775 East Market Street\, York\, PA\, 17402\, United States
CATEGORIES:Services
END:VEVENT
BEGIN:VEVENT
DTSTART;TZID=America/New_York:20241201T090000
DTEND;TZID=America/New_York:20241201T100000
DTSTAMP:20260425T225131
CREATED:20241212T213345Z
LAST-MODIFIED:20241212T213345Z
UID:24330-1733043600-1733047200@adventlutheranyork.org
SUMMARY:Sunday School
DESCRIPTION:
URL:https://adventlutheranyork.org/event/sunday-school-32/
LOCATION:Advent Lutheran Church\, 1775 East Market Street\, York\, PA\, 17402\, United States
CATEGORIES:Christian Education
END:VEVENT
BEGIN:VEVENT
DTSTART;VALUE=DATE:20241201
DTEND;VALUE=DATE:20241202
DTSTAMP:20260425T225131
CREATED:20241212T213256Z
LAST-MODIFIED:20241212T213402Z
UID:24328-1733011200-1733097599@adventlutheranyork.org
SUMMARY:Advent 1/ Hanging of the Greens
DESCRIPTION:
URL:https://adventlutheranyork.org/event/advent-1-2/
END:VEVENT
BEGIN:VEVENT
DTSTART;VALUE=DATE:20241129
DTEND;VALUE=DATE:20241130
DTSTAMP:20260425T225131
CREATED:20241030T165047Z
LAST-MODIFIED:20241030T165114Z
UID:24294-1732838400-1732924799@adventlutheranyork.org
SUMMARY:Office Closed
DESCRIPTION:
URL:https://adventlutheranyork.org/event/office-closed-2/
CATEGORIES:Administration
END:VEVENT
BEGIN:VEVENT
DTSTART;VALUE=DATE:20241128
DTEND;VALUE=DATE:20241129
DTSTAMP:20260425T225131
CREATED:20241030T165020Z
LAST-MODIFIED:20241030T165020Z
UID:24292-1732752000-1732838399@adventlutheranyork.org
SUMMARY:Office Closed
DESCRIPTION:
URL:https://adventlutheranyork.org/event/office-closed/
CATEGORIES:Administration
END:VEVENT
BEGIN:VEVENT
DTSTART;TZID=America/New_York:20241126T110000
DTEND;TZID=America/New_York:20241126T120000
DTSTAMP:20260425T225131
CREATED:20241030T164945Z
LAST-MODIFIED:20241030T164945Z
UID:24290-1732618800-1732622400@adventlutheranyork.org
SUMMARY:Brown Baggers
DESCRIPTION:
URL:https://adventlutheranyork.org/event/brown-baggers-20/
CATEGORIES:Brown Baggers
END:VEVENT
BEGIN:VEVENT
DTSTART;TZID=America/New_York:20241125T163000
DTEND;TZID=America/New_York:20241125T173000
DTSTAMP:20260425T225131
CREATED:20241030T164908Z
LAST-MODIFIED:20241030T164908Z
UID:24287-1732552200-1732555800@adventlutheranyork.org
SUMMARY:Soccer Shots
DESCRIPTION:
URL:https://adventlutheranyork.org/event/soccer-shots-3/
LOCATION:Advent Lutheran Church\, 1775 East Market Street\, York\, PA\, 17402\, United States
CATEGORIES:Community
END:VEVENT
BEGIN:VEVENT
DTSTART;TZID=America/New_York:20241124T180000
DTEND;TZID=America/New_York:20241124T190000
DTSTAMP:20260425T225131
CREATED:20241030T164810Z
LAST-MODIFIED:20241030T164810Z
UID:24285-1732471200-1732474800@adventlutheranyork.org
SUMMARY:Junior High Youth Group Bowling
DESCRIPTION:
URL:https://adventlutheranyork.org/event/junior-high-youth-group-bowling/
CATEGORIES:Youth Ministry
END:VEVENT
BEGIN:VEVENT
DTSTART;TZID=America/New_York:20241124T111500
DTEND;TZID=America/New_York:20241124T120000
DTSTAMP:20260425T225131
CREATED:20241030T164713Z
LAST-MODIFIED:20241030T164713Z
UID:24283-1732446900-1732449600@adventlutheranyork.org
SUMMARY:Contemporary Worship Service
DESCRIPTION:
URL:https://adventlutheranyork.org/event/contemporary-worship-service-8/
LOCATION:Advent Lutheran Church\, 1775 East Market Street\, York\, PA\, 17402\, United States
CATEGORIES:Services
END:VEVENT
BEGIN:VEVENT
DTSTART;TZID=America/New_York:20241124T110000
DTEND;TZID=America/New_York:20241124T120000
DTSTAMP:20260425T225131
CREATED:20241030T164636Z
LAST-MODIFIED:20241030T164636Z
UID:24281-1732446000-1732449600@adventlutheranyork.org
SUMMARY:Worship Service
DESCRIPTION:
URL:https://adventlutheranyork.org/event/worship-service-90/
LOCATION:Advent Lutheran Church\, 1775 East Market Street\, York\, PA\, 17402\, United States
CATEGORIES:Services
END:VEVENT
BEGIN:VEVENT
DTSTART;TZID=America/New_York:20241124T094500
DTEND;TZID=America/New_York:20241124T104500
DTSTAMP:20260425T225131
CREATED:20241030T164603Z
LAST-MODIFIED:20241030T164603Z
UID:24279-1732441500-1732445100@adventlutheranyork.org
SUMMARY:Sunday School
DESCRIPTION:
URL:https://adventlutheranyork.org/event/sunday-school-31/
LOCATION:Advent Lutheran Church\, 1775 East Market Street\, York\, PA\, 17402\, United States
CATEGORIES:Christian Education
END:VEVENT
BEGIN:VEVENT
DTSTART;TZID=America/New_York:20241124T093000
DTEND;TZID=America/New_York:20241124T094500
DTSTAMP:20260425T225131
CREATED:20241030T164523Z
LAST-MODIFIED:20241030T164523Z
UID:24277-1732440600-1732441500@adventlutheranyork.org
SUMMARY:Youth Choir Rehearsal
DESCRIPTION:
URL:https://adventlutheranyork.org/event/youth-choir-rehearsal-13/
LOCATION:Advent Lutheran Church\, 1775 East Market Street\, York\, PA\, 17402\, United States
CATEGORIES:Music Ministry
END:VEVENT
BEGIN:VEVENT
DTSTART;TZID=America/New_York:20241124T083000
DTEND;TZID=America/New_York:20241124T093000
DTSTAMP:20260425T225131
CREATED:20241030T164431Z
LAST-MODIFIED:20241030T164431Z
UID:24275-1732437000-1732440600@adventlutheranyork.org
SUMMARY:Worship Service
DESCRIPTION:
URL:https://adventlutheranyork.org/event/worship-service-89/
LOCATION:Advent Lutheran Church\, 1775 East Market Street\, York\, PA\, 17402\, United States
CATEGORIES:Services
END:VEVENT
BEGIN:VEVENT
DTSTART;VALUE=DATE:20241124
DTEND;VALUE=DATE:20241125
DTSTAMP:20260425T225131
CREATED:20241030T164401Z
LAST-MODIFIED:20241030T164401Z
UID:24273-1732406400-1732492799@adventlutheranyork.org
SUMMARY:Christ the King Sunday
DESCRIPTION:
URL:https://adventlutheranyork.org/event/christ-the-king-sunday-2/
END:VEVENT
BEGIN:VEVENT
DTSTART;TZID=America/New_York:20241121T190000
DTEND;TZID=America/New_York:20241121T200000
DTSTAMP:20260425T225131
CREATED:20241030T164316Z
LAST-MODIFIED:20241030T164316Z
UID:24271-1732215600-1732219200@adventlutheranyork.org
SUMMARY:Stewardship Committee Meeting
DESCRIPTION:
URL:https://adventlutheranyork.org/event/stewardship-committee-meeting-5/
LOCATION:Advent Lutheran Church\, 1775 East Market Street\, York\, PA\, 17402\, United States
CATEGORIES:Committee
END:VEVENT
BEGIN:VEVENT
DTSTART;TZID=America/New_York:20241121T180000
DTEND;TZID=America/New_York:20241121T190000
DTSTAMP:20260425T225131
CREATED:20241030T164241Z
LAST-MODIFIED:20241030T164241Z
UID:24269-1732212000-1732215600@adventlutheranyork.org
SUMMARY:Girl Scouts
DESCRIPTION:
URL:https://adventlutheranyork.org/event/girl-scouts-2/
LOCATION:Advent Lutheran Church\, 1775 East Market Street\, York\, PA\, 17402\, United States
CATEGORIES:Community
END:VEVENT
BEGIN:VEVENT
DTSTART;TZID=America/New_York:20241120T190000
DTEND;TZID=America/New_York:20241120T203000
DTSTAMP:20260425T225131
CREATED:20241030T164205Z
LAST-MODIFIED:20241030T164205Z
UID:24267-1732129200-1732134600@adventlutheranyork.org
SUMMARY:Adult Choir Rehearsal
DESCRIPTION:
URL:https://adventlutheranyork.org/event/adult-choir-rehearsal-35/
LOCATION:Advent Lutheran Church\, 1775 East Market Street\, York\, PA\, 17402\, United States
CATEGORIES:Music Ministry
END:VEVENT
BEGIN:VEVENT
DTSTART;TZID=America/New_York:20241120T180000
DTEND;TZID=America/New_York:20241120T190000
DTSTAMP:20260425T225131
CREATED:20241030T164125Z
LAST-MODIFIED:20241030T164125Z
UID:24265-1732125600-1732129200@adventlutheranyork.org
SUMMARY:Handbell Ensemble Rehearsal
DESCRIPTION:
URL:https://adventlutheranyork.org/event/handbell-ensemble-rehearsal-28/
LOCATION:Advent Lutheran Church\, 1775 East Market Street\, York\, PA\, 17402\, United States
CATEGORIES:Music Ministry
END:VEVENT
BEGIN:VEVENT
DTSTART;TZID=America/New_York:20241118T183000
DTEND;TZID=America/New_York:20241118T193000
DTSTAMP:20260425T225131
CREATED:20241030T164042Z
LAST-MODIFIED:20241030T164042Z
UID:24263-1731954600-1731958200@adventlutheranyork.org
SUMMARY:Council Meeting
DESCRIPTION:
URL:https://adventlutheranyork.org/event/council-meeting-9/
LOCATION:Advent Lutheran Church\, 1775 East Market Street\, York\, PA\, 17402\, United States
CATEGORIES:Administration
END:VEVENT
BEGIN:VEVENT
DTSTART;TZID=America/New_York:20241118T163000
DTEND;TZID=America/New_York:20241118T173000
DTSTAMP:20260425T225131
CREATED:20241030T163959Z
LAST-MODIFIED:20241030T163959Z
UID:24261-1731947400-1731951000@adventlutheranyork.org
SUMMARY:Soccer Shots
DESCRIPTION:
URL:https://adventlutheranyork.org/event/soccer-shots-2/
LOCATION:Advent Lutheran Church\, 1775 East Market Street\, York\, PA\, 17402\, United States
CATEGORIES:Community
END:VEVENT
BEGIN:VEVENT
DTSTART;TZID=America/New_York:20241118T090000
DTEND;TZID=America/New_York:20241118T100000
DTSTAMP:20260425T225132
CREATED:20241030T163924Z
LAST-MODIFIED:20241030T163924Z
UID:24259-1731920400-1731924000@adventlutheranyork.org
SUMMARY:Joy in the Morning
DESCRIPTION:
URL:https://adventlutheranyork.org/event/joy-in-the-morning-14/
LOCATION:Advent Lutheran Church\, 1775 East Market Street\, York\, PA\, 17402\, United States
CATEGORIES:Joy in the Morning
END:VEVENT
BEGIN:VEVENT
DTSTART;TZID=America/New_York:20241117T160000
DTEND;TZID=America/New_York:20241117T170000
DTSTAMP:20260425T225132
CREATED:20241030T163841Z
LAST-MODIFIED:20241030T163841Z
UID:24257-1731859200-1731862800@adventlutheranyork.org
SUMMARY:Prayers and Stitches
DESCRIPTION:
URL:https://adventlutheranyork.org/event/prayers-and-stitches-7/
LOCATION:Advent Lutheran Church\, 1775 East Market Street\, York\, PA\, 17402\, United States
CATEGORIES:Prayers and Stitches
END:VEVENT
BEGIN:VEVENT
DTSTART;TZID=America/New_York:20241117T111500
DTEND;TZID=America/New_York:20241117T121500
DTSTAMP:20260425T225132
CREATED:20241030T163808Z
LAST-MODIFIED:20241030T163808Z
UID:24254-1731842100-1731845700@adventlutheranyork.org
SUMMARY:Contemporary Worship Service
DESCRIPTION:
URL:https://adventlutheranyork.org/event/contemporary-worship-service-7/
LOCATION:Advent Lutheran Church\, 1775 East Market Street\, York\, PA\, 17402\, United States
CATEGORIES:Services
END:VEVENT
BEGIN:VEVENT
DTSTART;TZID=America/New_York:20241117T110000
DTEND;TZID=America/New_York:20241117T120000
DTSTAMP:20260425T225132
CREATED:20241030T163726Z
LAST-MODIFIED:20241030T163726Z
UID:24252-1731841200-1731844800@adventlutheranyork.org
SUMMARY:Worship Service
DESCRIPTION:
URL:https://adventlutheranyork.org/event/worship-service-88/
LOCATION:Advent Lutheran Church\, 1775 East Market Street\, York\, PA\, 17402\, United States
CATEGORIES:Services
END:VEVENT
BEGIN:VEVENT
DTSTART;TZID=America/New_York:20241117T094500
DTEND;TZID=America/New_York:20241117T104500
DTSTAMP:20260425T225132
CREATED:20241030T163638Z
LAST-MODIFIED:20241030T163638Z
UID:24250-1731836700-1731840300@adventlutheranyork.org
SUMMARY:Sunday School
DESCRIPTION:
URL:https://adventlutheranyork.org/event/sunday-school-30/
LOCATION:Advent Lutheran Church\, 1775 East Market Street\, York\, PA\, 17402\, United States
CATEGORIES:Christian Education
END:VEVENT
END:VCALENDAR