BEGIN:VCALENDAR
VERSION:2.0
PRODID:-//Advent Lutheran Church - ECPv6.15.20//NONSGML v1.0//EN
CALSCALE:GREGORIAN
METHOD:PUBLISH
X-WR-CALNAME:Advent Lutheran Church
X-ORIGINAL-URL:https://adventlutheranyork.org
X-WR-CALDESC:Events for Advent Lutheran Church
REFRESH-INTERVAL;VALUE=DURATION:PT1H
X-Robots-Tag:noindex
X-PUBLISHED-TTL:PT1H
BEGIN:VTIMEZONE
TZID:America/New_York
BEGIN:DAYLIGHT
TZOFFSETFROM:-0500
TZOFFSETTO:-0400
TZNAME:EDT
DTSTART:20240310T070000
END:DAYLIGHT
BEGIN:STANDARD
TZOFFSETFROM:-0400
TZOFFSETTO:-0500
TZNAME:EST
DTSTART:20241103T060000
END:STANDARD
BEGIN:DAYLIGHT
TZOFFSETFROM:-0500
TZOFFSETTO:-0400
TZNAME:EDT
DTSTART:20250309T070000
END:DAYLIGHT
BEGIN:STANDARD
TZOFFSETFROM:-0400
TZOFFSETTO:-0500
TZNAME:EST
DTSTART:20251102T060000
END:STANDARD
BEGIN:DAYLIGHT
TZOFFSETFROM:-0500
TZOFFSETTO:-0400
TZNAME:EDT
DTSTART:20260308T070000
END:DAYLIGHT
BEGIN:STANDARD
TZOFFSETFROM:-0400
TZOFFSETTO:-0500
TZNAME:EST
DTSTART:20261101T060000
END:STANDARD
END:VTIMEZONE
BEGIN:VEVENT
DTSTART;TZID=America/New_York:20251206T130000
DTEND;TZID=America/New_York:20251206T160000
DTSTAMP:20260422T222947
CREATED:20251126T192031Z
LAST-MODIFIED:20251126T192031Z
UID:25931-1765026000-1765036800@adventlutheranyork.org
SUMMARY:Advent Family Festival
DESCRIPTION:
URL:https://adventlutheranyork.org/event/advent-family-festival-2/
CATEGORIES:Family Ministry
END:VEVENT
BEGIN:VEVENT
DTSTART;TZID=America/New_York:20251204T183000
DTEND;TZID=America/New_York:20251204T193000
DTSTAMP:20260422T222947
CREATED:20251126T214356Z
LAST-MODIFIED:20251126T214356Z
UID:25969-1764873000-1764876600@adventlutheranyork.org
SUMMARY:100th Anniversary Committee Meeting
DESCRIPTION:
URL:https://adventlutheranyork.org/event/100th-anniversary-committee-meeting-3/
CATEGORIES:Community
END:VEVENT
BEGIN:VEVENT
DTSTART;TZID=America/New_York:20251204T180000
DTEND;TZID=America/New_York:20251204T190000
DTSTAMP:20260422T222947
CREATED:20251123T160103Z
LAST-MODIFIED:20251123T160103Z
UID:25929-1764871200-1764874800@adventlutheranyork.org
SUMMARY:Worship Band Rehearsal
DESCRIPTION:
URL:https://adventlutheranyork.org/event/worship-band-rehearsal-7/
CATEGORIES:Music Ministry
END:VEVENT
BEGIN:VEVENT
DTSTART;TZID=America/New_York:20251204T180000
DTEND;TZID=America/New_York:20251204T190000
DTSTAMP:20260422T222947
CREATED:20251123T155953Z
LAST-MODIFIED:20251123T155953Z
UID:25927-1764871200-1764874800@adventlutheranyork.org
SUMMARY:Girl Scouts
DESCRIPTION:
URL:https://adventlutheranyork.org/event/girl-scouts-20/
CATEGORIES:Community
END:VEVENT
BEGIN:VEVENT
DTSTART;TZID=America/New_York:20251203T190000
DTEND;TZID=America/New_York:20251203T203000
DTSTAMP:20260422T222947
CREATED:20251123T155849Z
LAST-MODIFIED:20251123T155849Z
UID:25925-1764788400-1764793800@adventlutheranyork.org
SUMMARY:Adult Choir Rehearsal
DESCRIPTION:
URL:https://adventlutheranyork.org/event/adult-choir-rehearsal-70/
CATEGORIES:Music Ministry
END:VEVENT
BEGIN:VEVENT
DTSTART;TZID=America/New_York:20251203T180000
DTEND;TZID=America/New_York:20251203T190000
DTSTAMP:20260422T222947
CREATED:20251123T155701Z
LAST-MODIFIED:20251123T155701Z
UID:25923-1764784800-1764788400@adventlutheranyork.org
SUMMARY:Handbell Ensemble Rehearsal
DESCRIPTION:
URL:https://adventlutheranyork.org/event/handbell-ensemble-rehearsal-40/
CATEGORIES:Music Ministry
END:VEVENT
BEGIN:VEVENT
DTSTART;TZID=America/New_York:20251203T090000
DTEND;TZID=America/New_York:20251203T100000
DTSTAMP:20260422T222947
CREATED:20251123T155547Z
LAST-MODIFIED:20251123T155547Z
UID:25921-1764752400-1764756000@adventlutheranyork.org
SUMMARY:Advent Quilters
DESCRIPTION:
URL:https://adventlutheranyork.org/event/advent-quilters-49/
CATEGORIES:Advent Quilters
END:VEVENT
BEGIN:VEVENT
DTSTART;TZID=America/New_York:20251201T170000
DTEND;TZID=America/New_York:20251201T180000
DTSTAMP:20260422T222947
CREATED:20251123T154224Z
LAST-MODIFIED:20251123T154224Z
UID:25917-1764608400-1764612000@adventlutheranyork.org
SUMMARY:Soccer Shots in FH
DESCRIPTION:
URL:https://adventlutheranyork.org/event/soccer-shots-in-fh-4/
CATEGORIES:Community
END:VEVENT
BEGIN:VEVENT
DTSTART;TZID=America/New_York:20251201T090000
DTEND;TZID=America/New_York:20251201T100000
DTSTAMP:20260422T222947
CREATED:20251123T152802Z
LAST-MODIFIED:20251123T152802Z
UID:25915-1764579600-1764583200@adventlutheranyork.org
SUMMARY:Joy in the Morning
DESCRIPTION:
URL:https://adventlutheranyork.org/event/joy-in-the-morning-32/
CATEGORIES:Joy in the Morning
END:VEVENT
BEGIN:VEVENT
DTSTART;TZID=America/New_York:20251130T100000
DTEND;TZID=America/New_York:20251130T110000
DTSTAMP:20260422T222947
CREATED:20251025T195114Z
LAST-MODIFIED:20251025T195114Z
UID:25905-1764496800-1764500400@adventlutheranyork.org
SUMMARY:Combined Worship Service
DESCRIPTION:
URL:https://adventlutheranyork.org/event/combined-worship-service-5/
CATEGORIES:Services
END:VEVENT
BEGIN:VEVENT
DTSTART;TZID=America/New_York:20251130T090000
DTEND;TZID=America/New_York:20251130T100000
DTSTAMP:20260422T222947
CREATED:20251025T195032Z
LAST-MODIFIED:20251025T195032Z
UID:25903-1764493200-1764496800@adventlutheranyork.org
SUMMARY:Sunday School
DESCRIPTION:
URL:https://adventlutheranyork.org/event/sunday-school-67/
CATEGORIES:Christian Education
END:VEVENT
BEGIN:VEVENT
DTSTART;TZID=America/New_York:20251130T084500
DTEND;TZID=America/New_York:20251130T090000
DTSTAMP:20260422T222947
CREATED:20251025T194950Z
LAST-MODIFIED:20251025T194950Z
UID:25901-1764492300-1764493200@adventlutheranyork.org
SUMMARY:Youth Choir Rehearsal
DESCRIPTION:
URL:https://adventlutheranyork.org/event/youth-choir-rehearsal-38/
CATEGORIES:Music Ministry
END:VEVENT
BEGIN:VEVENT
DTSTART;VALUE=DATE:20251130
DTEND;VALUE=DATE:20251201
DTSTAMP:20260422T222947
CREATED:20251025T194903Z
LAST-MODIFIED:20251025T194903Z
UID:25899-1764460800-1764547199@adventlutheranyork.org
SUMMARY:Advent 1/Hanging of the Greens
DESCRIPTION:
URL:https://adventlutheranyork.org/event/advent-1-hanging-of-the-greens/
END:VEVENT
BEGIN:VEVENT
DTSTART;VALUE=DATE:20251127
DTEND;VALUE=DATE:20251129
DTSTAMP:20260422T222947
CREATED:20251025T194738Z
LAST-MODIFIED:20251025T195714Z
UID:25895-1764201600-1764374399@adventlutheranyork.org
SUMMARY:Office Closed- Thanksgiving
DESCRIPTION:
URL:https://adventlutheranyork.org/event/office-closed-thanksgiving/
END:VEVENT
BEGIN:VEVENT
DTSTART;TZID=America/New_York:20251125T190000
DTEND;TZID=America/New_York:20251125T200000
DTSTAMP:20260422T222947
CREATED:20251025T194658Z
LAST-MODIFIED:20251025T194658Z
UID:25893-1764097200-1764100800@adventlutheranyork.org
SUMMARY:Stewardship Committee Meeting
DESCRIPTION:
URL:https://adventlutheranyork.org/event/stewardship-committee-meeting-10/
CATEGORIES:Committee
END:VEVENT
BEGIN:VEVENT
DTSTART;TZID=America/New_York:20251125T110000
DTEND;TZID=America/New_York:20251125T120000
DTSTAMP:20260422T222947
CREATED:20251025T194607Z
LAST-MODIFIED:20251025T194607Z
UID:25891-1764068400-1764072000@adventlutheranyork.org
SUMMARY:Brown Baggers
DESCRIPTION:
URL:https://adventlutheranyork.org/event/brown-baggers-42/
CATEGORIES:Brown Baggers
END:VEVENT
BEGIN:VEVENT
DTSTART;TZID=America/New_York:20251124T161500
DTEND;TZID=America/New_York:20251124T171500
DTSTAMP:20260422T222947
CREATED:20251025T194449Z
LAST-MODIFIED:20251025T194449Z
UID:25889-1764000900-1764004500@adventlutheranyork.org
SUMMARY:Soccer Shots in FH
DESCRIPTION:
URL:https://adventlutheranyork.org/event/soccer-shots-in-fh-3/
CATEGORIES:Community
END:VEVENT
BEGIN:VEVENT
DTSTART;TZID=America/New_York:20251123T150000
DTEND;TZID=America/New_York:20251123T160000
DTSTAMP:20260422T222947
CREATED:20251123T154356Z
LAST-MODIFIED:20251123T154356Z
UID:25919-1763910000-1763913600@adventlutheranyork.org
SUMMARY:Pressly Ridge in FH
DESCRIPTION:
URL:https://adventlutheranyork.org/event/pressly-ridge-in-fh-2/
CATEGORIES:Community
END:VEVENT
BEGIN:VEVENT
DTSTART;TZID=America/New_York:20251123T111500
DTEND;TZID=America/New_York:20251123T120000
DTSTAMP:20260422T222947
CREATED:20251025T194344Z
LAST-MODIFIED:20251025T194344Z
UID:25887-1763896500-1763899200@adventlutheranyork.org
SUMMARY:Contemporary Worship Service
DESCRIPTION:
URL:https://adventlutheranyork.org/event/contemporary-worship-service-51/
CATEGORIES:Services
END:VEVENT
BEGIN:VEVENT
DTSTART;TZID=America/New_York:20251123T094500
DTEND;TZID=America/New_York:20251123T104500
DTSTAMP:20260422T222947
CREATED:20251025T194015Z
LAST-MODIFIED:20251025T194015Z
UID:25885-1763891100-1763894700@adventlutheranyork.org
SUMMARY:Sunday School
DESCRIPTION:
URL:https://adventlutheranyork.org/event/sunday-school-66/
CATEGORIES:Christian Education
END:VEVENT
BEGIN:VEVENT
DTSTART;TZID=America/New_York:20251123T093000
DTEND;TZID=America/New_York:20251123T094500
DTSTAMP:20260422T222947
CREATED:20251025T193923Z
LAST-MODIFIED:20251025T193923Z
UID:25883-1763890200-1763891100@adventlutheranyork.org
SUMMARY:Youth Choir Rehearsal
DESCRIPTION:
URL:https://adventlutheranyork.org/event/youth-choir-rehearsal-37/
CATEGORIES:Music Ministry
END:VEVENT
BEGIN:VEVENT
DTSTART;TZID=America/New_York:20251123T083000
DTEND;TZID=America/New_York:20251123T093000
DTSTAMP:20260422T222947
CREATED:20251025T131410Z
LAST-MODIFIED:20251025T131410Z
UID:25881-1763886600-1763890200@adventlutheranyork.org
SUMMARY:Traditional Worship Service
DESCRIPTION:
URL:https://adventlutheranyork.org/event/traditional-worship-service-8/
CATEGORIES:Services
END:VEVENT
BEGIN:VEVENT
DTSTART;VALUE=DATE:20251123
DTEND;VALUE=DATE:20251124
DTSTAMP:20260422T222947
CREATED:20251025T131311Z
LAST-MODIFIED:20251025T131311Z
UID:25879-1763856000-1763942399@adventlutheranyork.org
SUMMARY:Christ the King Sunday
DESCRIPTION:
URL:https://adventlutheranyork.org/event/christ-the-king-sunday-3/
END:VEVENT
BEGIN:VEVENT
DTSTART;TZID=America/New_York:20251121T170000
DTEND;TZID=America/New_York:20251122T120000
DTSTAMP:20260422T222947
CREATED:20251025T123948Z
LAST-MODIFIED:20251025T123948Z
UID:25877-1763744400-1763812800@adventlutheranyork.org
SUMMARY:Young Adventurers Overnight
DESCRIPTION:
URL:https://adventlutheranyork.org/event/young-adventurers-overnight-3/
CATEGORIES:Youth Ministry
END:VEVENT
BEGIN:VEVENT
DTSTART;TZID=America/New_York:20251121T100000
DTEND;TZID=America/New_York:20251121T110000
DTSTAMP:20260422T222947
CREATED:20251025T123843Z
LAST-MODIFIED:20251025T123843Z
UID:25875-1763719200-1763722800@adventlutheranyork.org
SUMMARY:Ladies Shares & Prayers
DESCRIPTION:
URL:https://adventlutheranyork.org/event/ladies-shares-prayers-7/
CATEGORIES:Ladies Shares and Prayers
END:VEVENT
BEGIN:VEVENT
DTSTART;TZID=America/New_York:20251120T193000
DTEND;TZID=America/New_York:20251120T200000
DTSTAMP:20260422T222947
CREATED:20251025T123730Z
LAST-MODIFIED:20251025T123730Z
UID:25873-1763667000-1763668800@adventlutheranyork.org
SUMMARY:Technology Committee Meeting
DESCRIPTION:
URL:https://adventlutheranyork.org/event/technology-committee-meeting-3/
CATEGORIES:Committee
END:VEVENT
BEGIN:VEVENT
DTSTART;TZID=America/New_York:20251120T183000
DTEND;TZID=America/New_York:20251120T193000
DTSTAMP:20260422T222947
CREATED:20251025T123617Z
LAST-MODIFIED:20251025T123617Z
UID:25871-1763663400-1763667000@adventlutheranyork.org
SUMMARY:100th Anniversary Committee Meeting
DESCRIPTION:
URL:https://adventlutheranyork.org/event/100th-anniversary-committee-meeting-2/
CATEGORIES:Committee
END:VEVENT
BEGIN:VEVENT
DTSTART;TZID=America/New_York:20251120T180000
DTEND;TZID=America/New_York:20251120T190000
DTSTAMP:20260422T222947
CREATED:20251025T123529Z
LAST-MODIFIED:20251025T123529Z
UID:25869-1763661600-1763665200@adventlutheranyork.org
SUMMARY:Worship Band Practice
DESCRIPTION:
URL:https://adventlutheranyork.org/event/worship-band-practice/
CATEGORIES:Music Ministry
END:VEVENT
BEGIN:VEVENT
DTSTART;TZID=America/New_York:20251120T180000
DTEND;TZID=America/New_York:20251120T190000
DTSTAMP:20260422T222947
CREATED:20251025T123443Z
LAST-MODIFIED:20251025T123443Z
UID:25867-1763661600-1763665200@adventlutheranyork.org
SUMMARY:Girl Scouts
DESCRIPTION:
URL:https://adventlutheranyork.org/event/girl-scouts-19/
CATEGORIES:Community
END:VEVENT
BEGIN:VEVENT
DTSTART;TZID=America/New_York:20251119T190000
DTEND;TZID=America/New_York:20251119T203000
DTSTAMP:20260422T222947
CREATED:20251025T123355Z
LAST-MODIFIED:20251025T123355Z
UID:25865-1763578800-1763584200@adventlutheranyork.org
SUMMARY:Adult Choir Rehearsal
DESCRIPTION:
URL:https://adventlutheranyork.org/event/adult-choir-rehearsal-69/
CATEGORIES:Music Ministry
END:VEVENT
END:VCALENDAR