BEGIN:VCALENDAR
VERSION:2.0
PRODID:-//Advent Lutheran Church - ECPv6.15.20//NONSGML v1.0//EN
CALSCALE:GREGORIAN
METHOD:PUBLISH
X-WR-CALNAME:Advent Lutheran Church
X-ORIGINAL-URL:https://adventlutheranyork.org
X-WR-CALDESC:Events for Advent Lutheran Church
REFRESH-INTERVAL;VALUE=DURATION:PT1H
X-Robots-Tag:noindex
X-PUBLISHED-TTL:PT1H
BEGIN:VTIMEZONE
TZID:America/New_York
BEGIN:DAYLIGHT
TZOFFSETFROM:-0500
TZOFFSETTO:-0400
TZNAME:EDT
DTSTART:20240310T070000
END:DAYLIGHT
BEGIN:STANDARD
TZOFFSETFROM:-0400
TZOFFSETTO:-0500
TZNAME:EST
DTSTART:20241103T060000
END:STANDARD
BEGIN:DAYLIGHT
TZOFFSETFROM:-0500
TZOFFSETTO:-0400
TZNAME:EDT
DTSTART:20250309T070000
END:DAYLIGHT
BEGIN:STANDARD
TZOFFSETFROM:-0400
TZOFFSETTO:-0500
TZNAME:EST
DTSTART:20251102T060000
END:STANDARD
BEGIN:DAYLIGHT
TZOFFSETFROM:-0500
TZOFFSETTO:-0400
TZNAME:EDT
DTSTART:20260308T070000
END:DAYLIGHT
BEGIN:STANDARD
TZOFFSETFROM:-0400
TZOFFSETTO:-0500
TZNAME:EST
DTSTART:20261101T060000
END:STANDARD
END:VTIMEZONE
BEGIN:VEVENT
DTSTART;TZID=America/New_York:20251101T083000
DTEND;TZID=America/New_York:20251101T103000
DTSTAMP:20260422T225326
CREATED:20251022T174533Z
LAST-MODIFIED:20251022T174533Z
UID:25757-1761985800-1761993000@adventlutheranyork.org
SUMMARY:YJSO
DESCRIPTION:
URL:https://adventlutheranyork.org/event/yjso-16/
CATEGORIES:Community
END:VEVENT
BEGIN:VEVENT
DTSTART;TZID=America/New_York:20251030T183000
DTEND;TZID=America/New_York:20251030T193000
DTSTAMP:20260422T225327
CREATED:20250925T163248Z
LAST-MODIFIED:20250925T163248Z
UID:25712-1761849000-1761852600@adventlutheranyork.org
SUMMARY:Finance Committee Meeting
DESCRIPTION:
URL:https://adventlutheranyork.org/event/finance-committee-meeting-10/
CATEGORIES:Committee
END:VEVENT
BEGIN:VEVENT
DTSTART;TZID=America/New_York:20251030T183000
DTEND;TZID=America/New_York:20251030T193000
DTSTAMP:20260422T225327
CREATED:20250925T162517Z
LAST-MODIFIED:20250925T162517Z
UID:25707-1761849000-1761852600@adventlutheranyork.org
SUMMARY:Pressly Ridge in FH
DESCRIPTION:
URL:https://adventlutheranyork.org/event/pressly-ridge-in-fh/
CATEGORIES:Community
END:VEVENT
BEGIN:VEVENT
DTSTART;TZID=America/New_York:20251028T110000
DTEND;TZID=America/New_York:20251028T120000
DTSTAMP:20260422T225327
CREATED:20250925T162418Z
LAST-MODIFIED:20250925T162418Z
UID:25705-1761649200-1761652800@adventlutheranyork.org
SUMMARY:Brown Baggers
DESCRIPTION:
URL:https://adventlutheranyork.org/event/brown-baggers-40/
CATEGORIES:Brown Baggers
END:VEVENT
BEGIN:VEVENT
DTSTART;TZID=America/New_York:20251026T094500
DTEND;TZID=America/New_York:20251026T104500
DTSTAMP:20260422T225327
CREATED:20250925T161546Z
LAST-MODIFIED:20250925T161546Z
UID:25701-1761471900-1761475500@adventlutheranyork.org
SUMMARY:Sunday School
DESCRIPTION:
URL:https://adventlutheranyork.org/event/sunday-school-62/
CATEGORIES:Christian Education,Family Ministry
END:VEVENT
BEGIN:VEVENT
DTSTART;TZID=America/New_York:20251026T093000
DTEND;TZID=America/New_York:20251026T094500
DTSTAMP:20260422T225327
CREATED:20250925T161505Z
LAST-MODIFIED:20250925T161505Z
UID:25699-1761471000-1761471900@adventlutheranyork.org
SUMMARY:Youth Choir Rehearsal
DESCRIPTION:
URL:https://adventlutheranyork.org/event/youth-choir-rehearsal-34/
CATEGORIES:Music Ministry
END:VEVENT
BEGIN:VEVENT
DTSTART;TZID=America/New_York:20251026T083000
DTEND;TZID=America/New_York:20251026T093000
DTSTAMP:20260422T225327
CREATED:20250925T161421Z
LAST-MODIFIED:20250925T161421Z
UID:25697-1761467400-1761471000@adventlutheranyork.org
SUMMARY:Worship Service
DESCRIPTION:
URL:https://adventlutheranyork.org/event/worship-service-172/
CATEGORIES:Services
END:VEVENT
BEGIN:VEVENT
DTSTART;VALUE=DATE:20251026
DTEND;VALUE=DATE:20251027
DTSTAMP:20260422T225327
CREATED:20250925T161342Z
LAST-MODIFIED:20250925T161342Z
UID:25695-1761436800-1761523199@adventlutheranyork.org
SUMMARY:Confirmation
DESCRIPTION:
URL:https://adventlutheranyork.org/event/confirmation/
END:VEVENT
BEGIN:VEVENT
DTSTART;VALUE=DATE:20251026
DTEND;VALUE=DATE:20251027
DTSTAMP:20260422T225327
CREATED:20250925T160852Z
LAST-MODIFIED:20250925T160852Z
UID:25693-1761436800-1761523199@adventlutheranyork.org
SUMMARY:Reformation Sunday
DESCRIPTION:
URL:https://adventlutheranyork.org/event/reformation-sunday-2/
END:VEVENT
BEGIN:VEVENT
DTSTART;TZID=America/New_York:20251025T083000
DTEND;TZID=America/New_York:20251025T103000
DTSTAMP:20260422T225327
CREATED:20250925T160806Z
LAST-MODIFIED:20250925T160806Z
UID:25691-1761381000-1761388200@adventlutheranyork.org
SUMMARY:YJSO
DESCRIPTION:
URL:https://adventlutheranyork.org/event/yjso-15/
CATEGORIES:Community
END:VEVENT
BEGIN:VEVENT
DTSTART;TZID=America/New_York:20251022T183000
DTEND;TZID=America/New_York:20251022T193000
DTSTAMP:20260422T225327
CREATED:20250924T012858Z
LAST-MODIFIED:20250924T012858Z
UID:25684-1761157800-1761161400@adventlutheranyork.org
SUMMARY:Endowment Committee Meeting
DESCRIPTION:
URL:https://adventlutheranyork.org/event/endowment-committee-meeting/
CATEGORIES:Committee
END:VEVENT
BEGIN:VEVENT
DTSTART;TZID=America/New_York:20251022T180000
DTEND;TZID=America/New_York:20251022T190000
DTSTAMP:20260422T225327
CREATED:20250924T012758Z
LAST-MODIFIED:20250924T012758Z
UID:25682-1761156000-1761159600@adventlutheranyork.org
SUMMARY:Handbell Ensemble Rehearsal
DESCRIPTION:
URL:https://adventlutheranyork.org/event/handbell-ensemble-rehearsal-36/
CATEGORIES:Music Ministry
END:VEVENT
BEGIN:VEVENT
DTSTART;TZID=America/New_York:20251022T160000
DTEND;TZID=America/New_York:20251022T170000
DTSTAMP:20260422T225327
CREATED:20250924T012249Z
LAST-MODIFIED:20250924T012249Z
UID:25680-1761148800-1761152400@adventlutheranyork.org
SUMMARY:Nominating Committee Meeting
DESCRIPTION:
URL:https://adventlutheranyork.org/event/nominating-committee-meeting/
CATEGORIES:Committee
END:VEVENT
BEGIN:VEVENT
DTSTART;TZID=America/New_York:20251022T080000
DTEND;TZID=America/New_York:20251022T090000
DTSTAMP:20260422T225327
CREATED:20250924T012138Z
LAST-MODIFIED:20250924T012138Z
UID:25678-1761120000-1761123600@adventlutheranyork.org
SUMMARY:Good News & Brews
DESCRIPTION:
URL:https://adventlutheranyork.org/event/good-news-brews-4/
END:VEVENT
BEGIN:VEVENT
DTSTART;TZID=America/New_York:20251020T183000
DTEND;TZID=America/New_York:20251020T193000
DTSTAMP:20260422T225327
CREATED:20250924T011849Z
LAST-MODIFIED:20250924T011849Z
UID:25676-1760985000-1760988600@adventlutheranyork.org
SUMMARY:Church Council Meeting
DESCRIPTION:
URL:https://adventlutheranyork.org/event/church-council-meeting-5/
CATEGORIES:Committee
END:VEVENT
BEGIN:VEVENT
DTSTART;TZID=America/New_York:20251020T090000
DTEND;TZID=America/New_York:20251020T100000
DTSTAMP:20260422T225327
CREATED:20250924T011542Z
LAST-MODIFIED:20250924T011542Z
UID:25674-1760950800-1760954400@adventlutheranyork.org
SUMMARY:Joy in the Morning
DESCRIPTION:
URL:https://adventlutheranyork.org/event/joy-in-the-morning-29/
CATEGORIES:Joy in the Morning
END:VEVENT
BEGIN:VEVENT
DTSTART;TZID=America/New_York:20251019T121500
DTEND;TZID=America/New_York:20251019T131500
DTSTAMP:20260422T225327
CREATED:20250923T193831Z
LAST-MODIFIED:20250923T193831Z
UID:25671-1760876100-1760879700@adventlutheranyork.org
SUMMARY:Communication Team Meeting
DESCRIPTION:
URL:https://adventlutheranyork.org/event/communication-team-meeting/
CATEGORIES:Administration
END:VEVENT
BEGIN:VEVENT
DTSTART;TZID=America/New_York:20251019T111500
DTEND;TZID=America/New_York:20251019T120000
DTSTAMP:20260422T225327
CREATED:20250923T193740Z
LAST-MODIFIED:20250923T193740Z
UID:25669-1760872500-1760875200@adventlutheranyork.org
SUMMARY:Contemporary Worship Service
DESCRIPTION:
URL:https://adventlutheranyork.org/event/contemporary-worship-service-47/
CATEGORIES:Services
END:VEVENT
BEGIN:VEVENT
DTSTART;TZID=America/New_York:20251019T110000
DTEND;TZID=America/New_York:20251019T120000
DTSTAMP:20260422T225327
CREATED:20250923T193653Z
LAST-MODIFIED:20250923T193653Z
UID:25667-1760871600-1760875200@adventlutheranyork.org
SUMMARY:Worship Service
DESCRIPTION:
URL:https://adventlutheranyork.org/event/worship-service-171/
CATEGORIES:Services
END:VEVENT
BEGIN:VEVENT
DTSTART;TZID=America/New_York:20251019T094500
DTEND;TZID=America/New_York:20251019T104500
DTSTAMP:20260422T225327
CREATED:20250923T193610Z
LAST-MODIFIED:20250923T193610Z
UID:25665-1760867100-1760870700@adventlutheranyork.org
SUMMARY:Sunday School
DESCRIPTION:
URL:https://adventlutheranyork.org/event/sunday-school-61/
CATEGORIES:Christian Education,Family Ministry
END:VEVENT
BEGIN:VEVENT
DTSTART;TZID=America/New_York:20251019T083000
DTEND;TZID=America/New_York:20251019T093000
DTSTAMP:20260422T225327
CREATED:20250923T193358Z
LAST-MODIFIED:20250923T193358Z
UID:25663-1760862600-1760866200@adventlutheranyork.org
SUMMARY:Worship Service
DESCRIPTION:
URL:https://adventlutheranyork.org/event/worship-service-170/
CATEGORIES:Services
END:VEVENT
BEGIN:VEVENT
DTSTART;VALUE=DATE:20251019
DTEND;VALUE=DATE:20251020
DTSTAMP:20260422T225327
CREATED:20250923T193248Z
LAST-MODIFIED:20250923T193248Z
UID:25661-1760832000-1760918399@adventlutheranyork.org
SUMMARY:Harvest Home Sunday
DESCRIPTION:
URL:https://adventlutheranyork.org/event/harvest-home-sunday-2/
END:VEVENT
BEGIN:VEVENT
DTSTART;TZID=America/New_York:20251018T170000
DTEND;TZID=America/New_York:20251018T190000
DTSTAMP:20260422T225327
CREATED:20250923T193149Z
LAST-MODIFIED:20250923T193149Z
UID:25659-1760806800-1760814000@adventlutheranyork.org
SUMMARY:Trunk or Treat
DESCRIPTION:
URL:https://adventlutheranyork.org/event/trunk-or-treat-2/
CATEGORIES:Community,Family Ministry
END:VEVENT
BEGIN:VEVENT
DTSTART;TZID=America/New_York:20251018T083000
DTEND;TZID=America/New_York:20251018T103000
DTSTAMP:20260422T225327
CREATED:20250923T193059Z
LAST-MODIFIED:20250923T193059Z
UID:25657-1760776200-1760783400@adventlutheranyork.org
SUMMARY:YJSO
DESCRIPTION:
URL:https://adventlutheranyork.org/event/yjso-14/
CATEGORIES:Community
END:VEVENT
BEGIN:VEVENT
DTSTART;TZID=America/New_York:20251017T100000
DTEND;TZID=America/New_York:20251017T110000
DTSTAMP:20260422T225327
CREATED:20250923T192958Z
LAST-MODIFIED:20250923T192958Z
UID:25655-1760695200-1760698800@adventlutheranyork.org
SUMMARY:Ladies Shares and Prayers
DESCRIPTION:
URL:https://adventlutheranyork.org/event/ladies-shares-and-prayers-7/
CATEGORIES:Ladies Shares and Prayers
END:VEVENT
BEGIN:VEVENT
DTSTART;TZID=America/New_York:20251016T183000
DTEND;TZID=America/New_York:20251016T193000
DTSTAMP:20260422T225327
CREATED:20250923T182407Z
LAST-MODIFIED:20250923T182407Z
UID:25652-1760639400-1760643000@adventlutheranyork.org
SUMMARY:Worship & Music Committee Meeting
DESCRIPTION:
URL:https://adventlutheranyork.org/event/worship-music-committee-meeting-11/
CATEGORIES:Committee
END:VEVENT
BEGIN:VEVENT
DTSTART;TZID=America/New_York:20251016T180000
DTEND;TZID=America/New_York:20251016T190000
DTSTAMP:20260422T225327
CREATED:20250923T182309Z
LAST-MODIFIED:20250923T182309Z
UID:25650-1760637600-1760641200@adventlutheranyork.org
SUMMARY:Girl Scouts
DESCRIPTION:
URL:https://adventlutheranyork.org/event/girl-scouts-17/
CATEGORIES:Community
END:VEVENT
BEGIN:VEVENT
DTSTART;TZID=America/New_York:20251015T190000
DTEND;TZID=America/New_York:20251015T203000
DTSTAMP:20260422T225327
CREATED:20250923T182214Z
LAST-MODIFIED:20250923T182214Z
UID:25648-1760554800-1760560200@adventlutheranyork.org
SUMMARY:Adult Choir Rehearsal
DESCRIPTION:
URL:https://adventlutheranyork.org/event/adult-choir-rehearsal-66/
CATEGORIES:Music Ministry
END:VEVENT
BEGIN:VEVENT
DTSTART;TZID=America/New_York:20251015T180000
DTEND;TZID=America/New_York:20251015T190000
DTSTAMP:20260422T225327
CREATED:20250923T182105Z
LAST-MODIFIED:20250923T182105Z
UID:25646-1760551200-1760554800@adventlutheranyork.org
SUMMARY:Handbell Ensemble Rehearsal
DESCRIPTION:
URL:https://adventlutheranyork.org/event/handbell-ensemble-rehearsal-35/
CATEGORIES:Music Ministry
END:VEVENT
BEGIN:VEVENT
DTSTART;TZID=America/New_York:20251014T183000
DTEND;TZID=America/New_York:20251014T193000
DTSTAMP:20260422T225327
CREATED:20250923T181958Z
LAST-MODIFIED:20250923T181958Z
UID:25644-1760466600-1760470200@adventlutheranyork.org
SUMMARY:Advent Book Club
DESCRIPTION:
URL:https://adventlutheranyork.org/event/advent-book-club-34/
CATEGORIES:Advent Book Club
END:VEVENT
END:VCALENDAR