BEGIN:VCALENDAR
VERSION:2.0
PRODID:-//Advent Lutheran Church - ECPv6.15.20//NONSGML v1.0//EN
CALSCALE:GREGORIAN
METHOD:PUBLISH
X-WR-CALNAME:Advent Lutheran Church
X-ORIGINAL-URL:https://adventlutheranyork.org
X-WR-CALDESC:Events for Advent Lutheran Church
REFRESH-INTERVAL;VALUE=DURATION:PT1H
X-Robots-Tag:noindex
X-PUBLISHED-TTL:PT1H
BEGIN:VTIMEZONE
TZID:America/New_York
BEGIN:DAYLIGHT
TZOFFSETFROM:-0500
TZOFFSETTO:-0400
TZNAME:EDT
DTSTART:20250309T070000
END:DAYLIGHT
BEGIN:STANDARD
TZOFFSETFROM:-0400
TZOFFSETTO:-0500
TZNAME:EST
DTSTART:20251102T060000
END:STANDARD
BEGIN:DAYLIGHT
TZOFFSETFROM:-0500
TZOFFSETTO:-0400
TZNAME:EDT
DTSTART:20260308T070000
END:DAYLIGHT
BEGIN:STANDARD
TZOFFSETFROM:-0400
TZOFFSETTO:-0500
TZNAME:EST
DTSTART:20261101T060000
END:STANDARD
BEGIN:DAYLIGHT
TZOFFSETFROM:-0500
TZOFFSETTO:-0400
TZNAME:EDT
DTSTART:20270314T070000
END:DAYLIGHT
BEGIN:STANDARD
TZOFFSETFROM:-0400
TZOFFSETTO:-0500
TZNAME:EST
DTSTART:20271107T060000
END:STANDARD
END:VTIMEZONE
BEGIN:VEVENT
DTSTART;TZID=America/New_York:20260325T190000
DTEND;TZID=America/New_York:20260325T193000
DTSTAMP:20260421T174426
CREATED:20260228T165149Z
LAST-MODIFIED:20260228T165149Z
UID:26538-1774465200-1774467000@adventlutheranyork.org
SUMMARY:Midweek Lenten Service
DESCRIPTION:
URL:https://adventlutheranyork.org/event/midweek-lenten-service-6/
CATEGORIES:Services
END:VEVENT
BEGIN:VEVENT
DTSTART;TZID=America/New_York:20260325T180000
DTEND;TZID=America/New_York:20260325T190000
DTSTAMP:20260421T174426
CREATED:20260228T165040Z
LAST-MODIFIED:20260228T165040Z
UID:26536-1774461600-1774465200@adventlutheranyork.org
SUMMARY:Handbell Rehearsal
DESCRIPTION:
URL:https://adventlutheranyork.org/event/handbell-rehearsal-27/
CATEGORIES:Music Ministry
END:VEVENT
BEGIN:VEVENT
DTSTART;TZID=America/New_York:20260325T180000
DTEND;TZID=America/New_York:20260325T190000
DTSTAMP:20260421T174426
CREATED:20260228T164927Z
LAST-MODIFIED:20260228T164927Z
UID:26534-1774461600-1774465200@adventlutheranyork.org
SUMMARY:Lenten Supper
DESCRIPTION:
URL:https://adventlutheranyork.org/event/lenten-supper-13/
END:VEVENT
BEGIN:VEVENT
DTSTART;TZID=America/New_York:20260324T110000
DTEND;TZID=America/New_York:20260324T120000
DTSTAMP:20260421T174426
CREATED:20260228T164727Z
LAST-MODIFIED:20260228T164727Z
UID:26532-1774350000-1774353600@adventlutheranyork.org
SUMMARY:Brown Baggers
DESCRIPTION:
URL:https://adventlutheranyork.org/event/brown-baggers-50/
CATEGORIES:Brown Baggers
END:VEVENT
BEGIN:VEVENT
DTSTART;VALUE=DATE:20260323
DTEND;VALUE=DATE:20260324
DTSTAMP:20260421T174426
CREATED:20260323T011529Z
LAST-MODIFIED:20260323T011529Z
UID:26676-1774224000-1774310399@adventlutheranyork.org
SUMMARY:Easter 3
DESCRIPTION:
URL:https://adventlutheranyork.org/event/easter-3-3/
END:VEVENT
BEGIN:VEVENT
DTSTART;TZID=America/New_York:20260322T180000
DTEND;TZID=America/New_York:20260322T200000
DTSTAMP:20260421T174426
CREATED:20260227T171704Z
LAST-MODIFIED:20260227T171704Z
UID:26530-1774202400-1774209600@adventlutheranyork.org
SUMMARY:Advent's Got Talent Show
DESCRIPTION:
URL:https://adventlutheranyork.org/event/advents-got-talent-show-3/
END:VEVENT
BEGIN:VEVENT
DTSTART;TZID=America/New_York:20260322T170000
DTEND;TZID=America/New_York:20260322T180000
DTSTAMP:20260421T174426
CREATED:20260227T171539Z
LAST-MODIFIED:20260227T171539Z
UID:26527-1774198800-1774202400@adventlutheranyork.org
SUMMARY:Advent's Got Talent Dinner
DESCRIPTION:
URL:https://adventlutheranyork.org/event/advents-got-talent-dinner-3/
END:VEVENT
BEGIN:VEVENT
DTSTART;TZID=America/New_York:20260322T111500
DTEND;TZID=America/New_York:20260322T120000
DTSTAMP:20260421T174426
CREATED:20260227T171434Z
LAST-MODIFIED:20260227T171434Z
UID:26525-1774178100-1774180800@adventlutheranyork.org
SUMMARY:Contemporary Worship Service
DESCRIPTION:
URL:https://adventlutheranyork.org/event/contemporary-worship-service-66/
CATEGORIES:Services
END:VEVENT
BEGIN:VEVENT
DTSTART;TZID=America/New_York:20260322T110000
DTEND;TZID=America/New_York:20260322T120000
DTSTAMP:20260421T174426
CREATED:20260227T171308Z
LAST-MODIFIED:20260227T171308Z
UID:26523-1774177200-1774180800@adventlutheranyork.org
SUMMARY:Worship Service
DESCRIPTION:
URL:https://adventlutheranyork.org/event/worship-service-187/
CATEGORIES:Services
END:VEVENT
BEGIN:VEVENT
DTSTART;TZID=America/New_York:20260322T094500
DTEND;TZID=America/New_York:20260322T104500
DTSTAMP:20260421T174426
CREATED:20260227T171215Z
LAST-MODIFIED:20260227T171215Z
UID:26521-1774172700-1774176300@adventlutheranyork.org
SUMMARY:Sunday School
DESCRIPTION:
URL:https://adventlutheranyork.org/event/sunday-school-83/
CATEGORIES:Christian Education
END:VEVENT
BEGIN:VEVENT
DTSTART;TZID=America/New_York:20260322T093000
DTEND;TZID=America/New_York:20260322T094500
DTSTAMP:20260421T174426
CREATED:20260227T171113Z
LAST-MODIFIED:20260227T171113Z
UID:26519-1774171800-1774172700@adventlutheranyork.org
SUMMARY:Youth Choir Rehearsal
DESCRIPTION:
URL:https://adventlutheranyork.org/event/youth-choir-rehearsal-48/
CATEGORIES:Music Ministry
END:VEVENT
BEGIN:VEVENT
DTSTART;TZID=America/New_York:20260322T083000
DTEND;TZID=America/New_York:20260322T093000
DTSTAMP:20260421T174426
CREATED:20260227T170440Z
LAST-MODIFIED:20260227T170440Z
UID:26517-1774168200-1774171800@adventlutheranyork.org
SUMMARY:Worship Service
DESCRIPTION:
URL:https://adventlutheranyork.org/event/worship-service-186/
CATEGORIES:Services
END:VEVENT
BEGIN:VEVENT
DTSTART;VALUE=DATE:20260322
DTEND;VALUE=DATE:20260323
DTSTAMP:20260421T174426
CREATED:20260227T170341Z
LAST-MODIFIED:20260227T170341Z
UID:26515-1774137600-1774223999@adventlutheranyork.org
SUMMARY:Lent 4
DESCRIPTION:
URL:https://adventlutheranyork.org/event/lent-4-3/
END:VEVENT
BEGIN:VEVENT
DTSTART;TZID=America/New_York:20260321T130000
DTEND;TZID=America/New_York:20260321T160000
DTSTAMP:20260421T174426
CREATED:20260227T170256Z
LAST-MODIFIED:20260227T170256Z
UID:26513-1774098000-1774108800@adventlutheranyork.org
SUMMARY:Prom Dress Pop-Up Shop
DESCRIPTION:
URL:https://adventlutheranyork.org/event/prom-dress-pop-up-shop/
CATEGORIES:Community
END:VEVENT
BEGIN:VEVENT
DTSTART;TZID=America/New_York:20260320T100000
DTEND;TZID=America/New_York:20260320T110000
DTSTAMP:20260421T174426
CREATED:20260227T170153Z
LAST-MODIFIED:20260227T170153Z
UID:26511-1774000800-1774004400@adventlutheranyork.org
SUMMARY:Ladies Shares & Prayers
DESCRIPTION:
URL:https://adventlutheranyork.org/event/ladies-shares-prayers-9/
CATEGORIES:Ladies Shares and Prayers
END:VEVENT
BEGIN:VEVENT
DTSTART;TZID=America/New_York:20260319T193000
DTEND;TZID=America/New_York:20260319T203000
DTSTAMP:20260421T174426
CREATED:20260227T165959Z
LAST-MODIFIED:20260227T165959Z
UID:26509-1773948600-1773952200@adventlutheranyork.org
SUMMARY:Technology Committee Meeting
DESCRIPTION:
URL:https://adventlutheranyork.org/event/technology-committee-meeting-6/
CATEGORIES:Committee
END:VEVENT
BEGIN:VEVENT
DTSTART;TZID=America/New_York:20260319T183000
DTEND;TZID=America/New_York:20260319T193000
DTSTAMP:20260421T174426
CREATED:20260227T165856Z
LAST-MODIFIED:20260227T165856Z
UID:26507-1773945000-1773948600@adventlutheranyork.org
SUMMARY:100th Anniversary Committee Meeting
DESCRIPTION:
URL:https://adventlutheranyork.org/event/100th-anniversary-committee-meeting-6/
CATEGORIES:Committee
END:VEVENT
BEGIN:VEVENT
DTSTART;TZID=America/New_York:20260319T180000
DTEND;TZID=America/New_York:20260319T190000
DTSTAMP:20260421T174426
CREATED:20260227T165718Z
LAST-MODIFIED:20260227T165718Z
UID:26505-1773943200-1773946800@adventlutheranyork.org
SUMMARY:Worship Band Rehearsal
DESCRIPTION:
URL:https://adventlutheranyork.org/event/worship-band-rehearsal-9/
CATEGORIES:Music Ministry
END:VEVENT
BEGIN:VEVENT
DTSTART;TZID=America/New_York:20260319T180000
DTEND;TZID=America/New_York:20260319T190000
DTSTAMP:20260421T174426
CREATED:20260227T165627Z
LAST-MODIFIED:20260227T165627Z
UID:26503-1773943200-1773946800@adventlutheranyork.org
SUMMARY:Girl Scouts
DESCRIPTION:
URL:https://adventlutheranyork.org/event/girl-scouts-27/
CATEGORIES:Community
END:VEVENT
BEGIN:VEVENT
DTSTART;TZID=America/New_York:20260318T194500
DTEND;TZID=America/New_York:20260318T210000
DTSTAMP:20260421T174426
CREATED:20260227T131051Z
LAST-MODIFIED:20260227T131051Z
UID:26501-1773863100-1773867600@adventlutheranyork.org
SUMMARY:Adult Choir Rehearsal
DESCRIPTION:
URL:https://adventlutheranyork.org/event/adult-choir-rehearsal-81/
CATEGORIES:Music Ministry
END:VEVENT
BEGIN:VEVENT
DTSTART;TZID=America/New_York:20260318T190000
DTEND;TZID=America/New_York:20260318T193000
DTSTAMP:20260421T174426
CREATED:20260227T130931Z
LAST-MODIFIED:20260227T130931Z
UID:26499-1773860400-1773862200@adventlutheranyork.org
SUMMARY:Midweek Lenten Service
DESCRIPTION:
URL:https://adventlutheranyork.org/event/midweek-lenten-service-5/
CATEGORIES:Services
END:VEVENT
BEGIN:VEVENT
DTSTART;TZID=America/New_York:20260318T180000
DTEND;TZID=America/New_York:20260318T190000
DTSTAMP:20260421T174426
CREATED:20260227T130705Z
LAST-MODIFIED:20260227T130705Z
UID:26497-1773856800-1773860400@adventlutheranyork.org
SUMMARY:Handbell Rehearsal
DESCRIPTION:
URL:https://adventlutheranyork.org/event/handbell-rehearsal-26/
CATEGORIES:Music Ministry
END:VEVENT
BEGIN:VEVENT
DTSTART;TZID=America/New_York:20260318T180000
DTEND;TZID=America/New_York:20260318T190000
DTSTAMP:20260421T174426
CREATED:20260227T130556Z
LAST-MODIFIED:20260227T130556Z
UID:26495-1773856800-1773860400@adventlutheranyork.org
SUMMARY:Lenten Supper
DESCRIPTION:
URL:https://adventlutheranyork.org/event/lenten-supper-12/
END:VEVENT
BEGIN:VEVENT
DTSTART;TZID=America/New_York:20260318T080000
DTEND;TZID=America/New_York:20260318T090000
DTSTAMP:20260421T174426
CREATED:20260227T130453Z
LAST-MODIFIED:20260227T130453Z
UID:26493-1773820800-1773824400@adventlutheranyork.org
SUMMARY:Good News & Brews
DESCRIPTION:
URL:https://adventlutheranyork.org/event/good-news-brews-8/
END:VEVENT
BEGIN:VEVENT
DTSTART;TZID=America/New_York:20260316T183000
DTEND;TZID=America/New_York:20260316T203000
DTSTAMP:20260421T174426
CREATED:20260227T130241Z
LAST-MODIFIED:20260227T130241Z
UID:26491-1773685800-1773693000@adventlutheranyork.org
SUMMARY:Congregational Council Meeting
DESCRIPTION:
URL:https://adventlutheranyork.org/event/congregational-council-meeting-2/
CATEGORIES:Administration,Committee
END:VEVENT
BEGIN:VEVENT
DTSTART;TZID=America/New_York:20260316T090000
DTEND;TZID=America/New_York:20260316T100000
DTSTAMP:20260421T174426
CREATED:20260227T130114Z
LAST-MODIFIED:20260227T130114Z
UID:26489-1773651600-1773655200@adventlutheranyork.org
SUMMARY:Joy in the Morning
DESCRIPTION:
URL:https://adventlutheranyork.org/event/joy-in-the-morning-39/
CATEGORIES:Joy in the Morning
END:VEVENT
BEGIN:VEVENT
DTSTART;TZID=America/New_York:20260315T160000
DTEND;TZID=America/New_York:20260315T170000
DTSTAMP:20260421T174426
CREATED:20260227T125927Z
LAST-MODIFIED:20260227T125927Z
UID:26487-1773590400-1773594000@adventlutheranyork.org
SUMMARY:Prayers & Stitches
DESCRIPTION:
URL:https://adventlutheranyork.org/event/prayers-stitches-7/
CATEGORIES:Prayers and Stitches
END:VEVENT
BEGIN:VEVENT
DTSTART;TZID=America/New_York:20260315T140000
DTEND;TZID=America/New_York:20260315T150000
DTSTAMP:20260421T174426
CREATED:20260227T125829Z
LAST-MODIFIED:20260227T125829Z
UID:26485-1773583200-1773586800@adventlutheranyork.org
SUMMARY:Pre-Assembly Conference
DESCRIPTION:
URL:https://adventlutheranyork.org/event/pre-assembly-conference/
END:VEVENT
BEGIN:VEVENT
DTSTART;TZID=America/New_York:20260315T111500
DTEND;TZID=America/New_York:20260315T120000
DTSTAMP:20260421T174426
CREATED:20260227T125720Z
LAST-MODIFIED:20260227T125720Z
UID:26483-1773573300-1773576000@adventlutheranyork.org
SUMMARY:Contemporary Worship Service
DESCRIPTION:
URL:https://adventlutheranyork.org/event/contemporary-worship-service-65/
CATEGORIES:Services
END:VEVENT
BEGIN:VEVENT
DTSTART;TZID=America/New_York:20260315T110000
DTEND;TZID=America/New_York:20260315T120000
DTSTAMP:20260421T174426
CREATED:20260227T125612Z
LAST-MODIFIED:20260227T125612Z
UID:26481-1773572400-1773576000@adventlutheranyork.org
SUMMARY:Worship Service
DESCRIPTION:
URL:https://adventlutheranyork.org/event/worship-service-185/
CATEGORIES:Services
END:VEVENT
END:VCALENDAR