BEGIN:VCALENDAR
VERSION:2.0
PRODID:-//Advent Lutheran Church - ECPv6.15.20//NONSGML v1.0//EN
CALSCALE:GREGORIAN
METHOD:PUBLISH
X-ORIGINAL-URL:https://adventlutheranyork.org
X-WR-CALDESC:Events for Advent Lutheran Church
REFRESH-INTERVAL;VALUE=DURATION:PT1H
X-Robots-Tag:noindex
X-PUBLISHED-TTL:PT1H
BEGIN:VTIMEZONE
TZID:America/New_York
BEGIN:DAYLIGHT
TZOFFSETFROM:-0500
TZOFFSETTO:-0400
TZNAME:EDT
DTSTART:20240310T070000
END:DAYLIGHT
BEGIN:STANDARD
TZOFFSETFROM:-0400
TZOFFSETTO:-0500
TZNAME:EST
DTSTART:20241103T060000
END:STANDARD
BEGIN:DAYLIGHT
TZOFFSETFROM:-0500
TZOFFSETTO:-0400
TZNAME:EDT
DTSTART:20250309T070000
END:DAYLIGHT
BEGIN:STANDARD
TZOFFSETFROM:-0400
TZOFFSETTO:-0500
TZNAME:EST
DTSTART:20251102T060000
END:STANDARD
BEGIN:DAYLIGHT
TZOFFSETFROM:-0500
TZOFFSETTO:-0400
TZNAME:EDT
DTSTART:20260308T070000
END:DAYLIGHT
BEGIN:STANDARD
TZOFFSETFROM:-0400
TZOFFSETTO:-0500
TZNAME:EST
DTSTART:20261101T060000
END:STANDARD
END:VTIMEZONE
BEGIN:VEVENT
DTSTART;TZID=America/New_York:20250226T190000
DTEND;TZID=America/New_York:20250226T203000
DTSTAMP:20260422T214844
CREATED:20250201T233607Z
LAST-MODIFIED:20250201T233607Z
UID:24725-1740596400-1740601800@adventlutheranyork.org
SUMMARY:Adult Choir Rehearsal
DESCRIPTION:
URL:https://adventlutheranyork.org/event/adult-choir-rehearsal-46/
CATEGORIES:Music Ministry
END:VEVENT
BEGIN:VEVENT
DTSTART;VALUE=DATE:20250302
DTEND;VALUE=DATE:20250303
DTSTAMP:20260422T214844
CREATED:20250228T234457Z
LAST-MODIFIED:20250228T234457Z
UID:24730-1740873600-1740959999@adventlutheranyork.org
SUMMARY:Transfiguration of Our Lord
DESCRIPTION:
URL:https://adventlutheranyork.org/event/transfiguration-of-our-lord/
END:VEVENT
BEGIN:VEVENT
DTSTART;VALUE=DATE:20250302
DTEND;VALUE=DATE:20250303
DTSTAMP:20260422T214844
CREATED:20250301T004352Z
LAST-MODIFIED:20250301T004352Z
UID:24732-1740873600-1740959999@adventlutheranyork.org
SUMMARY:Camping Sunday
DESCRIPTION:
URL:https://adventlutheranyork.org/event/camping-sunday-2/
END:VEVENT
BEGIN:VEVENT
DTSTART;TZID=America/New_York:20250302T083000
DTEND;TZID=America/New_York:20250302T093000
DTSTAMP:20260422T214844
CREATED:20250301T004505Z
LAST-MODIFIED:20250301T004505Z
UID:24734-1740904200-1740907800@adventlutheranyork.org
SUMMARY:Worship Service
DESCRIPTION:
URL:https://adventlutheranyork.org/event/worship-service-112/
CATEGORIES:Services
END:VEVENT
BEGIN:VEVENT
DTSTART;TZID=America/New_York:20250302T093000
DTEND;TZID=America/New_York:20250302T094500
DTSTAMP:20260422T214844
CREATED:20250301T004616Z
LAST-MODIFIED:20250301T004616Z
UID:24736-1740907800-1740908700@adventlutheranyork.org
SUMMARY:Youth Choir Rehearsal
DESCRIPTION:
URL:https://adventlutheranyork.org/event/youth-choir-rehearsal-22/
CATEGORIES:Music Ministry
END:VEVENT
BEGIN:VEVENT
DTSTART;TZID=America/New_York:20250302T094500
DTEND;TZID=America/New_York:20250302T104500
DTSTAMP:20260422T214844
CREATED:20250301T004714Z
LAST-MODIFIED:20250301T004714Z
UID:24738-1740908700-1740912300@adventlutheranyork.org
SUMMARY:Sunday School
DESCRIPTION:
URL:https://adventlutheranyork.org/event/sunday-school-45/
CATEGORIES:Christian Education
END:VEVENT
BEGIN:VEVENT
DTSTART;TZID=America/New_York:20250302T094500
DTEND;TZID=America/New_York:20250302T104500
DTSTAMP:20260422T214844
CREATED:20250301T004923Z
LAST-MODIFIED:20250301T004923Z
UID:24740-1740908700-1740912300@adventlutheranyork.org
SUMMARY:Outreach Meeting
DESCRIPTION:
URL:https://adventlutheranyork.org/event/outreach-meeting/
CATEGORIES:Committee
END:VEVENT
BEGIN:VEVENT
DTSTART;TZID=America/New_York:20250302T110000
DTEND;TZID=America/New_York:20250302T120000
DTSTAMP:20260422T214844
CREATED:20250301T005005Z
LAST-MODIFIED:20250301T005005Z
UID:24742-1740913200-1740916800@adventlutheranyork.org
SUMMARY:Worship Service
DESCRIPTION:
URL:https://adventlutheranyork.org/event/worship-service-113/
CATEGORIES:Services
END:VEVENT
BEGIN:VEVENT
DTSTART;TZID=America/New_York:20250302T111500
DTEND;TZID=America/New_York:20250302T120000
DTSTAMP:20260422T214844
CREATED:20250301T005633Z
LAST-MODIFIED:20250301T005633Z
UID:24744-1740914100-1740916800@adventlutheranyork.org
SUMMARY:Contemporary Worship Service
DESCRIPTION:
URL:https://adventlutheranyork.org/event/contemporary-worship-service-19/
CATEGORIES:Services
END:VEVENT
BEGIN:VEVENT
DTSTART;TZID=America/New_York:20250303T090000
DTEND;TZID=America/New_York:20250303T220000
DTSTAMP:20260422T214844
CREATED:20250301T005934Z
LAST-MODIFIED:20250301T005934Z
UID:24746-1740992400-1741039200@adventlutheranyork.org
SUMMARY:Joy in the Morning
DESCRIPTION:
URL:https://adventlutheranyork.org/event/joy-in-the-morning-21/
CATEGORIES:Joy in the Morning
END:VEVENT
BEGIN:VEVENT
DTSTART;VALUE=DATE:20250305
DTEND;VALUE=DATE:20250306
DTSTAMP:20260422T214844
CREATED:20250301T010037Z
LAST-MODIFIED:20250301T010140Z
UID:24748-1741132800-1741219199@adventlutheranyork.org
SUMMARY:Ash Wednesday
DESCRIPTION:
URL:https://adventlutheranyork.org/event/ash-wednesday-2/
CATEGORIES:Holiday
END:VEVENT
BEGIN:VEVENT
DTSTART;TZID=America/New_York:20250305T060000
DTEND;TZID=America/New_York:20250305T070000
DTSTAMP:20260422T214844
CREATED:20250301T010307Z
LAST-MODIFIED:20250301T010307Z
UID:24751-1741154400-1741158000@adventlutheranyork.org
SUMMARY:Drive-by Ashes
DESCRIPTION:
URL:https://adventlutheranyork.org/event/drive-by-ashes-2/
END:VEVENT
BEGIN:VEVENT
DTSTART;TZID=America/New_York:20250305T090000
DTEND;TZID=America/New_York:20250305T100000
DTSTAMP:20260422T214844
CREATED:20250301T010413Z
LAST-MODIFIED:20250301T010413Z
UID:24753-1741165200-1741168800@adventlutheranyork.org
SUMMARY:Advent Quilters
DESCRIPTION:
URL:https://adventlutheranyork.org/event/advent-quilters-31/
CATEGORIES:Advent Quilters
END:VEVENT
BEGIN:VEVENT
DTSTART;TZID=America/New_York:20250305T140000
DTEND;TZID=America/New_York:20250305T150000
DTSTAMP:20260422T214844
CREATED:20250301T010532Z
LAST-MODIFIED:20250301T010532Z
UID:24755-1741183200-1741186800@adventlutheranyork.org
SUMMARY:Worship Service
DESCRIPTION:
URL:https://adventlutheranyork.org/event/worship-service-114/
CATEGORIES:Holiday,Services
END:VEVENT
BEGIN:VEVENT
DTSTART;TZID=America/New_York:20250305T190000
DTEND;TZID=America/New_York:20250305T200000
DTSTAMP:20260422T214844
CREATED:20250301T010723Z
LAST-MODIFIED:20250301T010723Z
UID:24757-1741201200-1741204800@adventlutheranyork.org
SUMMARY:Worship Service
DESCRIPTION:
URL:https://adventlutheranyork.org/event/worship-service-115/
CATEGORIES:Holiday,Services
END:VEVENT
BEGIN:VEVENT
DTSTART;TZID=America/New_York:20250306T180000
DTEND;TZID=America/New_York:20250306T190000
DTSTAMP:20260422T214844
CREATED:20250301T011303Z
LAST-MODIFIED:20250301T011303Z
UID:24759-1741284000-1741287600@adventlutheranyork.org
SUMMARY:Girl Scouts
DESCRIPTION:
URL:https://adventlutheranyork.org/event/girl-scouts-8/
CATEGORIES:Community
END:VEVENT
BEGIN:VEVENT
DTSTART;TZID=America/New_York:20250306T180000
DTEND;TZID=America/New_York:20250306T190000
DTSTAMP:20260422T214844
CREATED:20250301T011730Z
LAST-MODIFIED:20250301T011730Z
UID:24761-1741284000-1741287600@adventlutheranyork.org
SUMMARY:Worship Band Rehearsal
DESCRIPTION:
URL:https://adventlutheranyork.org/event/worship-band-rehearsal/
CATEGORIES:Music Ministry
END:VEVENT
BEGIN:VEVENT
DTSTART;TZID=America/New_York:20250308T080000
DTEND;TZID=America/New_York:20250308T090000
DTSTAMP:20260422T214844
CREATED:20250301T012111Z
LAST-MODIFIED:20250301T012315Z
UID:24763-1741420800-1741424400@adventlutheranyork.org
SUMMARY:Men's Bible Study
DESCRIPTION:
URL:https://adventlutheranyork.org/event/mens-bible-study-12/
CATEGORIES:Christian Education
END:VEVENT
BEGIN:VEVENT
DTSTART;TZID=America/New_York:20250308T083000
DTEND;TZID=America/New_York:20250308T113000
DTSTAMP:20260422T214844
CREATED:20250301T014722Z
LAST-MODIFIED:20250301T014722Z
UID:24765-1741422600-1741433400@adventlutheranyork.org
SUMMARY:YJSO Rehearsal
DESCRIPTION:
URL:https://adventlutheranyork.org/event/yjso-rehearsal-4/
CATEGORIES:Community
END:VEVENT
BEGIN:VEVENT
DTSTART;VALUE=DATE:20250309
DTEND;VALUE=DATE:20250310
DTSTAMP:20260422T214844
CREATED:20250302T151313Z
LAST-MODIFIED:20250302T151313Z
UID:24768-1741478400-1741564799@adventlutheranyork.org
SUMMARY:Lent 1
DESCRIPTION:
URL:https://adventlutheranyork.org/event/lent-1-2/
END:VEVENT
BEGIN:VEVENT
DTSTART;VALUE=DATE:20250309
DTEND;VALUE=DATE:20250310
DTSTAMP:20260422T214844
CREATED:20250302T151343Z
LAST-MODIFIED:20250302T151343Z
UID:24770-1741478400-1741564799@adventlutheranyork.org
SUMMARY:Fair Trade Sunday
DESCRIPTION:
URL:https://adventlutheranyork.org/event/fair-trade-sunday-9/
END:VEVENT
BEGIN:VEVENT
DTSTART;TZID=America/New_York:20250309T083000
DTEND;TZID=America/New_York:20250309T093000
DTSTAMP:20260422T214844
CREATED:20250302T151433Z
LAST-MODIFIED:20250302T151433Z
UID:24772-1741509000-1741512600@adventlutheranyork.org
SUMMARY:Worship Service
DESCRIPTION:
URL:https://adventlutheranyork.org/event/worship-service-116/
CATEGORIES:Services
END:VEVENT
BEGIN:VEVENT
DTSTART;TZID=America/New_York:20250309T093000
DTEND;TZID=America/New_York:20250309T094500
DTSTAMP:20260422T214844
CREATED:20250302T151512Z
LAST-MODIFIED:20250302T151512Z
UID:24774-1741512600-1741513500@adventlutheranyork.org
SUMMARY:Youth Choir Rehearsal
DESCRIPTION:
URL:https://adventlutheranyork.org/event/youth-choir-rehearsal-23/
CATEGORIES:Music Ministry
END:VEVENT
BEGIN:VEVENT
DTSTART;TZID=America/New_York:20250309T094500
DTEND;TZID=America/New_York:20250309T104500
DTSTAMP:20260422T214844
CREATED:20250302T151604Z
LAST-MODIFIED:20250302T151604Z
UID:24776-1741513500-1741517100@adventlutheranyork.org
SUMMARY:Sunday School
DESCRIPTION:
URL:https://adventlutheranyork.org/event/sunday-school-46/
CATEGORIES:Christian Education
END:VEVENT
BEGIN:VEVENT
DTSTART;TZID=America/New_York:20250309T110000
DTEND;TZID=America/New_York:20250309T120000
DTSTAMP:20260422T214844
CREATED:20250302T151644Z
LAST-MODIFIED:20250302T151644Z
UID:24778-1741518000-1741521600@adventlutheranyork.org
SUMMARY:Worship Service
DESCRIPTION:
URL:https://adventlutheranyork.org/event/worship-service-117/
CATEGORIES:Services
END:VEVENT
BEGIN:VEVENT
DTSTART;TZID=America/New_York:20250309T111500
DTEND;TZID=America/New_York:20250309T120000
DTSTAMP:20260422T214844
CREATED:20250302T151728Z
LAST-MODIFIED:20250302T151728Z
UID:24780-1741518900-1741521600@adventlutheranyork.org
SUMMARY:Contemporary Worship Service
DESCRIPTION:
URL:https://adventlutheranyork.org/event/contemporary-worship-service-20/
CATEGORIES:Services
END:VEVENT
BEGIN:VEVENT
DTSTART;TZID=America/New_York:20250309T180000
DTEND;TZID=America/New_York:20250309T190000
DTSTAMP:20260422T214844
CREATED:20250302T151808Z
LAST-MODIFIED:20250302T151808Z
UID:24782-1741543200-1741546800@adventlutheranyork.org
SUMMARY:Youth Group Meeting
DESCRIPTION:
URL:https://adventlutheranyork.org/event/youth-group-meeting/
CATEGORIES:Youth Ministry
END:VEVENT
BEGIN:VEVENT
DTSTART;TZID=America/New_York:20250310T180000
DTEND;TZID=America/New_York:20250310T190000
DTSTAMP:20260422T214844
CREATED:20250302T151850Z
LAST-MODIFIED:20250302T151850Z
UID:24784-1741629600-1741633200@adventlutheranyork.org
SUMMARY:Cancer Support Group
DESCRIPTION:
URL:https://adventlutheranyork.org/event/cancer-support-group-7/
CATEGORIES:Cancer Support
END:VEVENT
BEGIN:VEVENT
DTSTART;TZID=America/New_York:20250310T180000
DTEND;TZID=America/New_York:20250310T190000
DTSTAMP:20260422T214844
CREATED:20250302T151936Z
LAST-MODIFIED:20250302T151936Z
UID:24786-1741629600-1741633200@adventlutheranyork.org
SUMMARY:Advent Quilters
DESCRIPTION:
URL:https://adventlutheranyork.org/event/advent-quilters-32/
CATEGORIES:Advent Quilters
END:VEVENT
BEGIN:VEVENT
DTSTART;TZID=America/New_York:20250311T074500
DTEND;TZID=America/New_York:20250311T204500
DTSTAMP:20260422T214844
CREATED:20250302T152049Z
LAST-MODIFIED:20250302T152049Z
UID:24788-1741679100-1741725900@adventlutheranyork.org
SUMMARY:Good News & Brews @ Belmont Bean
DESCRIPTION:
URL:https://adventlutheranyork.org/event/good-news-brews-belmont-bean/
END:VEVENT
END:VCALENDAR