BEGIN:VCALENDAR
VERSION:2.0
PRODID:-//Advent Lutheran Church - ECPv6.15.20//NONSGML v1.0//EN
CALSCALE:GREGORIAN
METHOD:PUBLISH
X-ORIGINAL-URL:https://adventlutheranyork.org
X-WR-CALDESC:Events for Advent Lutheran Church
REFRESH-INTERVAL;VALUE=DURATION:PT1H
X-Robots-Tag:noindex
X-PUBLISHED-TTL:PT1H
BEGIN:VTIMEZONE
TZID:America/New_York
BEGIN:DAYLIGHT
TZOFFSETFROM:-0500
TZOFFSETTO:-0400
TZNAME:EDT
DTSTART:20250309T070000
END:DAYLIGHT
BEGIN:STANDARD
TZOFFSETFROM:-0400
TZOFFSETTO:-0500
TZNAME:EST
DTSTART:20251102T060000
END:STANDARD
BEGIN:DAYLIGHT
TZOFFSETFROM:-0500
TZOFFSETTO:-0400
TZNAME:EDT
DTSTART:20260308T070000
END:DAYLIGHT
BEGIN:STANDARD
TZOFFSETFROM:-0400
TZOFFSETTO:-0500
TZNAME:EST
DTSTART:20261101T060000
END:STANDARD
BEGIN:DAYLIGHT
TZOFFSETFROM:-0500
TZOFFSETTO:-0400
TZNAME:EDT
DTSTART:20270314T070000
END:DAYLIGHT
BEGIN:STANDARD
TZOFFSETFROM:-0400
TZOFFSETTO:-0500
TZNAME:EST
DTSTART:20271107T060000
END:STANDARD
END:VTIMEZONE
BEGIN:VEVENT
DTSTART;TZID=America/New_York:20260225T080000
DTEND;TZID=America/New_York:20260225T090000
DTSTAMP:20260421T145223
CREATED:20260117T025051Z
LAST-MODIFIED:20260117T025051Z
UID:26322-1772006400-1772010000@adventlutheranyork.org
SUMMARY:Good News & Brews
DESCRIPTION:
URL:https://adventlutheranyork.org/event/good-news-brews-7/
END:VEVENT
BEGIN:VEVENT
DTSTART;TZID=America/New_York:20260225T180000
DTEND;TZID=America/New_York:20260225T190000
DTSTAMP:20260421T145223
CREATED:20260117T025155Z
LAST-MODIFIED:20260117T025155Z
UID:26324-1772042400-1772046000@adventlutheranyork.org
SUMMARY:Lenten Supper
DESCRIPTION:
URL:https://adventlutheranyork.org/event/lenten-supper-9/
END:VEVENT
BEGIN:VEVENT
DTSTART;TZID=America/New_York:20260225T180000
DTEND;TZID=America/New_York:20260225T190000
DTSTAMP:20260421T145223
CREATED:20260117T025258Z
LAST-MODIFIED:20260117T025258Z
UID:26326-1772042400-1772046000@adventlutheranyork.org
SUMMARY:Handbell Ensemble Rehearsal
DESCRIPTION:
URL:https://adventlutheranyork.org/event/handbell-ensemble-rehearsal-48/
CATEGORIES:Music Ministry
END:VEVENT
BEGIN:VEVENT
DTSTART;TZID=America/New_York:20260225T190000
DTEND;TZID=America/New_York:20260225T193000
DTSTAMP:20260421T145223
CREATED:20260117T025409Z
LAST-MODIFIED:20260117T025409Z
UID:26328-1772046000-1772047800@adventlutheranyork.org
SUMMARY:Midweek Lenten Service
DESCRIPTION:
URL:https://adventlutheranyork.org/event/midweek-lenten-service-3/
CATEGORIES:Services
END:VEVENT
BEGIN:VEVENT
DTSTART;TZID=America/New_York:20260225T194500
DTEND;TZID=America/New_York:20260225T210000
DTSTAMP:20260421T145223
CREATED:20260117T025459Z
LAST-MODIFIED:20260117T025459Z
UID:26330-1772048700-1772053200@adventlutheranyork.org
SUMMARY:Adult Choir Rehearsal
DESCRIPTION:
URL:https://adventlutheranyork.org/event/adult-choir-rehearsal-78/
CATEGORIES:Music Ministry
END:VEVENT
BEGIN:VEVENT
DTSTART;VALUE=DATE:20260301
DTEND;VALUE=DATE:20260302
DTSTAMP:20260421T145223
CREATED:20260226T153400Z
LAST-MODIFIED:20260226T153400Z
UID:26396-1772323200-1772409599@adventlutheranyork.org
SUMMARY:Lent 2
DESCRIPTION:
URL:https://adventlutheranyork.org/event/lent-2-3/
END:VEVENT
BEGIN:VEVENT
DTSTART;VALUE=DATE:20260301
DTEND;VALUE=DATE:20260302
DTSTAMP:20260421T145223
CREATED:20260226T153645Z
LAST-MODIFIED:20260226T153645Z
UID:26398-1772323200-1772409599@adventlutheranyork.org
SUMMARY:First Holy Communion
DESCRIPTION:
URL:https://adventlutheranyork.org/event/first-holy-communion/
END:VEVENT
BEGIN:VEVENT
DTSTART;TZID=America/New_York:20260301T083000
DTEND;TZID=America/New_York:20260301T093000
DTSTAMP:20260421T145223
CREATED:20260226T153746Z
LAST-MODIFIED:20260226T153746Z
UID:26400-1772353800-1772357400@adventlutheranyork.org
SUMMARY:Traditional Worship Service
DESCRIPTION:
URL:https://adventlutheranyork.org/event/traditional-worship-service-23/
CATEGORIES:Services
END:VEVENT
BEGIN:VEVENT
DTSTART;TZID=America/New_York:20260301T094500
DTEND;TZID=America/New_York:20260301T104500
DTSTAMP:20260421T145223
CREATED:20260226T153843Z
LAST-MODIFIED:20260226T153843Z
UID:26402-1772358300-1772361900@adventlutheranyork.org
SUMMARY:Sunday School
DESCRIPTION:
URL:https://adventlutheranyork.org/event/sunday-school-80/
CATEGORIES:Christian Education
END:VEVENT
BEGIN:VEVENT
DTSTART;TZID=America/New_York:20260301T110000
DTEND;TZID=America/New_York:20260301T120000
DTSTAMP:20260421T145223
CREATED:20260226T174943Z
LAST-MODIFIED:20260226T174943Z
UID:26404-1772362800-1772366400@adventlutheranyork.org
SUMMARY:Worship Service
DESCRIPTION:
URL:https://adventlutheranyork.org/event/worship-service-182/
CATEGORIES:Services
END:VEVENT
BEGIN:VEVENT
DTSTART;TZID=America/New_York:20260301T111500
DTEND;TZID=America/New_York:20260301T120000
DTSTAMP:20260421T145223
CREATED:20260226T175112Z
LAST-MODIFIED:20260226T175112Z
UID:26406-1772363700-1772366400@adventlutheranyork.org
SUMMARY:Contemporary Worship Service
DESCRIPTION:
URL:https://adventlutheranyork.org/event/contemporary-worship-service-63/
CATEGORIES:Services
END:VEVENT
BEGIN:VEVENT
DTSTART;TZID=America/New_York:20260301T123000
DTEND;TZID=America/New_York:20260301T133000
DTSTAMP:20260421T145223
CREATED:20260226T223733Z
LAST-MODIFIED:20260226T223733Z
UID:26409-1772368200-1772371800@adventlutheranyork.org
SUMMARY:New Member Class
DESCRIPTION:
URL:https://adventlutheranyork.org/event/new-member-class-3/
END:VEVENT
BEGIN:VEVENT
DTSTART;TZID=America/New_York:20260302T090000
DTEND;TZID=America/New_York:20260302T100000
DTSTAMP:20260421T145223
CREATED:20260226T223849Z
LAST-MODIFIED:20260226T223849Z
UID:26411-1772442000-1772445600@adventlutheranyork.org
SUMMARY:Joy in the Morning
DESCRIPTION:
URL:https://adventlutheranyork.org/event/joy-in-the-morning-38/
CATEGORIES:Joy in the Morning
END:VEVENT
BEGIN:VEVENT
DTSTART;TZID=America/New_York:20260304T090000
DTEND;TZID=America/New_York:20260304T110000
DTSTAMP:20260421T145223
CREATED:20260226T224032Z
LAST-MODIFIED:20260226T224032Z
UID:26413-1772614800-1772622000@adventlutheranyork.org
SUMMARY:Advent Quilters
DESCRIPTION:
URL:https://adventlutheranyork.org/event/advent-quilters-55/
CATEGORIES:Advent Quilters
END:VEVENT
BEGIN:VEVENT
DTSTART;TZID=America/New_York:20260304T180000
DTEND;TZID=America/New_York:20260304T190000
DTSTAMP:20260421T145223
CREATED:20260226T224222Z
LAST-MODIFIED:20260226T224222Z
UID:26415-1772647200-1772650800@adventlutheranyork.org
SUMMARY:Lenten Supper
DESCRIPTION:
URL:https://adventlutheranyork.org/event/lenten-supper-10/
END:VEVENT
BEGIN:VEVENT
DTSTART;TZID=America/New_York:20260304T180000
DTEND;TZID=America/New_York:20260304T190000
DTSTAMP:20260421T145223
CREATED:20260226T224427Z
LAST-MODIFIED:20260226T224427Z
UID:26417-1772647200-1772650800@adventlutheranyork.org
SUMMARY:Handbell Ensemble Rehearsal
DESCRIPTION:
URL:https://adventlutheranyork.org/event/handbell-ensemble-rehearsal-49/
CATEGORIES:Music Ministry
END:VEVENT
BEGIN:VEVENT
DTSTART;TZID=America/New_York:20260304T190000
DTEND;TZID=America/New_York:20260304T194500
DTSTAMP:20260421T145223
CREATED:20260226T224727Z
LAST-MODIFIED:20260226T224727Z
UID:26419-1772650800-1772653500@adventlutheranyork.org
SUMMARY:Midweek Service
DESCRIPTION:
URL:https://adventlutheranyork.org/event/midweek-service/
CATEGORIES:Services
END:VEVENT
BEGIN:VEVENT
DTSTART;TZID=America/New_York:20260304T194500
DTEND;TZID=America/New_York:20260304T210000
DTSTAMP:20260421T145223
CREATED:20260226T224823Z
LAST-MODIFIED:20260226T224823Z
UID:26421-1772653500-1772658000@adventlutheranyork.org
SUMMARY:Adult Choir Rehearsal
DESCRIPTION:
URL:https://adventlutheranyork.org/event/adult-choir-rehearsal-79/
CATEGORIES:Music Ministry
END:VEVENT
BEGIN:VEVENT
DTSTART;TZID=America/New_York:20260305T180000
DTEND;TZID=America/New_York:20260305T190000
DTSTAMP:20260421T145223
CREATED:20260226T224937Z
LAST-MODIFIED:20260226T224937Z
UID:26423-1772733600-1772737200@adventlutheranyork.org
SUMMARY:Girl Scouts
DESCRIPTION:
URL:https://adventlutheranyork.org/event/girl-scouts-26/
CATEGORIES:Community
END:VEVENT
BEGIN:VEVENT
DTSTART;TZID=America/New_York:20260305T180000
DTEND;TZID=America/New_York:20260305T190000
DTSTAMP:20260421T145223
CREATED:20260226T230035Z
LAST-MODIFIED:20260226T230035Z
UID:26425-1772733600-1772737200@adventlutheranyork.org
SUMMARY:Contemporary Worship Rehearsal
DESCRIPTION:
URL:https://adventlutheranyork.org/event/contemporary-worship-rehearsal/
CATEGORIES:Music Ministry
END:VEVENT
BEGIN:VEVENT
DTSTART;TZID=America/New_York:20260305T183000
DTEND;TZID=America/New_York:20260305T193000
DTSTAMP:20260421T145223
CREATED:20260226T230159Z
LAST-MODIFIED:20260226T230159Z
UID:26427-1772735400-1772739000@adventlutheranyork.org
SUMMARY:Worship & Music Committee Meeting
DESCRIPTION:
URL:https://adventlutheranyork.org/event/worship-music-committee-meeting-14/
CATEGORIES:Committee
END:VEVENT
BEGIN:VEVENT
DTSTART;TZID=America/New_York:20260307T083000
DTEND;TZID=America/New_York:20260307T093000
DTSTAMP:20260421T145223
CREATED:20260226T230404Z
LAST-MODIFIED:20260226T230404Z
UID:26429-1772872200-1772875800@adventlutheranyork.org
SUMMARY:YJSO
DESCRIPTION:
URL:https://adventlutheranyork.org/event/yjso-24/
CATEGORIES:Community
END:VEVENT
BEGIN:VEVENT
DTSTART;VALUE=DATE:20260308
DTEND;VALUE=DATE:20260309
DTSTAMP:20260421T145223
CREATED:20260226T230540Z
LAST-MODIFIED:20260226T230540Z
UID:26431-1772928000-1773014399@adventlutheranyork.org
SUMMARY:Lent 3
DESCRIPTION:
URL:https://adventlutheranyork.org/event/lent-3-3/
END:VEVENT
BEGIN:VEVENT
DTSTART;TZID=America/New_York:20260308T083000
DTEND;TZID=America/New_York:20260308T093000
DTSTAMP:20260421T145223
CREATED:20260226T230722Z
LAST-MODIFIED:20260226T230722Z
UID:26433-1772958600-1772962200@adventlutheranyork.org
SUMMARY:Worship Service (w/ Council Installation)
DESCRIPTION:
URL:https://adventlutheranyork.org/event/worship-service-w-council-installation/
CATEGORIES:Services
END:VEVENT
BEGIN:VEVENT
DTSTART;TZID=America/New_York:20260308T094500
DTEND;TZID=America/New_York:20260308T104500
DTSTAMP:20260421T145223
CREATED:20260226T231212Z
LAST-MODIFIED:20260226T231212Z
UID:26435-1772963100-1772966700@adventlutheranyork.org
SUMMARY:Sunday School
DESCRIPTION:
URL:https://adventlutheranyork.org/event/sunday-school-81/
CATEGORIES:Christian Education
END:VEVENT
BEGIN:VEVENT
DTSTART;TZID=America/New_York:20260308T110000
DTEND;TZID=America/New_York:20260308T120000
DTSTAMP:20260421T145223
CREATED:20260226T231352Z
LAST-MODIFIED:20260226T231352Z
UID:26437-1772967600-1772971200@adventlutheranyork.org
SUMMARY:Worship Service
DESCRIPTION:
URL:https://adventlutheranyork.org/event/worship-service-183/
CATEGORIES:Services
END:VEVENT
BEGIN:VEVENT
DTSTART;TZID=America/New_York:20260308T111500
DTEND;TZID=America/New_York:20260308T120000
DTSTAMP:20260421T145223
CREATED:20260226T231452Z
LAST-MODIFIED:20260226T231452Z
UID:26439-1772968500-1772971200@adventlutheranyork.org
SUMMARY:Contemporary Worship Service
DESCRIPTION:
URL:https://adventlutheranyork.org/event/contemporary-worship-service-64/
CATEGORIES:Services
END:VEVENT
BEGIN:VEVENT
DTSTART;TZID=America/New_York:20260308T180000
DTEND;TZID=America/New_York:20260308T190000
DTSTAMP:20260421T145223
CREATED:20260226T231552Z
LAST-MODIFIED:20260226T231552Z
UID:26441-1772992800-1772996400@adventlutheranyork.org
SUMMARY:Youth Group Meeting
DESCRIPTION:
URL:https://adventlutheranyork.org/event/youth-group-meeting-3/
CATEGORIES:Youth Ministry
END:VEVENT
BEGIN:VEVENT
DTSTART;TZID=America/New_York:20260309T180000
DTEND;TZID=America/New_York:20260309T190000
DTSTAMP:20260421T145223
CREATED:20260226T231655Z
LAST-MODIFIED:20260226T231655Z
UID:26443-1773079200-1773082800@adventlutheranyork.org
SUMMARY:Advent Quilters
DESCRIPTION:
URL:https://adventlutheranyork.org/event/advent-quilters-56/
CATEGORIES:Advent Quilters
END:VEVENT
BEGIN:VEVENT
DTSTART;TZID=America/New_York:20260309T180000
DTEND;TZID=America/New_York:20260309T190000
DTSTAMP:20260421T145223
CREATED:20260226T231805Z
LAST-MODIFIED:20260306T025057Z
UID:26445-1773079200-1773082800@adventlutheranyork.org
SUMMARY:Cancer Support Group
DESCRIPTION:
URL:https://adventlutheranyork.org/event/cancer-support-group-19/
CATEGORIES:Community
END:VEVENT
END:VCALENDAR