BEGIN:VCALENDAR
VERSION:2.0
PRODID:-//Advent Lutheran Church - ECPv6.15.20//NONSGML v1.0//EN
CALSCALE:GREGORIAN
METHOD:PUBLISH
X-ORIGINAL-URL:https://adventlutheranyork.org
X-WR-CALDESC:Events for Advent Lutheran Church
REFRESH-INTERVAL;VALUE=DURATION:PT1H
X-Robots-Tag:noindex
X-PUBLISHED-TTL:PT1H
BEGIN:VTIMEZONE
TZID:America/New_York
BEGIN:DAYLIGHT
TZOFFSETFROM:-0500
TZOFFSETTO:-0400
TZNAME:EDT
DTSTART:20250309T070000
END:DAYLIGHT
BEGIN:STANDARD
TZOFFSETFROM:-0400
TZOFFSETTO:-0500
TZNAME:EST
DTSTART:20251102T060000
END:STANDARD
BEGIN:DAYLIGHT
TZOFFSETFROM:-0500
TZOFFSETTO:-0400
TZNAME:EDT
DTSTART:20260308T070000
END:DAYLIGHT
BEGIN:STANDARD
TZOFFSETFROM:-0400
TZOFFSETTO:-0500
TZNAME:EST
DTSTART:20261101T060000
END:STANDARD
BEGIN:DAYLIGHT
TZOFFSETFROM:-0500
TZOFFSETTO:-0400
TZNAME:EDT
DTSTART:20270314T070000
END:DAYLIGHT
BEGIN:STANDARD
TZOFFSETFROM:-0400
TZOFFSETTO:-0500
TZNAME:EST
DTSTART:20271107T060000
END:STANDARD
END:VTIMEZONE
BEGIN:VEVENT
DTSTART;TZID=America/New_York:20260304T194500
DTEND;TZID=America/New_York:20260304T210000
DTSTAMP:20260421T143045
CREATED:20260226T224823Z
LAST-MODIFIED:20260226T224823Z
UID:26421-1772653500-1772658000@adventlutheranyork.org
SUMMARY:Adult Choir Rehearsal
DESCRIPTION:
URL:https://adventlutheranyork.org/event/adult-choir-rehearsal-79/
CATEGORIES:Music Ministry
END:VEVENT
BEGIN:VEVENT
DTSTART;TZID=America/New_York:20260305T180000
DTEND;TZID=America/New_York:20260305T190000
DTSTAMP:20260421T143045
CREATED:20260226T224937Z
LAST-MODIFIED:20260226T224937Z
UID:26423-1772733600-1772737200@adventlutheranyork.org
SUMMARY:Girl Scouts
DESCRIPTION:
URL:https://adventlutheranyork.org/event/girl-scouts-26/
CATEGORIES:Community
END:VEVENT
BEGIN:VEVENT
DTSTART;TZID=America/New_York:20260305T180000
DTEND;TZID=America/New_York:20260305T190000
DTSTAMP:20260421T143045
CREATED:20260226T230035Z
LAST-MODIFIED:20260226T230035Z
UID:26425-1772733600-1772737200@adventlutheranyork.org
SUMMARY:Contemporary Worship Rehearsal
DESCRIPTION:
URL:https://adventlutheranyork.org/event/contemporary-worship-rehearsal/
CATEGORIES:Music Ministry
END:VEVENT
BEGIN:VEVENT
DTSTART;TZID=America/New_York:20260305T183000
DTEND;TZID=America/New_York:20260305T193000
DTSTAMP:20260421T143045
CREATED:20260226T230159Z
LAST-MODIFIED:20260226T230159Z
UID:26427-1772735400-1772739000@adventlutheranyork.org
SUMMARY:Worship & Music Committee Meeting
DESCRIPTION:
URL:https://adventlutheranyork.org/event/worship-music-committee-meeting-14/
CATEGORIES:Committee
END:VEVENT
BEGIN:VEVENT
DTSTART;TZID=America/New_York:20260307T083000
DTEND;TZID=America/New_York:20260307T093000
DTSTAMP:20260421T143045
CREATED:20260226T230404Z
LAST-MODIFIED:20260226T230404Z
UID:26429-1772872200-1772875800@adventlutheranyork.org
SUMMARY:YJSO
DESCRIPTION:
URL:https://adventlutheranyork.org/event/yjso-24/
CATEGORIES:Community
END:VEVENT
BEGIN:VEVENT
DTSTART;VALUE=DATE:20260308
DTEND;VALUE=DATE:20260309
DTSTAMP:20260421T143045
CREATED:20260226T230540Z
LAST-MODIFIED:20260226T230540Z
UID:26431-1772928000-1773014399@adventlutheranyork.org
SUMMARY:Lent 3
DESCRIPTION:
URL:https://adventlutheranyork.org/event/lent-3-3/
END:VEVENT
BEGIN:VEVENT
DTSTART;TZID=America/New_York:20260308T083000
DTEND;TZID=America/New_York:20260308T093000
DTSTAMP:20260421T143045
CREATED:20260226T230722Z
LAST-MODIFIED:20260226T230722Z
UID:26433-1772958600-1772962200@adventlutheranyork.org
SUMMARY:Worship Service (w/ Council Installation)
DESCRIPTION:
URL:https://adventlutheranyork.org/event/worship-service-w-council-installation/
CATEGORIES:Services
END:VEVENT
BEGIN:VEVENT
DTSTART;TZID=America/New_York:20260308T094500
DTEND;TZID=America/New_York:20260308T104500
DTSTAMP:20260421T143045
CREATED:20260226T231212Z
LAST-MODIFIED:20260226T231212Z
UID:26435-1772963100-1772966700@adventlutheranyork.org
SUMMARY:Sunday School
DESCRIPTION:
URL:https://adventlutheranyork.org/event/sunday-school-81/
CATEGORIES:Christian Education
END:VEVENT
BEGIN:VEVENT
DTSTART;TZID=America/New_York:20260308T110000
DTEND;TZID=America/New_York:20260308T120000
DTSTAMP:20260421T143045
CREATED:20260226T231352Z
LAST-MODIFIED:20260226T231352Z
UID:26437-1772967600-1772971200@adventlutheranyork.org
SUMMARY:Worship Service
DESCRIPTION:
URL:https://adventlutheranyork.org/event/worship-service-183/
CATEGORIES:Services
END:VEVENT
BEGIN:VEVENT
DTSTART;TZID=America/New_York:20260308T111500
DTEND;TZID=America/New_York:20260308T120000
DTSTAMP:20260421T143045
CREATED:20260226T231452Z
LAST-MODIFIED:20260226T231452Z
UID:26439-1772968500-1772971200@adventlutheranyork.org
SUMMARY:Contemporary Worship Service
DESCRIPTION:
URL:https://adventlutheranyork.org/event/contemporary-worship-service-64/
CATEGORIES:Services
END:VEVENT
BEGIN:VEVENT
DTSTART;TZID=America/New_York:20260308T180000
DTEND;TZID=America/New_York:20260308T190000
DTSTAMP:20260421T143045
CREATED:20260226T231552Z
LAST-MODIFIED:20260226T231552Z
UID:26441-1772992800-1772996400@adventlutheranyork.org
SUMMARY:Youth Group Meeting
DESCRIPTION:
URL:https://adventlutheranyork.org/event/youth-group-meeting-3/
CATEGORIES:Youth Ministry
END:VEVENT
BEGIN:VEVENT
DTSTART;TZID=America/New_York:20260309T180000
DTEND;TZID=America/New_York:20260309T190000
DTSTAMP:20260421T143045
CREATED:20260226T231655Z
LAST-MODIFIED:20260226T231655Z
UID:26443-1773079200-1773082800@adventlutheranyork.org
SUMMARY:Advent Quilters
DESCRIPTION:
URL:https://adventlutheranyork.org/event/advent-quilters-56/
CATEGORIES:Advent Quilters
END:VEVENT
BEGIN:VEVENT
DTSTART;TZID=America/New_York:20260309T180000
DTEND;TZID=America/New_York:20260309T190000
DTSTAMP:20260421T143045
CREATED:20260226T231805Z
LAST-MODIFIED:20260306T025057Z
UID:26445-1773079200-1773082800@adventlutheranyork.org
SUMMARY:Cancer Support Group
DESCRIPTION:
URL:https://adventlutheranyork.org/event/cancer-support-group-19/
CATEGORIES:Community
END:VEVENT
BEGIN:VEVENT
DTSTART;TZID=America/New_York:20260309T190000
DTEND;TZID=America/New_York:20260309T200000
DTSTAMP:20260421T143045
CREATED:20260305T222215Z
LAST-MODIFIED:20260305T222215Z
UID:26569-1773082800-1773086400@adventlutheranyork.org
SUMMARY:Advocacy Social Justice Team Meeting
DESCRIPTION:
URL:https://adventlutheranyork.org/event/advocacy-social-justice-team-meeting/
END:VEVENT
BEGIN:VEVENT
DTSTART;TZID=America/New_York:20260310T110000
DTEND;TZID=America/New_York:20260310T120000
DTSTAMP:20260421T143045
CREATED:20260226T231901Z
LAST-MODIFIED:20260226T231901Z
UID:26447-1773140400-1773144000@adventlutheranyork.org
SUMMARY:Brown Baggers
DESCRIPTION:
URL:https://adventlutheranyork.org/event/brown-baggers-49/
CATEGORIES:Brown Baggers
END:VEVENT
BEGIN:VEVENT
DTSTART;TZID=America/New_York:20260310T180000
DTEND;TZID=America/New_York:20260310T190000
DTSTAMP:20260421T143045
CREATED:20260227T013429Z
LAST-MODIFIED:20260227T013429Z
UID:26449-1773165600-1773169200@adventlutheranyork.org
SUMMARY:Advent Book Club
DESCRIPTION:
URL:https://adventlutheranyork.org/event/advent-book-club-38/
CATEGORIES:Advent Book Club
END:VEVENT
BEGIN:VEVENT
DTSTART;TZID=America/New_York:20260311T180000
DTEND;TZID=America/New_York:20260311T190000
DTSTAMP:20260421T143045
CREATED:20260227T013830Z
LAST-MODIFIED:20260227T013830Z
UID:26451-1773252000-1773255600@adventlutheranyork.org
SUMMARY:Lenten Supper
DESCRIPTION:
URL:https://adventlutheranyork.org/event/lenten-supper-11/
END:VEVENT
BEGIN:VEVENT
DTSTART;TZID=America/New_York:20260311T180000
DTEND;TZID=America/New_York:20260311T190000
DTSTAMP:20260421T143045
CREATED:20260227T014042Z
LAST-MODIFIED:20260227T014042Z
UID:26453-1773252000-1773255600@adventlutheranyork.org
SUMMARY:Handbell Rehearsal
DESCRIPTION:
URL:https://adventlutheranyork.org/event/handbell-rehearsal-25/
CATEGORIES:Music Ministry
END:VEVENT
BEGIN:VEVENT
DTSTART;TZID=America/New_York:20260311T190000
DTEND;TZID=America/New_York:20260311T194500
DTSTAMP:20260421T143045
CREATED:20260227T014222Z
LAST-MODIFIED:20260227T014222Z
UID:26455-1773255600-1773258300@adventlutheranyork.org
SUMMARY:Midweek Lenten Service
DESCRIPTION:
URL:https://adventlutheranyork.org/event/midweek-lenten-service-4/
CATEGORIES:Services
END:VEVENT
BEGIN:VEVENT
DTSTART;TZID=America/New_York:20260311T194500
DTEND;TZID=America/New_York:20260311T210000
DTSTAMP:20260421T143045
CREATED:20260227T014331Z
LAST-MODIFIED:20260227T014331Z
UID:26457-1773258300-1773262800@adventlutheranyork.org
SUMMARY:Adult Choir Rehearsal
DESCRIPTION:
URL:https://adventlutheranyork.org/event/adult-choir-rehearsal-80/
CATEGORIES:Music Ministry
END:VEVENT
BEGIN:VEVENT
DTSTART;TZID=America/New_York:20260312T113000
DTEND;TZID=America/New_York:20260312T123000
DTSTAMP:20260421T143045
CREATED:20260227T014654Z
LAST-MODIFIED:20260227T014654Z
UID:26459-1773315000-1773318600@adventlutheranyork.org
SUMMARY:Leisure Lunch @ Bob Evans
DESCRIPTION:
URL:https://adventlutheranyork.org/event/leisure-lunch-bob-evans-2/
CATEGORIES:Leisure Group
END:VEVENT
BEGIN:VEVENT
DTSTART;TZID=America/New_York:20260312T183000
DTEND;TZID=America/New_York:20260312T193000
DTSTAMP:20260421T143045
CREATED:20260116T003125Z
LAST-MODIFIED:20260116T003125Z
UID:26242-1773340200-1773343800@adventlutheranyork.org
SUMMARY:Property Committee Meeting
DESCRIPTION:
URL:https://adventlutheranyork.org/event/property-committee-meeting-16/
CATEGORIES:Committee
END:VEVENT
BEGIN:VEVENT
DTSTART;TZID=America/New_York:20260312T183000
DTEND;TZID=America/New_York:20260312T193000
DTSTAMP:20260421T143045
CREATED:20260227T014938Z
LAST-MODIFIED:20260227T014938Z
UID:26461-1773340200-1773343800@adventlutheranyork.org
SUMMARY:Property Committee Meeting
DESCRIPTION:
URL:https://adventlutheranyork.org/event/property-committee-meeting-18/
CATEGORIES:Committee
END:VEVENT
BEGIN:VEVENT
DTSTART;TZID=America/New_York:20260313T090000
DTEND;TZID=America/New_York:20260313T100000
DTSTAMP:20260421T143045
CREATED:20260227T015229Z
LAST-MODIFIED:20260227T015229Z
UID:26463-1773392400-1773396000@adventlutheranyork.org
SUMMARY:Coffee with Pr. Brad
DESCRIPTION:
URL:https://adventlutheranyork.org/event/coffee-with-pr-brad-13/
END:VEVENT
BEGIN:VEVENT
DTSTART;TZID=America/New_York:20260314T080000
DTEND;TZID=America/New_York:20260314T090000
DTSTAMP:20260421T143045
CREATED:20260227T015716Z
LAST-MODIFIED:20260227T015716Z
UID:26465-1773475200-1773478800@adventlutheranyork.org
SUMMARY:Men's Bible Study
DESCRIPTION:
URL:https://adventlutheranyork.org/event/mens-bible-study-24/
CATEGORIES:Christian Education
END:VEVENT
BEGIN:VEVENT
DTSTART;TZID=America/New_York:20260314T083000
DTEND;TZID=America/New_York:20260314T102000
DTSTAMP:20260421T143045
CREATED:20260227T015817Z
LAST-MODIFIED:20260227T015817Z
UID:26467-1773477000-1773483600@adventlutheranyork.org
SUMMARY:YJSO
DESCRIPTION:
URL:https://adventlutheranyork.org/event/yjso-25/
CATEGORIES:Community
END:VEVENT
BEGIN:VEVENT
DTSTART;TZID=America/New_York:20260314T140000
DTEND;TZID=America/New_York:20260314T150000
DTSTAMP:20260421T143045
CREATED:20260227T015922Z
LAST-MODIFIED:20260227T015922Z
UID:26469-1773496800-1773500400@adventlutheranyork.org
SUMMARY:Young Adventurers Bowling
DESCRIPTION:
URL:https://adventlutheranyork.org/event/young-adventurers-bowling-2/
CATEGORIES:Youth Ministry
END:VEVENT
BEGIN:VEVENT
DTSTART;VALUE=DATE:20260315
DTEND;VALUE=DATE:20260316
DTSTAMP:20260421T143045
CREATED:20260227T124519Z
LAST-MODIFIED:20260227T124519Z
UID:26471-1773532800-1773619199@adventlutheranyork.org
SUMMARY:Lent 3
DESCRIPTION:
URL:https://adventlutheranyork.org/event/lent-3-4/
END:VEVENT
BEGIN:VEVENT
DTSTART;TZID=America/New_York:20260315T083000
DTEND;TZID=America/New_York:20260315T093000
DTSTAMP:20260421T143045
CREATED:20260227T124648Z
LAST-MODIFIED:20260227T124648Z
UID:26473-1773563400-1773567000@adventlutheranyork.org
SUMMARY:Worship Service
DESCRIPTION:
URL:https://adventlutheranyork.org/event/worship-service-184/
CATEGORIES:Services
END:VEVENT
BEGIN:VEVENT
DTSTART;TZID=America/New_York:20260315T093000
DTEND;TZID=America/New_York:20260315T094500
DTSTAMP:20260421T143045
CREATED:20260227T124808Z
LAST-MODIFIED:20260227T124808Z
UID:26475-1773567000-1773567900@adventlutheranyork.org
SUMMARY:Youth Choir Rehearsal
DESCRIPTION:
URL:https://adventlutheranyork.org/event/youth-choir-rehearsal-47/
CATEGORIES:Music Ministry
END:VEVENT
END:VCALENDAR