BEGIN:VCALENDAR
VERSION:2.0
PRODID:-//Advent Lutheran Church - ECPv6.15.20//NONSGML v1.0//EN
CALSCALE:GREGORIAN
METHOD:PUBLISH
X-ORIGINAL-URL:https://adventlutheranyork.org
X-WR-CALDESC:Events for Advent Lutheran Church
REFRESH-INTERVAL;VALUE=DURATION:PT1H
X-Robots-Tag:noindex
X-PUBLISHED-TTL:PT1H
BEGIN:VTIMEZONE
TZID:America/New_York
BEGIN:DAYLIGHT
TZOFFSETFROM:-0500
TZOFFSETTO:-0400
TZNAME:EDT
DTSTART:20250309T070000
END:DAYLIGHT
BEGIN:STANDARD
TZOFFSETFROM:-0400
TZOFFSETTO:-0500
TZNAME:EST
DTSTART:20251102T060000
END:STANDARD
BEGIN:DAYLIGHT
TZOFFSETFROM:-0500
TZOFFSETTO:-0400
TZNAME:EDT
DTSTART:20260308T070000
END:DAYLIGHT
BEGIN:STANDARD
TZOFFSETFROM:-0400
TZOFFSETTO:-0500
TZNAME:EST
DTSTART:20261101T060000
END:STANDARD
BEGIN:DAYLIGHT
TZOFFSETFROM:-0500
TZOFFSETTO:-0400
TZNAME:EDT
DTSTART:20270314T070000
END:DAYLIGHT
BEGIN:STANDARD
TZOFFSETFROM:-0400
TZOFFSETTO:-0500
TZNAME:EST
DTSTART:20271107T060000
END:STANDARD
END:VTIMEZONE
BEGIN:VTIMEZONE
TZID:UTC
BEGIN:STANDARD
TZOFFSETFROM:+0000
TZOFFSETTO:+0000
TZNAME:UTC
DTSTART:20250101T000000
END:STANDARD
END:VTIMEZONE
BEGIN:VEVENT
DTSTART;TZID=America/New_York:20260520T190000
DTEND;TZID=America/New_York:20260520T203000
DTSTAMP:20260423T110300
CREATED:20260422T014903Z
LAST-MODIFIED:20260422T014903Z
UID:26846-1779303600-1779309000@adventlutheranyork.org
SUMMARY:Adult Choir Rehearsal
DESCRIPTION:
URL:https://adventlutheranyork.org/event/adult-choir-rehearsal-90/
CATEGORIES:Music Ministry
END:VEVENT
BEGIN:VEVENT
DTSTART;TZID=America/New_York:20260520T193000
DTEND;TZID=America/New_York:20260520T203000
DTSTAMP:20260423T110300
CREATED:20260422T015850Z
LAST-MODIFIED:20260422T015850Z
UID:26852-1779305400-1779309000@adventlutheranyork.org
SUMMARY:Technology Committee Meeting
DESCRIPTION:
URL:https://adventlutheranyork.org/event/technology-committee-meeting-8/
CATEGORIES:Committee
END:VEVENT
BEGIN:VEVENT
DTSTART;TZID=America/New_York:20260521T180000
DTEND;TZID=America/New_York:20260521T190000
DTSTAMP:20260423T110300
CREATED:20260422T015059Z
LAST-MODIFIED:20260422T015059Z
UID:26848-1779386400-1779390000@adventlutheranyork.org
SUMMARY:Girl Scouts
DESCRIPTION:
URL:https://adventlutheranyork.org/event/girl-scouts-33/
END:VEVENT
BEGIN:VEVENT
DTSTART;TZID=America/New_York:20260521T183000
DTEND;TZID=America/New_York:20260521T193000
DTSTAMP:20260423T110300
CREATED:20260422T015432Z
LAST-MODIFIED:20260422T015432Z
UID:26850-1779388200-1779391800@adventlutheranyork.org
SUMMARY:100th Ann. Committee Meeting
DESCRIPTION:
URL:https://adventlutheranyork.org/event/100th-ann-committee-meeting/
CATEGORIES:Committee
END:VEVENT
BEGIN:VEVENT
DTSTART;TZID=America/New_York:20260522T170000
DTEND;TZID=America/New_York:20260523T100000
DTSTAMP:20260423T110300
CREATED:20260422T020103Z
LAST-MODIFIED:20260422T020103Z
UID:26854-1779469200-1779530400@adventlutheranyork.org
SUMMARY:Young Adventurers Overnight
DESCRIPTION:
URL:https://adventlutheranyork.org/event/young-adventurers-overnight-5/
CATEGORIES:Youth Ministry
END:VEVENT
BEGIN:VEVENT
DTSTART;VALUE=DATE:20260524
DTEND;VALUE=DATE:20260525
DTSTAMP:20260423T110300
CREATED:20260422T020408Z
LAST-MODIFIED:20260422T020408Z
UID:26856-1779580800-1779667199@adventlutheranyork.org
SUMMARY:Pentecost Sunday
DESCRIPTION:
URL:https://adventlutheranyork.org/event/pentecost-sunday/
END:VEVENT
BEGIN:VEVENT
DTSTART;VALUE=DATE:20260524
DTEND;VALUE=DATE:20260525
DTSTAMP:20260423T110300
CREATED:20260422T020525Z
LAST-MODIFIED:20260422T020525Z
UID:26858-1779580800-1779667199@adventlutheranyork.org
SUMMARY:Confirmation Sunday
DESCRIPTION:
URL:https://adventlutheranyork.org/event/confirmation-sunday-2/
END:VEVENT
BEGIN:VEVENT
DTSTART;TZID=America/New_York:20260524T083000
DTEND;TZID=America/New_York:20260524T093000
DTSTAMP:20260423T110300
CREATED:20260422T020908Z
LAST-MODIFIED:20260422T020908Z
UID:26860-1779611400-1779615000@adventlutheranyork.org
SUMMARY:Traditional Worship Service
DESCRIPTION:
URL:https://adventlutheranyork.org/event/traditional-worship-service-38/
CATEGORIES:Services
END:VEVENT
BEGIN:VEVENT
DTSTART;TZID=America/New_York:20260524T110000
DTEND;TZID=America/New_York:20260524T120000
DTSTAMP:20260423T110300
CREATED:20260422T021145Z
LAST-MODIFIED:20260422T021145Z
UID:26862-1779620400-1779624000@adventlutheranyork.org
SUMMARY:Traditional Worship Service
DESCRIPTION:
URL:https://adventlutheranyork.org/event/traditional-worship-service-39/
CATEGORIES:Services
END:VEVENT
BEGIN:VEVENT
DTSTART;TZID=America/New_York:20260524T111500
DTEND;TZID=America/New_York:20260524T120000
DTSTAMP:20260423T110300
CREATED:20260422T021400Z
LAST-MODIFIED:20260422T021400Z
UID:26864-1779621300-1779624000@adventlutheranyork.org
SUMMARY:Contemporary Worship Service
DESCRIPTION:
URL:https://adventlutheranyork.org/event/contemporary-worship-service-75/
CATEGORIES:Services
END:VEVENT
BEGIN:VEVENT
DTSTART;VALUE=DATE:20260525
DTEND;VALUE=DATE:20260526
DTSTAMP:20260423T110300
CREATED:20260422T021541Z
LAST-MODIFIED:20260422T021541Z
UID:26866-1779667200-1779753599@adventlutheranyork.org
SUMMARY:Office Closed for Holiday
DESCRIPTION:
URL:https://adventlutheranyork.org/event/office-closed-for-holiday/
END:VEVENT
BEGIN:VEVENT
DTSTART;TZID=America/New_York:20260526T110000
DTEND;TZID=America/New_York:20260526T120000
DTSTAMP:20260423T110300
CREATED:20260423T004725Z
LAST-MODIFIED:20260423T004725Z
UID:26868-1779793200-1779796800@adventlutheranyork.org
SUMMARY:Brown Baggers
DESCRIPTION:
URL:https://adventlutheranyork.org/event/brown-baggers-54/
CATEGORIES:Brown Baggers
END:VEVENT
BEGIN:VEVENT
DTSTART;TZID=America/New_York:20260526T180000
DTEND;TZID=America/New_York:20260526T190000
DTSTAMP:20260423T110300
CREATED:20260423T005215Z
LAST-MODIFIED:20260423T005215Z
UID:26870-1779818400-1779822000@adventlutheranyork.org
SUMMARY:Eagle Scouts in FH
DESCRIPTION:
URL:https://adventlutheranyork.org/event/eagle-scouts-in-fh/
CATEGORIES:Community
END:VEVENT
BEGIN:VEVENT
DTSTART;TZID=America/New_York:20260527T180000
DTEND;TZID=America/New_York:20260527T190000
DTSTAMP:20260423T110300
CREATED:20260423T005730Z
LAST-MODIFIED:20260423T005730Z
UID:26872-1779904800-1779908400@adventlutheranyork.org
SUMMARY:Handbell Rehearsal
DESCRIPTION:
URL:https://adventlutheranyork.org/event/handbell-rehearsal-33/
CATEGORIES:Music Ministry
END:VEVENT
BEGIN:VEVENT
DTSTART;TZID=America/New_York:20260527T180000
DTEND;TZID=America/New_York:20260527T190000
DTSTAMP:20260423T110300
CREATED:20260423T010014Z
LAST-MODIFIED:20260423T010014Z
UID:26874-1779904800-1779908400@adventlutheranyork.org
SUMMARY:Good News and Brews @ South County Brewing
DESCRIPTION:
URL:https://adventlutheranyork.org/event/good-news-and-brews-south-county-brewing/
END:VEVENT
BEGIN:VEVENT
DTSTART;VALUE=DATE:20260531
DTEND;VALUE=DATE:20260601
DTSTAMP:20260423T110300
CREATED:20260423T010420Z
LAST-MODIFIED:20260423T010420Z
UID:26876-1780185600-1780271999@adventlutheranyork.org
SUMMARY:Holy Trinity Sunday
DESCRIPTION:
URL:https://adventlutheranyork.org/event/holy-trinity-sunday-3/
END:VEVENT
BEGIN:VEVENT
DTSTART;TZID=America/New_York:20260531T083000
DTEND;TZID=America/New_York:20260531T093000
DTSTAMP:20260423T110300
CREATED:20260423T010953Z
LAST-MODIFIED:20260423T010953Z
UID:26878-1780216200-1780219800@adventlutheranyork.org
SUMMARY:Traditional Worship Service
DESCRIPTION:
URL:https://adventlutheranyork.org/event/traditional-worship-service-40/
CATEGORIES:Services
END:VEVENT
BEGIN:VEVENT
DTSTART;TZID=America/New_York:20260531T110000
DTEND;TZID=America/New_York:20260531T120000
DTSTAMP:20260423T110300
CREATED:20260423T011217Z
LAST-MODIFIED:20260423T011217Z
UID:26880-1780225200-1780228800@adventlutheranyork.org
SUMMARY:Traditional Worship Service
DESCRIPTION:
URL:https://adventlutheranyork.org/event/traditional-worship-service-41/
CATEGORIES:Services
END:VEVENT
BEGIN:VEVENT
DTSTART;TZID=America/New_York:20260531T111500
DTEND;TZID=America/New_York:20260531T120000
DTSTAMP:20260423T110300
CREATED:20260423T011705Z
LAST-MODIFIED:20260423T011705Z
UID:26882-1780226100-1780228800@adventlutheranyork.org
SUMMARY:Contemporary Worship Service
DESCRIPTION:
URL:https://adventlutheranyork.org/event/contemporary-worship-service-76/
CATEGORIES:Services
END:VEVENT
BEGIN:VEVENT
DTSTART;TZID=America/New_York:20260531T180000
DTEND;TZID=America/New_York:20260531T190000
DTSTAMP:20260423T110300
CREATED:20260423T012013Z
LAST-MODIFIED:20260423T012013Z
UID:26884-1780250400-1780254000@adventlutheranyork.org
SUMMARY:Youth Group at Cones & Clubs
DESCRIPTION:
URL:https://adventlutheranyork.org/event/youth-group-at-cones-clubs/
CATEGORIES:Youth Ministry
END:VEVENT
BEGIN:VEVENT
DTSTART;TZID=UTC:20261114T160000
DTEND;TZID=UTC:20261114T210000
DTSTAMP:20260423T110300
CREATED:20250925T164500Z
LAST-MODIFIED:20250925T164500Z
UID:25719-1794672000-1794690000@adventlutheranyork.org
SUMMARY:100th Anniversary Formal Banquet
DESCRIPTION:
URL:https://adventlutheranyork.org/event/100th-anniversary-formal-banquet/
LOCATION:Advent Lutheran Church\, 1775 East Market Street\, York\, PA\, 17402\, United States
CATEGORIES:Services
END:VEVENT
BEGIN:VEVENT
DTSTART;TZID=UTC:20261115T100000
DTEND;TZID=UTC:20261115T113000
DTSTAMP:20260423T110300
CREATED:20250925T170239Z
LAST-MODIFIED:20250925T170508Z
UID:25725-1794736800-1794742200@adventlutheranyork.org
SUMMARY:100th Anniversary Formal Service
DESCRIPTION:
URL:https://adventlutheranyork.org/event/100th-anniversary-formal-service/
LOCATION:Advent Lutheran Church\, 1775 East Market Street\, York\, PA\, 17402\, United States
CATEGORIES:Services
END:VEVENT
END:VCALENDAR