BEGIN:VCALENDAR
VERSION:2.0
PRODID:-//Advent Lutheran Church - ECPv6.15.20//NONSGML v1.0//EN
CALSCALE:GREGORIAN
METHOD:PUBLISH
X-WR-CALNAME:Advent Lutheran Church
X-ORIGINAL-URL:https://adventlutheranyork.org
X-WR-CALDESC:Events for Advent Lutheran Church
REFRESH-INTERVAL;VALUE=DURATION:PT1H
X-Robots-Tag:noindex
X-PUBLISHED-TTL:PT1H
BEGIN:VTIMEZONE
TZID:America/New_York
BEGIN:DAYLIGHT
TZOFFSETFROM:-0500
TZOFFSETTO:-0400
TZNAME:EDT
DTSTART:20240310T070000
END:DAYLIGHT
BEGIN:STANDARD
TZOFFSETFROM:-0400
TZOFFSETTO:-0500
TZNAME:EST
DTSTART:20241103T060000
END:STANDARD
BEGIN:DAYLIGHT
TZOFFSETFROM:-0500
TZOFFSETTO:-0400
TZNAME:EDT
DTSTART:20250309T070000
END:DAYLIGHT
BEGIN:STANDARD
TZOFFSETFROM:-0400
TZOFFSETTO:-0500
TZNAME:EST
DTSTART:20251102T060000
END:STANDARD
BEGIN:DAYLIGHT
TZOFFSETFROM:-0500
TZOFFSETTO:-0400
TZNAME:EDT
DTSTART:20260308T070000
END:DAYLIGHT
BEGIN:STANDARD
TZOFFSETFROM:-0400
TZOFFSETTO:-0500
TZNAME:EST
DTSTART:20261101T060000
END:STANDARD
END:VTIMEZONE
BEGIN:VEVENT
DTSTART;TZID=America/New_York:20250213T190000
DTEND;TZID=America/New_York:20250213T200000
DTSTAMP:20260422T215152
CREATED:20250201T232110Z
LAST-MODIFIED:20250201T232110Z
UID:24668-1739473200-1739476800@adventlutheranyork.org
SUMMARY:Mutual Ministry
DESCRIPTION:
URL:https://adventlutheranyork.org/event/mutual-ministry/
CATEGORIES:Committee
END:VEVENT
BEGIN:VEVENT
DTSTART;TZID=America/New_York:20250213T183000
DTEND;TZID=America/New_York:20250213T193000
DTSTAMP:20260422T215152
CREATED:20250201T232031Z
LAST-MODIFIED:20250201T232031Z
UID:24666-1739471400-1739475000@adventlutheranyork.org
SUMMARY:Property Committee
DESCRIPTION:
URL:https://adventlutheranyork.org/event/property-committee-2/
CATEGORIES:Committee
END:VEVENT
BEGIN:VEVENT
DTSTART;TZID=America/New_York:20250213T113000
DTEND;TZID=America/New_York:20250213T123000
DTSTAMP:20260422T215152
CREATED:20250201T231952Z
LAST-MODIFIED:20250201T231952Z
UID:24664-1739446200-1739449800@adventlutheranyork.org
SUMMARY:Leisure Lunch @ Chili's
DESCRIPTION:
URL:https://adventlutheranyork.org/event/leisure-lunch-chilis/
CATEGORIES:Music Ministry
END:VEVENT
BEGIN:VEVENT
DTSTART;TZID=America/New_York:20250212T190000
DTEND;TZID=America/New_York:20250212T203000
DTSTAMP:20260422T215152
CREATED:20250201T231816Z
LAST-MODIFIED:20250201T231816Z
UID:24662-1739386800-1739392200@adventlutheranyork.org
SUMMARY:Adult Choir Rehearsal
DESCRIPTION:
URL:https://adventlutheranyork.org/event/adult-choir-rehearsal-44/
CATEGORIES:Music Ministry
END:VEVENT
BEGIN:VEVENT
DTSTART;TZID=America/New_York:20250212T180000
DTEND;TZID=America/New_York:20250212T190000
DTSTAMP:20260422T215152
CREATED:20250201T230930Z
LAST-MODIFIED:20250201T230930Z
UID:24659-1739383200-1739386800@adventlutheranyork.org
SUMMARY:Handbell Rehearsal
DESCRIPTION:
URL:https://adventlutheranyork.org/event/handbell-rehearsal-11/
CATEGORIES:Music Ministry
END:VEVENT
BEGIN:VEVENT
DTSTART;TZID=America/New_York:20250211T183000
DTEND;TZID=America/New_York:20250211T193000
DTSTAMP:20260422T215152
CREATED:20250201T230824Z
LAST-MODIFIED:20250201T230824Z
UID:24657-1739298600-1739302200@adventlutheranyork.org
SUMMARY:Eagle Scout Ceremony
DESCRIPTION:
URL:https://adventlutheranyork.org/event/eagle-scout-ceremony/
CATEGORIES:Community
END:VEVENT
BEGIN:VEVENT
DTSTART;TZID=America/New_York:20250211T183000
DTEND;TZID=America/New_York:20250211T193000
DTSTAMP:20260422T215152
CREATED:20250201T230602Z
LAST-MODIFIED:20250201T230602Z
UID:24655-1739298600-1739302200@adventlutheranyork.org
SUMMARY:ABC Book Club
DESCRIPTION:
URL:https://adventlutheranyork.org/event/abc-book-club-2/
CATEGORIES:Advent Book Club
END:VEVENT
BEGIN:VEVENT
DTSTART;TZID=America/New_York:20250211T130000
DTEND;TZID=America/New_York:20250211T140000
DTSTAMP:20260422T215152
CREATED:20250201T230444Z
LAST-MODIFIED:20250201T231538Z
UID:24653-1739278800-1739282400@adventlutheranyork.org
SUMMARY:ABC Book Club
DESCRIPTION:
URL:https://adventlutheranyork.org/event/abc-book-club/
CATEGORIES:Advent Book Club
END:VEVENT
BEGIN:VEVENT
DTSTART;TZID=America/New_York:20250211T110000
DTEND;TZID=America/New_York:20250211T120000
DTSTAMP:20260422T215152
CREATED:20250201T230256Z
LAST-MODIFIED:20250201T230256Z
UID:24651-1739271600-1739275200@adventlutheranyork.org
SUMMARY:Brown Baggers
DESCRIPTION:
URL:https://adventlutheranyork.org/event/brown-baggers-24/
CATEGORIES:Brown Baggers
END:VEVENT
BEGIN:VEVENT
DTSTART;TZID=America/New_York:20250211T074500
DTEND;TZID=America/New_York:20250211T084500
DTSTAMP:20260422T215152
CREATED:20250201T230200Z
LAST-MODIFIED:20250201T231716Z
UID:24649-1739259900-1739263500@adventlutheranyork.org
SUMMARY:Good News and Brews
DESCRIPTION:
URL:https://adventlutheranyork.org/event/good-news-and-brews-7/
END:VEVENT
BEGIN:VEVENT
DTSTART;TZID=America/New_York:20250210T180000
DTEND;TZID=America/New_York:20250210T190000
DTSTAMP:20260422T215152
CREATED:20250201T225825Z
LAST-MODIFIED:20250201T225825Z
UID:24647-1739210400-1739214000@adventlutheranyork.org
SUMMARY:Advent Quilters
DESCRIPTION:
URL:https://adventlutheranyork.org/event/advent-quilters-30/
CATEGORIES:Advent Quilters
END:VEVENT
BEGIN:VEVENT
DTSTART;TZID=America/New_York:20250210T180000
DTEND;TZID=America/New_York:20250210T190000
DTSTAMP:20260422T215152
CREATED:20250201T225723Z
LAST-MODIFIED:20250201T225723Z
UID:24645-1739210400-1739214000@adventlutheranyork.org
SUMMARY:Cancer Support Group
DESCRIPTION:
URL:https://adventlutheranyork.org/event/cancer-support-group-6/
CATEGORIES:Cancer Support
END:VEVENT
BEGIN:VEVENT
DTSTART;TZID=America/New_York:20250209T111500
DTEND;TZID=America/New_York:20250209T120000
DTSTAMP:20260422T215152
CREATED:20250201T225619Z
LAST-MODIFIED:20250201T225619Z
UID:24643-1739099700-1739102400@adventlutheranyork.org
SUMMARY:Contemporary Worship Service
DESCRIPTION:
URL:https://adventlutheranyork.org/event/contemporary-worship-service-16/
CATEGORIES:Services
END:VEVENT
BEGIN:VEVENT
DTSTART;TZID=America/New_York:20250209T110000
DTEND;TZID=America/New_York:20250209T120000
DTSTAMP:20260422T215152
CREATED:20250201T225543Z
LAST-MODIFIED:20250201T225543Z
UID:24641-1739098800-1739102400@adventlutheranyork.org
SUMMARY:Worship Service
DESCRIPTION:
URL:https://adventlutheranyork.org/event/worship-service-107/
CATEGORIES:Services
END:VEVENT
BEGIN:VEVENT
DTSTART;TZID=America/New_York:20250209T094500
DTEND;TZID=America/New_York:20250209T104500
DTSTAMP:20260422T215152
CREATED:20250201T225423Z
LAST-MODIFIED:20250201T225423Z
UID:24639-1739094300-1739097900@adventlutheranyork.org
SUMMARY:Sunday School
DESCRIPTION:
URL:https://adventlutheranyork.org/event/sunday-school-42/
CATEGORIES:Christian Education
END:VEVENT
BEGIN:VEVENT
DTSTART;TZID=America/New_York:20250209T093000
DTEND;TZID=America/New_York:20250209T094500
DTSTAMP:20260422T215152
CREATED:20250201T225341Z
LAST-MODIFIED:20250201T225341Z
UID:24637-1739093400-1739094300@adventlutheranyork.org
SUMMARY:Youth Choir Rehearsal
DESCRIPTION:
URL:https://adventlutheranyork.org/event/youth-choir-rehearsal-20/
CATEGORIES:Music Ministry
END:VEVENT
BEGIN:VEVENT
DTSTART;TZID=America/New_York:20250209T083000
DTEND;TZID=America/New_York:20250209T093000
DTSTAMP:20260422T215152
CREATED:20250201T225248Z
LAST-MODIFIED:20250201T225248Z
UID:24635-1739089800-1739093400@adventlutheranyork.org
SUMMARY:Worship Service
DESCRIPTION:
URL:https://adventlutheranyork.org/event/worship-service-106/
CATEGORIES:Services
END:VEVENT
BEGIN:VEVENT
DTSTART;VALUE=DATE:20250209
DTEND;VALUE=DATE:20250210
DTSTAMP:20260422T215152
CREATED:20250201T225217Z
LAST-MODIFIED:20250201T225217Z
UID:24633-1739059200-1739145599@adventlutheranyork.org
SUMMARY:Fair Trade Sunday
DESCRIPTION:
URL:https://adventlutheranyork.org/event/fair-trade-sunday-8/
END:VEVENT
BEGIN:VEVENT
DTSTART;VALUE=DATE:20250209
DTEND;VALUE=DATE:20250210
DTSTAMP:20260422T215152
CREATED:20250201T225118Z
LAST-MODIFIED:20250201T225118Z
UID:24631-1739059200-1739145599@adventlutheranyork.org
SUMMARY:Epiphany 5
DESCRIPTION:
URL:https://adventlutheranyork.org/event/epiphany-5-2/
END:VEVENT
BEGIN:VEVENT
DTSTART;TZID=America/New_York:20250208T083000
DTEND;TZID=America/New_York:20250208T093000
DTSTAMP:20260422T215152
CREATED:20250201T224955Z
LAST-MODIFIED:20250201T224955Z
UID:24629-1739003400-1739007000@adventlutheranyork.org
SUMMARY:YJSO
DESCRIPTION:
URL:https://adventlutheranyork.org/event/yjso-5/
CATEGORIES:Community
END:VEVENT
BEGIN:VEVENT
DTSTART;TZID=America/New_York:20250208T080000
DTEND;TZID=America/New_York:20250208T090000
DTSTAMP:20260422T215152
CREATED:20250201T224922Z
LAST-MODIFIED:20250201T224922Z
UID:24627-1739001600-1739005200@adventlutheranyork.org
SUMMARY:Men's Bible Study
DESCRIPTION:
URL:https://adventlutheranyork.org/event/mens-bible-study-11/
CATEGORIES:Christian Education
END:VEVENT
BEGIN:VEVENT
DTSTART;TZID=America/New_York:20250206T180000
DTEND;TZID=America/New_York:20250206T190000
DTSTAMP:20260422T215152
CREATED:20250201T224816Z
LAST-MODIFIED:20250201T224816Z
UID:24625-1738864800-1738868400@adventlutheranyork.org
SUMMARY:Girl Scouts
DESCRIPTION:
URL:https://adventlutheranyork.org/event/girl-scouts-6/
CATEGORIES:Community
END:VEVENT
BEGIN:VEVENT
DTSTART;TZID=America/New_York:20250205T190000
DTEND;TZID=America/New_York:20250205T203000
DTSTAMP:20260422T215152
CREATED:20250201T224740Z
LAST-MODIFIED:20250201T224740Z
UID:24623-1738782000-1738787400@adventlutheranyork.org
SUMMARY:Adult Choir Rehearsal
DESCRIPTION:
URL:https://adventlutheranyork.org/event/adult-choir-rehearsal-43/
CATEGORIES:Music Ministry
END:VEVENT
BEGIN:VEVENT
DTSTART;TZID=America/New_York:20250205T180000
DTEND;TZID=America/New_York:20250205T190000
DTSTAMP:20260422T215152
CREATED:20250201T224645Z
LAST-MODIFIED:20250201T224645Z
UID:24621-1738778400-1738782000@adventlutheranyork.org
SUMMARY:Handbell Rehearsal
DESCRIPTION:
URL:https://adventlutheranyork.org/event/handbell-rehearsal-10/
CATEGORIES:Music Ministry
END:VEVENT
BEGIN:VEVENT
DTSTART;TZID=America/New_York:20250205T090000
DTEND;TZID=America/New_York:20250205T100000
DTSTAMP:20260422T215152
CREATED:20250201T224615Z
LAST-MODIFIED:20250201T224615Z
UID:24619-1738746000-1738749600@adventlutheranyork.org
SUMMARY:Advent Quilters
DESCRIPTION:
URL:https://adventlutheranyork.org/event/advent-quilters-29/
CATEGORIES:Advent Quilters
END:VEVENT
BEGIN:VEVENT
DTSTART;TZID=America/New_York:20250203T090000
DTEND;TZID=America/New_York:20250203T100000
DTSTAMP:20260422T215152
CREATED:20250201T224544Z
LAST-MODIFIED:20250201T224544Z
UID:24617-1738573200-1738576800@adventlutheranyork.org
SUMMARY:Joy in the Morning
DESCRIPTION:
URL:https://adventlutheranyork.org/event/joy-in-the-morning-19/
CATEGORIES:Joy in the Morning
END:VEVENT
BEGIN:VEVENT
DTSTART;TZID=America/New_York:20250202T111500
DTEND;TZID=America/New_York:20250202T120000
DTSTAMP:20260422T215152
CREATED:20250201T224516Z
LAST-MODIFIED:20250201T224516Z
UID:24615-1738494900-1738497600@adventlutheranyork.org
SUMMARY:Contemporary Worship Service
DESCRIPTION:
URL:https://adventlutheranyork.org/event/contemporary-worship-service-15/
CATEGORIES:Services
END:VEVENT
BEGIN:VEVENT
DTSTART;TZID=America/New_York:20250202T110000
DTEND;TZID=America/New_York:20250202T120000
DTSTAMP:20260422T215152
CREATED:20250201T224437Z
LAST-MODIFIED:20250201T224437Z
UID:24612-1738494000-1738497600@adventlutheranyork.org
SUMMARY:Worship Service
DESCRIPTION:
URL:https://adventlutheranyork.org/event/worship-service-105/
CATEGORIES:Services
END:VEVENT
BEGIN:VEVENT
DTSTART;TZID=America/New_York:20250202T094500
DTEND;TZID=America/New_York:20250202T104500
DTSTAMP:20260422T215152
CREATED:20250201T224402Z
LAST-MODIFIED:20250201T224402Z
UID:24610-1738489500-1738493100@adventlutheranyork.org
SUMMARY:Sunday School
DESCRIPTION:
URL:https://adventlutheranyork.org/event/sunday-school-41/
CATEGORIES:Christian Education
END:VEVENT
BEGIN:VEVENT
DTSTART;TZID=America/New_York:20250202T093000
DTEND;TZID=America/New_York:20250202T094500
DTSTAMP:20260422T215152
CREATED:20250201T224314Z
LAST-MODIFIED:20250201T224314Z
UID:24608-1738488600-1738489500@adventlutheranyork.org
SUMMARY:Youth Choir Rehearsal
DESCRIPTION:
URL:https://adventlutheranyork.org/event/youth-choir-rehearsal-19/
CATEGORIES:Music Ministry
END:VEVENT
END:VCALENDAR