BEGIN:VCALENDAR
VERSION:2.0
PRODID:-//Advent Lutheran Church - ECPv6.15.20//NONSGML v1.0//EN
CALSCALE:GREGORIAN
METHOD:PUBLISH
X-ORIGINAL-URL:https://adventlutheranyork.org
X-WR-CALDESC:Events for Advent Lutheran Church
REFRESH-INTERVAL;VALUE=DURATION:PT1H
X-Robots-Tag:noindex
X-PUBLISHED-TTL:PT1H
BEGIN:VTIMEZONE
TZID:America/New_York
BEGIN:DAYLIGHT
TZOFFSETFROM:-0500
TZOFFSETTO:-0400
TZNAME:EDT
DTSTART:20250309T070000
END:DAYLIGHT
BEGIN:STANDARD
TZOFFSETFROM:-0400
TZOFFSETTO:-0500
TZNAME:EST
DTSTART:20251102T060000
END:STANDARD
BEGIN:DAYLIGHT
TZOFFSETFROM:-0500
TZOFFSETTO:-0400
TZNAME:EDT
DTSTART:20260308T070000
END:DAYLIGHT
BEGIN:STANDARD
TZOFFSETFROM:-0400
TZOFFSETTO:-0500
TZNAME:EST
DTSTART:20261101T060000
END:STANDARD
BEGIN:DAYLIGHT
TZOFFSETFROM:-0500
TZOFFSETTO:-0400
TZNAME:EDT
DTSTART:20270314T070000
END:DAYLIGHT
BEGIN:STANDARD
TZOFFSETFROM:-0400
TZOFFSETTO:-0500
TZNAME:EST
DTSTART:20271107T060000
END:STANDARD
END:VTIMEZONE
BEGIN:VEVENT
DTSTART;TZID=America/New_York:20260112T180000
DTEND;TZID=America/New_York:20260112T190000
DTSTAMP:20260421T203209
CREATED:20251228T185611Z
LAST-MODIFIED:20251228T185611Z
UID:26113-1768240800-1768244400@adventlutheranyork.org
SUMMARY:Cancer Support Group
DESCRIPTION:
URL:https://adventlutheranyork.org/event/cancer-support-group-17/
CATEGORIES:Cancer Support,Community
END:VEVENT
BEGIN:VEVENT
DTSTART;TZID=America/New_York:20260113T110000
DTEND;TZID=America/New_York:20260113T120000
DTSTAMP:20260421T203209
CREATED:20251228T190004Z
LAST-MODIFIED:20251228T190004Z
UID:26115-1768302000-1768305600@adventlutheranyork.org
SUMMARY:Brown Baggers
DESCRIPTION:
URL:https://adventlutheranyork.org/event/brown-baggers-45/
CATEGORIES:Brown Baggers
END:VEVENT
BEGIN:VEVENT
DTSTART;TZID=America/New_York:20260114T080000
DTEND;TZID=America/New_York:20260114T090000
DTSTAMP:20260421T203209
CREATED:20251228T190113Z
LAST-MODIFIED:20251228T190113Z
UID:26117-1768377600-1768381200@adventlutheranyork.org
SUMMARY:Good News and Brews
DESCRIPTION:
URL:https://adventlutheranyork.org/event/good-news-and-brews-8/
CATEGORIES:Christian Education
END:VEVENT
BEGIN:VEVENT
DTSTART;TZID=America/New_York:20260114T180000
DTEND;TZID=America/New_York:20260114T190000
DTSTAMP:20260421T203209
CREATED:20251228T192556Z
LAST-MODIFIED:20251228T192556Z
UID:26119-1768413600-1768417200@adventlutheranyork.org
SUMMARY:Handbell Ensemble Rehearsal
DESCRIPTION:
URL:https://adventlutheranyork.org/event/handbell-ensemble-rehearsal-44/
CATEGORIES:Music Ministry
END:VEVENT
BEGIN:VEVENT
DTSTART;TZID=America/New_York:20260114T190000
DTEND;TZID=America/New_York:20260114T203000
DTSTAMP:20260421T203209
CREATED:20251228T192738Z
LAST-MODIFIED:20251228T192738Z
UID:26121-1768417200-1768422600@adventlutheranyork.org
SUMMARY:Adult Choir Rehearsal
DESCRIPTION:
URL:https://adventlutheranyork.org/event/adult-choir-rehearsal-74/
CATEGORIES:Music Ministry
END:VEVENT
BEGIN:VEVENT
DTSTART;TZID=America/New_York:20260115T113000
DTEND;TZID=America/New_York:20260115T123000
DTSTAMP:20260421T203209
CREATED:20251228T193602Z
LAST-MODIFIED:20251228T193602Z
UID:26123-1768476600-1768480200@adventlutheranyork.org
SUMMARY:Leisure Lunch @ Two Brothers
DESCRIPTION:
URL:https://adventlutheranyork.org/event/leisure-lunch-two-brothers/
CATEGORIES:Leisure Group
END:VEVENT
BEGIN:VEVENT
DTSTART;TZID=America/New_York:20260115T180000
DTEND;TZID=America/New_York:20260115T190000
DTSTAMP:20260421T203209
CREATED:20251228T193716Z
LAST-MODIFIED:20251228T193716Z
UID:26125-1768500000-1768503600@adventlutheranyork.org
SUMMARY:Girl Scouts
DESCRIPTION:
URL:https://adventlutheranyork.org/event/girl-scouts-22/
CATEGORIES:Community
END:VEVENT
BEGIN:VEVENT
DTSTART;TZID=America/New_York:20260115T180000
DTEND;TZID=America/New_York:20260115T190000
DTSTAMP:20260421T203209
CREATED:20251228T194316Z
LAST-MODIFIED:20251228T194316Z
UID:26127-1768500000-1768503600@adventlutheranyork.org
SUMMARY:Praise Band Rehearsal
DESCRIPTION:
URL:https://adventlutheranyork.org/event/praise-band-rehearsal-2/
CATEGORIES:Music Ministry
END:VEVENT
BEGIN:VEVENT
DTSTART;TZID=America/New_York:20260115T183000
DTEND;TZID=America/New_York:20260115T193000
DTSTAMP:20260421T203209
CREATED:20251228T194536Z
LAST-MODIFIED:20251228T194536Z
UID:26129-1768501800-1768505400@adventlutheranyork.org
SUMMARY:100th Anniversary Committee Meeting
DESCRIPTION:
URL:https://adventlutheranyork.org/event/100th-anniversary-committee-meeting-4/
CATEGORIES:Committee
END:VEVENT
BEGIN:VEVENT
DTSTART;TZID=America/New_York:20260115T193000
DTEND;TZID=America/New_York:20260115T203000
DTSTAMP:20260421T203209
CREATED:20251228T194625Z
LAST-MODIFIED:20251228T194625Z
UID:26131-1768505400-1768509000@adventlutheranyork.org
SUMMARY:Technology Committee Meeting
DESCRIPTION:
URL:https://adventlutheranyork.org/event/technology-committee-meeting-4/
CATEGORIES:Committee
END:VEVENT
BEGIN:VEVENT
DTSTART;VALUE=DATE:20260118
DTEND;VALUE=DATE:20260119
DTSTAMP:20260421T203209
CREATED:20251228T194714Z
LAST-MODIFIED:20251228T194714Z
UID:26133-1768694400-1768780799@adventlutheranyork.org
SUMMARY:Epiphany 2
DESCRIPTION:
URL:https://adventlutheranyork.org/event/epiphany-2-2/
END:VEVENT
BEGIN:VEVENT
DTSTART;TZID=America/New_York:20260118T090000
DTEND;TZID=America/New_York:20260118T100000
DTSTAMP:20260421T203209
CREATED:20251228T194800Z
LAST-MODIFIED:20251228T194800Z
UID:26135-1768726800-1768730400@adventlutheranyork.org
SUMMARY:Sunday School
DESCRIPTION:
URL:https://adventlutheranyork.org/event/sunday-school-74/
CATEGORIES:Christian Education
END:VEVENT
BEGIN:VEVENT
DTSTART;TZID=America/New_York:20260118T100000
DTEND;TZID=America/New_York:20260118T110000
DTSTAMP:20260421T203209
CREATED:20251228T194854Z
LAST-MODIFIED:20251228T194854Z
UID:26137-1768730400-1768734000@adventlutheranyork.org
SUMMARY:Youth Sunday Worship Service
DESCRIPTION:
URL:https://adventlutheranyork.org/event/youth-sunday-worship-service/
CATEGORIES:Services
END:VEVENT
BEGIN:VEVENT
DTSTART;TZID=America/New_York:20260118T111500
DTEND;TZID=America/New_York:20260118T121500
DTSTAMP:20260421T203209
CREATED:20251228T194956Z
LAST-MODIFIED:20251228T194956Z
UID:26139-1768734900-1768738500@adventlutheranyork.org
SUMMARY:Annual Congregational Meeting
DESCRIPTION:
URL:https://adventlutheranyork.org/event/annual-congregational-meeting/
END:VEVENT
BEGIN:VEVENT
DTSTART;TZID=America/New_York:20260118T160000
DTEND;TZID=America/New_York:20260118T170000
DTSTAMP:20260421T203209
CREATED:20251228T195049Z
LAST-MODIFIED:20251228T195049Z
UID:26141-1768752000-1768755600@adventlutheranyork.org
SUMMARY:Prayers & Stitches
DESCRIPTION:
URL:https://adventlutheranyork.org/event/prayers-stitches-6/
CATEGORIES:Prayers and Stitches
END:VEVENT
BEGIN:VEVENT
DTSTART;TZID=America/New_York:20260119T090000
DTEND;TZID=America/New_York:20260119T100000
DTSTAMP:20260421T203209
CREATED:20251228T195140Z
LAST-MODIFIED:20251228T195140Z
UID:26143-1768813200-1768816800@adventlutheranyork.org
SUMMARY:Joy in the Morning
DESCRIPTION:
URL:https://adventlutheranyork.org/event/joy-in-the-morning-35/
CATEGORIES:Joy in the Morning
END:VEVENT
BEGIN:VEVENT
DTSTART;TZID=America/New_York:20260119T183000
DTEND;TZID=America/New_York:20260119T193000
DTSTAMP:20260421T203209
CREATED:20251228T195358Z
LAST-MODIFIED:20251228T195358Z
UID:26145-1768847400-1768851000@adventlutheranyork.org
SUMMARY:Congregational Council Meeting
DESCRIPTION:
URL:https://adventlutheranyork.org/event/congregational-council-meeting/
CATEGORIES:Administration,Committee
END:VEVENT
BEGIN:VEVENT
DTSTART;TZID=America/New_York:20260121T180000
DTEND;TZID=America/New_York:20260121T190000
DTSTAMP:20260421T203209
CREATED:20251228T195454Z
LAST-MODIFIED:20251228T195454Z
UID:26147-1769018400-1769022000@adventlutheranyork.org
SUMMARY:Handbell Ensemble Rehearsal
DESCRIPTION:
URL:https://adventlutheranyork.org/event/handbell-ensemble-rehearsal-45/
CATEGORIES:Music Ministry
END:VEVENT
BEGIN:VEVENT
DTSTART;TZID=America/New_York:20260121T190000
DTEND;TZID=America/New_York:20260121T200000
DTSTAMP:20260421T203209
CREATED:20251228T195649Z
LAST-MODIFIED:20251228T195649Z
UID:26151-1769022000-1769025600@adventlutheranyork.org
SUMMARY:Stewardship Committee Meeting
DESCRIPTION:
URL:https://adventlutheranyork.org/event/stewardship-committee-meeting-11/
CATEGORIES:Committee
END:VEVENT
BEGIN:VEVENT
DTSTART;TZID=America/New_York:20260121T190000
DTEND;TZID=America/New_York:20260121T203000
DTSTAMP:20260421T203209
CREATED:20251228T195548Z
LAST-MODIFIED:20251228T195548Z
UID:26149-1769022000-1769027400@adventlutheranyork.org
SUMMARY:Adult Choir Rehearsal
DESCRIPTION:
URL:https://adventlutheranyork.org/event/adult-choir-rehearsal-75/
CATEGORIES:Music Ministry
END:VEVENT
BEGIN:VEVENT
DTSTART;TZID=America/New_York:20260122T123000
DTEND;TZID=America/New_York:20260122T130000
DTSTAMP:20260421T203209
CREATED:20260122T234423Z
LAST-MODIFIED:20260122T234423Z
UID:26364-1769085000-1769086800@adventlutheranyork.org
SUMMARY:New Members Class
DESCRIPTION:
URL:https://adventlutheranyork.org/event/new-members-class-3/
END:VEVENT
BEGIN:VEVENT
DTSTART;TZID=America/New_York:20260124T083000
DTEND;TZID=America/New_York:20260124T103000
DTSTAMP:20260421T203209
CREATED:20251228T195741Z
LAST-MODIFIED:20251228T195741Z
UID:26153-1769243400-1769250600@adventlutheranyork.org
SUMMARY:YJSO
DESCRIPTION:
URL:https://adventlutheranyork.org/event/yjso-20/
CATEGORIES:Community
END:VEVENT
BEGIN:VEVENT
DTSTART;VALUE=DATE:20260125
DTEND;VALUE=DATE:20260126
DTSTAMP:20260421T203209
CREATED:20251228T195828Z
LAST-MODIFIED:20251228T195828Z
UID:26155-1769299200-1769385599@adventlutheranyork.org
SUMMARY:Epiphany 3
DESCRIPTION:
URL:https://adventlutheranyork.org/event/epiphany-3-3/
END:VEVENT
BEGIN:VEVENT
DTSTART;TZID=America/New_York:20260125T083000
DTEND;TZID=America/New_York:20260125T093000
DTSTAMP:20260421T203209
CREATED:20251228T195914Z
LAST-MODIFIED:20251228T195914Z
UID:26157-1769329800-1769333400@adventlutheranyork.org
SUMMARY:Traditional Worship Service
DESCRIPTION:
URL:https://adventlutheranyork.org/event/traditional-worship-service-13/
CATEGORIES:Services
END:VEVENT
BEGIN:VEVENT
DTSTART;TZID=America/New_York:20260125T093000
DTEND;TZID=America/New_York:20260125T094500
DTSTAMP:20260421T203209
CREATED:20251228T195959Z
LAST-MODIFIED:20251228T195959Z
UID:26159-1769333400-1769334300@adventlutheranyork.org
SUMMARY:Youth Choir Rehearsal
DESCRIPTION:
URL:https://adventlutheranyork.org/event/youth-choir-rehearsal-43/
CATEGORIES:Music Ministry
END:VEVENT
BEGIN:VEVENT
DTSTART;TZID=America/New_York:20260125T094500
DTEND;TZID=America/New_York:20260125T104500
DTSTAMP:20260421T203209
CREATED:20251228T200053Z
LAST-MODIFIED:20251228T200053Z
UID:26161-1769334300-1769337900@adventlutheranyork.org
SUMMARY:Outreach Committee Meeting
DESCRIPTION:
URL:https://adventlutheranyork.org/event/outreach-committee-meeting-8/
CATEGORIES:Committee
END:VEVENT
BEGIN:VEVENT
DTSTART;TZID=America/New_York:20260125T094500
DTEND;TZID=America/New_York:20260125T104500
DTSTAMP:20260421T203209
CREATED:20251228T200141Z
LAST-MODIFIED:20251228T200141Z
UID:26163-1769334300-1769337900@adventlutheranyork.org
SUMMARY:Sunday School
DESCRIPTION:
URL:https://adventlutheranyork.org/event/sunday-school-75/
CATEGORIES:Christian Education
END:VEVENT
BEGIN:VEVENT
DTSTART;TZID=America/New_York:20260125T110000
DTEND;TZID=America/New_York:20260125T120000
DTSTAMP:20260421T203209
CREATED:20251228T200222Z
LAST-MODIFIED:20251228T200222Z
UID:26165-1769338800-1769342400@adventlutheranyork.org
SUMMARY:Traditional Worship Service
DESCRIPTION:
URL:https://adventlutheranyork.org/event/traditional-worship-service-14/
CATEGORIES:Services
END:VEVENT
BEGIN:VEVENT
DTSTART;TZID=America/New_York:20260125T111500
DTEND;TZID=America/New_York:20260125T120000
DTSTAMP:20260421T203209
CREATED:20251228T200307Z
LAST-MODIFIED:20251228T200307Z
UID:26167-1769339700-1769342400@adventlutheranyork.org
SUMMARY:Contemporary Worship Service
DESCRIPTION:
URL:https://adventlutheranyork.org/event/contemporary-worship-service-58/
CATEGORIES:Services
END:VEVENT
BEGIN:VEVENT
DTSTART;TZID=America/New_York:20260127T110000
DTEND;TZID=America/New_York:20260127T120000
DTSTAMP:20260421T203209
CREATED:20251228T200348Z
LAST-MODIFIED:20251228T200348Z
UID:26169-1769511600-1769515200@adventlutheranyork.org
SUMMARY:Brown Baggers
DESCRIPTION:
URL:https://adventlutheranyork.org/event/brown-baggers-46/
CATEGORIES:Brown Baggers
END:VEVENT
END:VCALENDAR