BEGIN:VCALENDAR
VERSION:2.0
PRODID:-//Advent Lutheran Church - ECPv6.15.20//NONSGML v1.0//EN
CALSCALE:GREGORIAN
METHOD:PUBLISH
X-WR-CALNAME:Advent Lutheran Church
X-ORIGINAL-URL:https://adventlutheranyork.org
X-WR-CALDESC:Events for Advent Lutheran Church
REFRESH-INTERVAL;VALUE=DURATION:PT1H
X-Robots-Tag:noindex
X-PUBLISHED-TTL:PT1H
BEGIN:VTIMEZONE
TZID:America/New_York
BEGIN:DAYLIGHT
TZOFFSETFROM:-0500
TZOFFSETTO:-0400
TZNAME:EDT
DTSTART:20240310T070000
END:DAYLIGHT
BEGIN:STANDARD
TZOFFSETFROM:-0400
TZOFFSETTO:-0500
TZNAME:EST
DTSTART:20241103T060000
END:STANDARD
BEGIN:DAYLIGHT
TZOFFSETFROM:-0500
TZOFFSETTO:-0400
TZNAME:EDT
DTSTART:20250309T070000
END:DAYLIGHT
BEGIN:STANDARD
TZOFFSETFROM:-0400
TZOFFSETTO:-0500
TZNAME:EST
DTSTART:20251102T060000
END:STANDARD
BEGIN:DAYLIGHT
TZOFFSETFROM:-0500
TZOFFSETTO:-0400
TZNAME:EDT
DTSTART:20260308T070000
END:DAYLIGHT
BEGIN:STANDARD
TZOFFSETFROM:-0400
TZOFFSETTO:-0500
TZNAME:EST
DTSTART:20261101T060000
END:STANDARD
END:VTIMEZONE
BEGIN:VEVENT
DTSTART;TZID=America/New_York:20250223T094500
DTEND;TZID=America/New_York:20250223T104500
DTSTAMP:20260422T220528
CREATED:20250201T233238Z
LAST-MODIFIED:20250201T233238Z
UID:24711-1740303900-1740307500@adventlutheranyork.org
SUMMARY:Sunday School
DESCRIPTION:
URL:https://adventlutheranyork.org/event/sunday-school-44/
CATEGORIES:Christian Education
END:VEVENT
BEGIN:VEVENT
DTSTART;TZID=America/New_York:20250223T093000
DTEND;TZID=America/New_York:20250223T094500
DTSTAMP:20260422T220528
CREATED:20250201T233208Z
LAST-MODIFIED:20250201T233208Z
UID:24709-1740303000-1740303900@adventlutheranyork.org
SUMMARY:Youth Choir Rehearsal
DESCRIPTION:
URL:https://adventlutheranyork.org/event/youth-choir-rehearsal-21/
CATEGORIES:Music Ministry
END:VEVENT
BEGIN:VEVENT
DTSTART;TZID=America/New_York:20250223T083000
DTEND;TZID=America/New_York:20250223T093000
DTSTAMP:20260422T220528
CREATED:20250201T233139Z
LAST-MODIFIED:20250201T233139Z
UID:24707-1740299400-1740303000@adventlutheranyork.org
SUMMARY:Worship Service
DESCRIPTION:
URL:https://adventlutheranyork.org/event/worship-service-110/
CATEGORIES:Services
END:VEVENT
BEGIN:VEVENT
DTSTART;VALUE=DATE:20250223
DTEND;VALUE=DATE:20250224
DTSTAMP:20260422T220528
CREATED:20250201T233108Z
LAST-MODIFIED:20250201T233108Z
UID:24705-1740268800-1740355199@adventlutheranyork.org
SUMMARY:Epiphany 7
DESCRIPTION:
URL:https://adventlutheranyork.org/event/epiphany-7/
END:VEVENT
BEGIN:VEVENT
DTSTART;TZID=America/New_York:20250222T100000
DTEND;TZID=America/New_York:20250222T110000
DTSTAMP:20260422T220528
CREATED:20250201T233036Z
LAST-MODIFIED:20250201T233036Z
UID:24703-1740218400-1740222000@adventlutheranyork.org
SUMMARY:Nurse2Nurse
DESCRIPTION:
URL:https://adventlutheranyork.org/event/nurse2nurse/
CATEGORIES:Community
END:VEVENT
BEGIN:VEVENT
DTSTART;TZID=America/New_York:20250222T083000
DTEND;TZID=America/New_York:20250222T103000
DTSTAMP:20260422T220528
CREATED:20250201T233004Z
LAST-MODIFIED:20250201T233004Z
UID:24701-1740213000-1740220200@adventlutheranyork.org
SUMMARY:YJSO
DESCRIPTION:
URL:https://adventlutheranyork.org/event/yjso-6/
CATEGORIES:Community
END:VEVENT
BEGIN:VEVENT
DTSTART;TZID=America/New_York:20250221T100000
DTEND;TZID=America/New_York:20250221T110000
DTSTAMP:20260422T220528
CREATED:20250201T232927Z
LAST-MODIFIED:20250201T232927Z
UID:24699-1740132000-1740135600@adventlutheranyork.org
SUMMARY:Ladies Shares and Prayers
DESCRIPTION:
URL:https://adventlutheranyork.org/event/ladies-shares-and-prayers-5/
CATEGORIES:Ladies Shares and Prayers
END:VEVENT
BEGIN:VEVENT
DTSTART;TZID=America/New_York:20250220T180000
DTEND;TZID=America/New_York:20250220T190000
DTSTAMP:20260422T220528
CREATED:20250201T232852Z
LAST-MODIFIED:20250201T232852Z
UID:24697-1740074400-1740078000@adventlutheranyork.org
SUMMARY:Girl Scouts
DESCRIPTION:
URL:https://adventlutheranyork.org/event/girl-scouts-7/
CATEGORIES:Community
END:VEVENT
BEGIN:VEVENT
DTSTART;TZID=America/New_York:20250219T190000
DTEND;TZID=America/New_York:20250219T203000
DTSTAMP:20260422T220528
CREATED:20250201T232819Z
LAST-MODIFIED:20250201T232819Z
UID:24695-1739991600-1739997000@adventlutheranyork.org
SUMMARY:Adult Choir Rehearsal
DESCRIPTION:
URL:https://adventlutheranyork.org/event/adult-choir-rehearsal-45/
CATEGORIES:Music Ministry
END:VEVENT
BEGIN:VEVENT
DTSTART;TZID=America/New_York:20250219T180000
DTEND;TZID=America/New_York:20250219T190000
DTSTAMP:20260422T220528
CREATED:20250201T232749Z
LAST-MODIFIED:20250201T232749Z
UID:24693-1739988000-1739991600@adventlutheranyork.org
SUMMARY:Handbell Rehearsal
DESCRIPTION:
URL:https://adventlutheranyork.org/event/handbell-rehearsal-12/
CATEGORIES:Music Ministry
END:VEVENT
BEGIN:VEVENT
DTSTART;TZID=America/New_York:20250217T183000
DTEND;TZID=America/New_York:20250217T193000
DTSTAMP:20260422T220528
CREATED:20250201T232719Z
LAST-MODIFIED:20250201T232719Z
UID:24691-1739817000-1739820600@adventlutheranyork.org
SUMMARY:Council Meeting
DESCRIPTION:
URL:https://adventlutheranyork.org/event/council-meeting-12/
CATEGORIES:Administration
END:VEVENT
BEGIN:VEVENT
DTSTART;TZID=America/New_York:20250217T090000
DTEND;TZID=America/New_York:20250217T100000
DTSTAMP:20260422T220528
CREATED:20250201T232642Z
LAST-MODIFIED:20250201T232642Z
UID:24689-1739782800-1739786400@adventlutheranyork.org
SUMMARY:Joy in the Morning
DESCRIPTION:
URL:https://adventlutheranyork.org/event/joy-in-the-morning-20/
CATEGORIES:Joy in the Morning
END:VEVENT
BEGIN:VEVENT
DTSTART;TZID=America/New_York:20250216T183000
DTEND;TZID=America/New_York:20250216T193000
DTSTAMP:20260422T220528
CREATED:20250201T232605Z
LAST-MODIFIED:20250201T232605Z
UID:24687-1739730600-1739734200@adventlutheranyork.org
SUMMARY:New Member Class
DESCRIPTION:
URL:https://adventlutheranyork.org/event/new-member-class/
END:VEVENT
BEGIN:VEVENT
DTSTART;TZID=America/New_York:20250216T160000
DTEND;TZID=America/New_York:20250216T170000
DTSTAMP:20260422T220528
CREATED:20250201T232532Z
LAST-MODIFIED:20250201T232532Z
UID:24685-1739721600-1739725200@adventlutheranyork.org
SUMMARY:Prayers and Stitches
DESCRIPTION:
URL:https://adventlutheranyork.org/event/prayers-and-stitches-8/
CATEGORIES:Prayers and Stitches
END:VEVENT
BEGIN:VEVENT
DTSTART;TZID=America/New_York:20250216T133000
DTEND;TZID=America/New_York:20250216T143000
DTSTAMP:20260422T220528
CREATED:20250201T232507Z
LAST-MODIFIED:20250201T232507Z
UID:24682-1739712600-1739716200@adventlutheranyork.org
SUMMARY:Conference Meeting
DESCRIPTION:
URL:https://adventlutheranyork.org/event/conference-meeting/
CATEGORIES:Community
END:VEVENT
BEGIN:VEVENT
DTSTART;TZID=America/New_York:20250216T111500
DTEND;TZID=America/New_York:20250216T120000
DTSTAMP:20260422T220528
CREATED:20250201T232420Z
LAST-MODIFIED:20250201T232420Z
UID:24680-1739704500-1739707200@adventlutheranyork.org
SUMMARY:Contemporary Worship Service
DESCRIPTION:
URL:https://adventlutheranyork.org/event/contemporary-worship-service-17/
CATEGORIES:Services
END:VEVENT
BEGIN:VEVENT
DTSTART;TZID=America/New_York:20250216T110000
DTEND;TZID=America/New_York:20250216T120000
DTSTAMP:20260422T220528
CREATED:20250201T232340Z
LAST-MODIFIED:20250201T232340Z
UID:24678-1739703600-1739707200@adventlutheranyork.org
SUMMARY:Worship Service
DESCRIPTION:
URL:https://adventlutheranyork.org/event/worship-service-109/
CATEGORIES:Services
END:VEVENT
BEGIN:VEVENT
DTSTART;TZID=America/New_York:20250216T094500
DTEND;TZID=America/New_York:20250216T104500
DTSTAMP:20260422T220528
CREATED:20250201T232252Z
LAST-MODIFIED:20250201T232252Z
UID:24676-1739699100-1739702700@adventlutheranyork.org
SUMMARY:Sunday School
DESCRIPTION:
URL:https://adventlutheranyork.org/event/sunday-school-43/
CATEGORIES:Christian Education
END:VEVENT
BEGIN:VEVENT
DTSTART;TZID=America/New_York:20250216T083000
DTEND;TZID=America/New_York:20250216T093000
DTSTAMP:20260422T220528
CREATED:20250201T232215Z
LAST-MODIFIED:20250201T232215Z
UID:24674-1739694600-1739698200@adventlutheranyork.org
SUMMARY:Worship Service
DESCRIPTION:
URL:https://adventlutheranyork.org/event/worship-service-108/
CATEGORIES:Services
END:VEVENT
BEGIN:VEVENT
DTSTART;VALUE=DATE:20250216
DTEND;VALUE=DATE:20250217
DTSTAMP:20260422T220528
CREATED:20250201T232146Z
LAST-MODIFIED:20250201T232146Z
UID:24671-1739664000-1739750399@adventlutheranyork.org
SUMMARY:Epiphany 6
DESCRIPTION:
URL:https://adventlutheranyork.org/event/epiphany-6-2/
END:VEVENT
BEGIN:VEVENT
DTSTART;TZID=America/New_York:20250213T190000
DTEND;TZID=America/New_York:20250213T200000
DTSTAMP:20260422T220528
CREATED:20250201T232110Z
LAST-MODIFIED:20250201T232110Z
UID:24668-1739473200-1739476800@adventlutheranyork.org
SUMMARY:Mutual Ministry
DESCRIPTION:
URL:https://adventlutheranyork.org/event/mutual-ministry/
CATEGORIES:Committee
END:VEVENT
BEGIN:VEVENT
DTSTART;TZID=America/New_York:20250213T183000
DTEND;TZID=America/New_York:20250213T193000
DTSTAMP:20260422T220528
CREATED:20250201T232031Z
LAST-MODIFIED:20250201T232031Z
UID:24666-1739471400-1739475000@adventlutheranyork.org
SUMMARY:Property Committee
DESCRIPTION:
URL:https://adventlutheranyork.org/event/property-committee-2/
CATEGORIES:Committee
END:VEVENT
BEGIN:VEVENT
DTSTART;TZID=America/New_York:20250213T113000
DTEND;TZID=America/New_York:20250213T123000
DTSTAMP:20260422T220528
CREATED:20250201T231952Z
LAST-MODIFIED:20250201T231952Z
UID:24664-1739446200-1739449800@adventlutheranyork.org
SUMMARY:Leisure Lunch @ Chili's
DESCRIPTION:
URL:https://adventlutheranyork.org/event/leisure-lunch-chilis/
CATEGORIES:Music Ministry
END:VEVENT
BEGIN:VEVENT
DTSTART;TZID=America/New_York:20250212T190000
DTEND;TZID=America/New_York:20250212T203000
DTSTAMP:20260422T220528
CREATED:20250201T231816Z
LAST-MODIFIED:20250201T231816Z
UID:24662-1739386800-1739392200@adventlutheranyork.org
SUMMARY:Adult Choir Rehearsal
DESCRIPTION:
URL:https://adventlutheranyork.org/event/adult-choir-rehearsal-44/
CATEGORIES:Music Ministry
END:VEVENT
BEGIN:VEVENT
DTSTART;TZID=America/New_York:20250212T180000
DTEND;TZID=America/New_York:20250212T190000
DTSTAMP:20260422T220528
CREATED:20250201T230930Z
LAST-MODIFIED:20250201T230930Z
UID:24659-1739383200-1739386800@adventlutheranyork.org
SUMMARY:Handbell Rehearsal
DESCRIPTION:
URL:https://adventlutheranyork.org/event/handbell-rehearsal-11/
CATEGORIES:Music Ministry
END:VEVENT
BEGIN:VEVENT
DTSTART;TZID=America/New_York:20250211T183000
DTEND;TZID=America/New_York:20250211T193000
DTSTAMP:20260422T220528
CREATED:20250201T230824Z
LAST-MODIFIED:20250201T230824Z
UID:24657-1739298600-1739302200@adventlutheranyork.org
SUMMARY:Eagle Scout Ceremony
DESCRIPTION:
URL:https://adventlutheranyork.org/event/eagle-scout-ceremony/
CATEGORIES:Community
END:VEVENT
BEGIN:VEVENT
DTSTART;TZID=America/New_York:20250211T183000
DTEND;TZID=America/New_York:20250211T193000
DTSTAMP:20260422T220528
CREATED:20250201T230602Z
LAST-MODIFIED:20250201T230602Z
UID:24655-1739298600-1739302200@adventlutheranyork.org
SUMMARY:ABC Book Club
DESCRIPTION:
URL:https://adventlutheranyork.org/event/abc-book-club-2/
CATEGORIES:Advent Book Club
END:VEVENT
BEGIN:VEVENT
DTSTART;TZID=America/New_York:20250211T130000
DTEND;TZID=America/New_York:20250211T140000
DTSTAMP:20260422T220528
CREATED:20250201T230444Z
LAST-MODIFIED:20250201T231538Z
UID:24653-1739278800-1739282400@adventlutheranyork.org
SUMMARY:ABC Book Club
DESCRIPTION:
URL:https://adventlutheranyork.org/event/abc-book-club/
CATEGORIES:Advent Book Club
END:VEVENT
BEGIN:VEVENT
DTSTART;TZID=America/New_York:20250211T110000
DTEND;TZID=America/New_York:20250211T120000
DTSTAMP:20260422T220528
CREATED:20250201T230256Z
LAST-MODIFIED:20250201T230256Z
UID:24651-1739271600-1739275200@adventlutheranyork.org
SUMMARY:Brown Baggers
DESCRIPTION:
URL:https://adventlutheranyork.org/event/brown-baggers-24/
CATEGORIES:Brown Baggers
END:VEVENT
BEGIN:VEVENT
DTSTART;TZID=America/New_York:20250211T074500
DTEND;TZID=America/New_York:20250211T084500
DTSTAMP:20260422T220528
CREATED:20250201T230200Z
LAST-MODIFIED:20250201T231716Z
UID:24649-1739259900-1739263500@adventlutheranyork.org
SUMMARY:Good News and Brews
DESCRIPTION:
URL:https://adventlutheranyork.org/event/good-news-and-brews-7/
END:VEVENT
END:VCALENDAR