BEGIN:VCALENDAR
VERSION:2.0
PRODID:-//Advent Lutheran Church - ECPv6.15.20//NONSGML v1.0//EN
CALSCALE:GREGORIAN
METHOD:PUBLISH
X-WR-CALNAME:Advent Lutheran Church
X-ORIGINAL-URL:https://adventlutheranyork.org
X-WR-CALDESC:Events for Advent Lutheran Church
REFRESH-INTERVAL;VALUE=DURATION:PT1H
X-Robots-Tag:noindex
X-PUBLISHED-TTL:PT1H
BEGIN:VTIMEZONE
TZID:America/New_York
BEGIN:DAYLIGHT
TZOFFSETFROM:-0500
TZOFFSETTO:-0400
TZNAME:EDT
DTSTART:20240310T070000
END:DAYLIGHT
BEGIN:STANDARD
TZOFFSETFROM:-0400
TZOFFSETTO:-0500
TZNAME:EST
DTSTART:20241103T060000
END:STANDARD
BEGIN:DAYLIGHT
TZOFFSETFROM:-0500
TZOFFSETTO:-0400
TZNAME:EDT
DTSTART:20250309T070000
END:DAYLIGHT
BEGIN:STANDARD
TZOFFSETFROM:-0400
TZOFFSETTO:-0500
TZNAME:EST
DTSTART:20251102T060000
END:STANDARD
BEGIN:DAYLIGHT
TZOFFSETFROM:-0500
TZOFFSETTO:-0400
TZNAME:EDT
DTSTART:20260308T070000
END:DAYLIGHT
BEGIN:STANDARD
TZOFFSETFROM:-0400
TZOFFSETTO:-0500
TZNAME:EST
DTSTART:20261101T060000
END:STANDARD
END:VTIMEZONE
BEGIN:VEVENT
DTSTART;TZID=America/New_York:20250501T180000
DTEND;TZID=America/New_York:20250501T190000
DTSTAMP:20260422T215117
CREATED:20250428T160705Z
LAST-MODIFIED:20250428T160705Z
UID:25088-1746122400-1746126000@adventlutheranyork.org
SUMMARY:Worship Band Rehearsal
DESCRIPTION:
URL:https://adventlutheranyork.org/event/worship-band-rehearsal-3/
CATEGORIES:Music Ministry
END:VEVENT
BEGIN:VEVENT
DTSTART;TZID=America/New_York:20250501T180000
DTEND;TZID=America/New_York:20250501T190000
DTSTAMP:20260422T215117
CREATED:20250427T143350Z
LAST-MODIFIED:20250428T160616Z
UID:25085-1746122400-1746126000@adventlutheranyork.org
SUMMARY:Girl Scouts
DESCRIPTION:
URL:https://adventlutheranyork.org/event/girl-scouts-11/
CATEGORIES:Community
END:VEVENT
BEGIN:VEVENT
DTSTART;TZID=America/New_York:20250430T190000
DTEND;TZID=America/New_York:20250430T203000
DTSTAMP:20260422T215117
CREATED:20250407T215450Z
LAST-MODIFIED:20250407T215450Z
UID:25061-1746039600-1746045000@adventlutheranyork.org
SUMMARY:Adult Choir Rehearsal
DESCRIPTION:
URL:https://adventlutheranyork.org/event/adult-choir-rehearsal-54/
CATEGORIES:Music Ministry
END:VEVENT
BEGIN:VEVENT
DTSTART;TZID=America/New_York:20250430T190000
DTEND;TZID=America/New_York:20250430T200000
DTSTAMP:20260422T215117
CREATED:20250407T215542Z
LAST-MODIFIED:20250407T215542Z
UID:25063-1746039600-1746043200@adventlutheranyork.org
SUMMARY:Stewardship Committee Meeting
DESCRIPTION:
URL:https://adventlutheranyork.org/event/stewardship-committee-meeting-8/
CATEGORIES:Committee
END:VEVENT
BEGIN:VEVENT
DTSTART;TZID=America/New_York:20250430T180000
DTEND;TZID=America/New_York:20250430T190000
DTSTAMP:20260422T215117
CREATED:20250407T215412Z
LAST-MODIFIED:20250407T215412Z
UID:25059-1746036000-1746039600@adventlutheranyork.org
SUMMARY:Handbell Rehearsal
DESCRIPTION:
URL:https://adventlutheranyork.org/event/handbell-rehearsal-21/
CATEGORIES:Music Ministry
END:VEVENT
BEGIN:VEVENT
DTSTART;TZID=America/New_York:20250427T111500
DTEND;TZID=America/New_York:20250427T120000
DTSTAMP:20260422T215117
CREATED:20250407T215325Z
LAST-MODIFIED:20250407T215325Z
UID:25057-1745752500-1745755200@adventlutheranyork.org
SUMMARY:Contemporary Worship Service
DESCRIPTION:
URL:https://adventlutheranyork.org/event/contemporary-worship-service-27/
CATEGORIES:Services
END:VEVENT
BEGIN:VEVENT
DTSTART;TZID=America/New_York:20250427T110000
DTEND;TZID=America/New_York:20250427T120000
DTSTAMP:20260422T215117
CREATED:20250407T215245Z
LAST-MODIFIED:20250407T215245Z
UID:25055-1745751600-1745755200@adventlutheranyork.org
SUMMARY:Worship Service
DESCRIPTION:
URL:https://adventlutheranyork.org/event/worship-service-134/
CATEGORIES:Services
END:VEVENT
BEGIN:VEVENT
DTSTART;TZID=America/New_York:20250427T094500
DTEND;TZID=America/New_York:20250427T104500
DTSTAMP:20260422T215117
CREATED:20250407T215213Z
LAST-MODIFIED:20250407T215213Z
UID:25053-1745747100-1745750700@adventlutheranyork.org
SUMMARY:Sunday School
DESCRIPTION:
URL:https://adventlutheranyork.org/event/sunday-school-52/
CATEGORIES:Christian Education,Family Ministry
END:VEVENT
BEGIN:VEVENT
DTSTART;TZID=America/New_York:20250427T093000
DTEND;TZID=America/New_York:20250427T094500
DTSTAMP:20260422T215117
CREATED:20250407T215132Z
LAST-MODIFIED:20250407T215132Z
UID:25051-1745746200-1745747100@adventlutheranyork.org
SUMMARY:Youth Choir Rehearsal
DESCRIPTION:
URL:https://adventlutheranyork.org/event/youth-choir-rehearsal-28/
CATEGORIES:Music Ministry
END:VEVENT
BEGIN:VEVENT
DTSTART;TZID=America/New_York:20250427T083000
DTEND;TZID=America/New_York:20250427T093000
DTSTAMP:20260422T215117
CREATED:20250407T215054Z
LAST-MODIFIED:20250407T215054Z
UID:25049-1745742600-1745746200@adventlutheranyork.org
SUMMARY:Worship Service
DESCRIPTION:
URL:https://adventlutheranyork.org/event/worship-service-133/
CATEGORIES:Services
END:VEVENT
BEGIN:VEVENT
DTSTART;VALUE=DATE:20250427
DTEND;VALUE=DATE:20250428
DTSTAMP:20260422T215117
CREATED:20250407T215008Z
LAST-MODIFIED:20250407T215008Z
UID:25047-1745712000-1745798399@adventlutheranyork.org
SUMMARY:Easter 2
DESCRIPTION:
URL:https://adventlutheranyork.org/event/easter-2-2/
END:VEVENT
BEGIN:VEVENT
DTSTART;TZID=America/New_York:20250425T090000
DTEND;TZID=America/New_York:20250425T100000
DTSTAMP:20260422T215117
CREATED:20250407T214934Z
LAST-MODIFIED:20250407T214934Z
UID:25045-1745571600-1745575200@adventlutheranyork.org
SUMMARY:Coffee with Pr. Brad
DESCRIPTION:
URL:https://adventlutheranyork.org/event/coffee-with-pr-brad-4/
END:VEVENT
BEGIN:VEVENT
DTSTART;TZID=America/New_York:20250423T190000
DTEND;TZID=America/New_York:20250423T203000
DTSTAMP:20260422T215117
CREATED:20250407T214848Z
LAST-MODIFIED:20250407T214848Z
UID:25043-1745434800-1745440200@adventlutheranyork.org
SUMMARY:Adult Choir Rehearsal
DESCRIPTION:
URL:https://adventlutheranyork.org/event/adult-choir-rehearsal-53/
CATEGORIES:Music Ministry
END:VEVENT
BEGIN:VEVENT
DTSTART;TZID=America/New_York:20250423T180000
DTEND;TZID=America/New_York:20250423T190000
DTSTAMP:20260422T215117
CREATED:20250407T214807Z
LAST-MODIFIED:20250407T214807Z
UID:25041-1745431200-1745434800@adventlutheranyork.org
SUMMARY:Handbell Rehearsal
DESCRIPTION:
URL:https://adventlutheranyork.org/event/handbell-rehearsal-20/
CATEGORIES:Music Ministry
END:VEVENT
BEGIN:VEVENT
DTSTART;TZID=America/New_York:20250422T140000
DTEND;TZID=America/New_York:20250422T203000
DTSTAMP:20260422T215117
CREATED:20250407T214648Z
LAST-MODIFIED:20250407T214648Z
UID:25037-1745330400-1745353800@adventlutheranyork.org
SUMMARY:Directory Photo Sessions
DESCRIPTION:
URL:https://adventlutheranyork.org/event/directory-photo-sessions-2/
END:VEVENT
BEGIN:VEVENT
DTSTART;TZID=America/New_York:20250422T110000
DTEND;TZID=America/New_York:20250422T120000
DTSTAMP:20260422T215118
CREATED:20250407T214725Z
LAST-MODIFIED:20250407T214725Z
UID:25039-1745319600-1745323200@adventlutheranyork.org
SUMMARY:Brown Baggers
DESCRIPTION:
URL:https://adventlutheranyork.org/event/brown-baggers-29/
CATEGORIES:Brown Baggers
END:VEVENT
BEGIN:VEVENT
DTSTART;TZID=America/New_York:20250421T183000
DTEND;TZID=America/New_York:20250421T203000
DTSTAMP:20260422T215118
CREATED:20250407T214539Z
LAST-MODIFIED:20250407T214539Z
UID:25035-1745260200-1745267400@adventlutheranyork.org
SUMMARY:Council Meeting
DESCRIPTION:
URL:https://adventlutheranyork.org/event/council-meeting-14/
CATEGORIES:Administration,Committee
END:VEVENT
BEGIN:VEVENT
DTSTART;TZID=America/New_York:20250421T140000
DTEND;TZID=America/New_York:20250421T203000
DTSTAMP:20260422T215118
CREATED:20250407T214350Z
LAST-MODIFIED:20250407T214350Z
UID:25031-1745244000-1745267400@adventlutheranyork.org
SUMMARY:Directory Photo Sessions
DESCRIPTION:
URL:https://adventlutheranyork.org/event/directory-photo-sessions/
END:VEVENT
BEGIN:VEVENT
DTSTART;TZID=America/New_York:20250421T090000
DTEND;TZID=America/New_York:20250421T100000
DTSTAMP:20260422T215118
CREATED:20250407T214446Z
LAST-MODIFIED:20250407T214446Z
UID:25033-1745226000-1745229600@adventlutheranyork.org
SUMMARY:Joy in the Morning
DESCRIPTION:
URL:https://adventlutheranyork.org/event/joy-in-the-morning-24/
CATEGORIES:Joy in the Morning
END:VEVENT
BEGIN:VEVENT
DTSTART;TZID=America/New_York:20250420T111500
DTEND;TZID=America/New_York:20250420T120000
DTSTAMP:20260422T215118
CREATED:20250407T214230Z
LAST-MODIFIED:20250407T214230Z
UID:25029-1745147700-1745150400@adventlutheranyork.org
SUMMARY:Contemporary Worship Service
DESCRIPTION:
URL:https://adventlutheranyork.org/event/contemporary-worship-service-26/
CATEGORIES:Holiday,Services
END:VEVENT
BEGIN:VEVENT
DTSTART;TZID=America/New_York:20250420T110000
DTEND;TZID=America/New_York:20250420T120000
DTSTAMP:20260422T215118
CREATED:20250407T214144Z
LAST-MODIFIED:20250407T214144Z
UID:25027-1745146800-1745150400@adventlutheranyork.org
SUMMARY:Worship Service
DESCRIPTION:
URL:https://adventlutheranyork.org/event/worship-service-132/
CATEGORIES:Holiday,Services
END:VEVENT
BEGIN:VEVENT
DTSTART;TZID=America/New_York:20250420T083000
DTEND;TZID=America/New_York:20250420T093000
DTSTAMP:20260422T215118
CREATED:20250407T214059Z
LAST-MODIFIED:20250407T214059Z
UID:25025-1745137800-1745141400@adventlutheranyork.org
SUMMARY:Worship Service
DESCRIPTION:
URL:https://adventlutheranyork.org/event/worship-service-131/
CATEGORIES:Holiday,Services
END:VEVENT
BEGIN:VEVENT
DTSTART;TZID=America/New_York:20250420T063000
DTEND;TZID=America/New_York:20250420T193000
DTSTAMP:20260422T215118
CREATED:20250407T214004Z
LAST-MODIFIED:20250407T214004Z
UID:25023-1745130600-1745177400@adventlutheranyork.org
SUMMARY:Easter Sunrise Service
DESCRIPTION:
URL:https://adventlutheranyork.org/event/easter-sunrise-service-2/
CATEGORIES:Holiday,Services
END:VEVENT
BEGIN:VEVENT
DTSTART;VALUE=DATE:20250420
DTEND;VALUE=DATE:20250421
DTSTAMP:20260422T215118
CREATED:20250407T213920Z
LAST-MODIFIED:20250407T213920Z
UID:25021-1745107200-1745193599@adventlutheranyork.org
SUMMARY:Easter Sunday
DESCRIPTION:
URL:https://adventlutheranyork.org/event/easter-sunday-2/
CATEGORIES:Holiday
END:VEVENT
BEGIN:VEVENT
DTSTART;TZID=America/New_York:20250419T190000
DTEND;TZID=America/New_York:20250419T200000
DTSTAMP:20260422T215118
CREATED:20250407T213824Z
LAST-MODIFIED:20250407T213824Z
UID:25019-1745089200-1745092800@adventlutheranyork.org
SUMMARY:Worship Service @ Friendly Acres
DESCRIPTION:
URL:https://adventlutheranyork.org/event/worship-service-friendly-acres/
CATEGORIES:Holiday,Services
END:VEVENT
BEGIN:VEVENT
DTSTART;VALUE=DATE:20250419
DTEND;VALUE=DATE:20250420
DTSTAMP:20260422T215118
CREATED:20250407T213742Z
LAST-MODIFIED:20250407T213742Z
UID:25017-1745020800-1745107199@adventlutheranyork.org
SUMMARY:Easter Vigil
DESCRIPTION:
URL:https://adventlutheranyork.org/event/easter-vigil-2/
CATEGORIES:Holiday,Services
END:VEVENT
BEGIN:VEVENT
DTSTART;TZID=America/New_York:20250418T190000
DTEND;TZID=America/New_York:20250418T200000
DTSTAMP:20260422T215118
CREATED:20250407T213708Z
LAST-MODIFIED:20250407T213708Z
UID:25015-1745002800-1745006400@adventlutheranyork.org
SUMMARY:Worship Service
DESCRIPTION:
URL:https://adventlutheranyork.org/event/worship-service-130/
CATEGORIES:Holiday,Services
END:VEVENT
BEGIN:VEVENT
DTSTART;TZID=America/New_York:20250418T120000
DTEND;TZID=America/New_York:20250418T130000
DTSTAMP:20260422T215118
CREATED:20250407T213623Z
LAST-MODIFIED:20250407T213623Z
UID:25013-1744977600-1744981200@adventlutheranyork.org
SUMMARY:Worship Service
DESCRIPTION:
URL:https://adventlutheranyork.org/event/worship-service-129/
CATEGORIES:Holiday,Services
END:VEVENT
BEGIN:VEVENT
DTSTART;VALUE=DATE:20250418
DTEND;VALUE=DATE:20250419
DTSTAMP:20260422T215118
CREATED:20250407T213538Z
LAST-MODIFIED:20250407T213538Z
UID:25011-1744934400-1745020799@adventlutheranyork.org
SUMMARY:Good Friday
DESCRIPTION:
URL:https://adventlutheranyork.org/event/good-friday-2/
CATEGORIES:Holiday
END:VEVENT
BEGIN:VEVENT
DTSTART;TZID=America/New_York:20250417T190000
DTEND;TZID=America/New_York:20250417T200000
DTSTAMP:20260422T215118
CREATED:20250407T213503Z
LAST-MODIFIED:20250407T213503Z
UID:25009-1744916400-1744920000@adventlutheranyork.org
SUMMARY:Worship Service
DESCRIPTION:
URL:https://adventlutheranyork.org/event/worship-service-128/
CATEGORIES:Holiday,Services
END:VEVENT
END:VCALENDAR