BEGIN:VCALENDAR
VERSION:2.0
PRODID:-//Advent Lutheran Church - ECPv6.15.20//NONSGML v1.0//EN
CALSCALE:GREGORIAN
METHOD:PUBLISH
X-WR-CALNAME:Advent Lutheran Church
X-ORIGINAL-URL:https://adventlutheranyork.org
X-WR-CALDESC:Events for Advent Lutheran Church
REFRESH-INTERVAL;VALUE=DURATION:PT1H
X-Robots-Tag:noindex
X-PUBLISHED-TTL:PT1H
BEGIN:VTIMEZONE
TZID:America/New_York
BEGIN:DAYLIGHT
TZOFFSETFROM:-0500
TZOFFSETTO:-0400
TZNAME:EDT
DTSTART:20240310T070000
END:DAYLIGHT
BEGIN:STANDARD
TZOFFSETFROM:-0400
TZOFFSETTO:-0500
TZNAME:EST
DTSTART:20241103T060000
END:STANDARD
BEGIN:DAYLIGHT
TZOFFSETFROM:-0500
TZOFFSETTO:-0400
TZNAME:EDT
DTSTART:20250309T070000
END:DAYLIGHT
BEGIN:STANDARD
TZOFFSETFROM:-0400
TZOFFSETTO:-0500
TZNAME:EST
DTSTART:20251102T060000
END:STANDARD
BEGIN:DAYLIGHT
TZOFFSETFROM:-0500
TZOFFSETTO:-0400
TZNAME:EDT
DTSTART:20260308T070000
END:DAYLIGHT
BEGIN:STANDARD
TZOFFSETFROM:-0400
TZOFFSETTO:-0500
TZNAME:EST
DTSTART:20261101T060000
END:STANDARD
END:VTIMEZONE
BEGIN:VEVENT
DTSTART;TZID=America/New_York:20250317T183000
DTEND;TZID=America/New_York:20250317T193000
DTSTAMP:20260422T224914
CREATED:20250302T154046Z
LAST-MODIFIED:20250302T154046Z
UID:24828-1742236200-1742239800@adventlutheranyork.org
SUMMARY:Council Meeting
DESCRIPTION:
URL:https://adventlutheranyork.org/event/council-meeting-13/
CATEGORIES:Administration
END:VEVENT
BEGIN:VEVENT
DTSTART;TZID=America/New_York:20250318T150000
DTEND;TZID=America/New_York:20250318T160000
DTSTAMP:20260422T224914
CREATED:20250302T154131Z
LAST-MODIFIED:20250302T154131Z
UID:24830-1742310000-1742313600@adventlutheranyork.org
SUMMARY:Community Progress Council in FH
DESCRIPTION:
URL:https://adventlutheranyork.org/event/community-progress-council-in-fh-2/
CATEGORIES:Community
END:VEVENT
BEGIN:VEVENT
DTSTART;TZID=America/New_York:20250319T180000
DTEND;TZID=America/New_York:20250319T190000
DTSTAMP:20260422T224914
CREATED:20250302T154218Z
LAST-MODIFIED:20250302T154218Z
UID:24832-1742407200-1742410800@adventlutheranyork.org
SUMMARY:Handbell Rehearsal
DESCRIPTION:
URL:https://adventlutheranyork.org/event/handbell-rehearsal-15/
CATEGORIES:Music Ministry
END:VEVENT
BEGIN:VEVENT
DTSTART;TZID=America/New_York:20250319T180000
DTEND;TZID=America/New_York:20250319T190000
DTSTAMP:20260422T224914
CREATED:20250302T154259Z
LAST-MODIFIED:20250302T154259Z
UID:24834-1742407200-1742410800@adventlutheranyork.org
SUMMARY:Lenten Supper
DESCRIPTION:
URL:https://adventlutheranyork.org/event/lenten-supper-5/
END:VEVENT
BEGIN:VEVENT
DTSTART;TZID=America/New_York:20250319T190000
DTEND;TZID=America/New_York:20250319T200000
DTSTAMP:20260422T224914
CREATED:20250302T154338Z
LAST-MODIFIED:20250302T154338Z
UID:24836-1742410800-1742414400@adventlutheranyork.org
SUMMARY:Lenten Worship Service
DESCRIPTION:
URL:https://adventlutheranyork.org/event/lenten-worship-service-2/
CATEGORIES:Services
END:VEVENT
BEGIN:VEVENT
DTSTART;TZID=America/New_York:20250319T194500
DTEND;TZID=America/New_York:20250319T210000
DTSTAMP:20260422T224914
CREATED:20250302T154423Z
LAST-MODIFIED:20250302T154423Z
UID:24838-1742413500-1742418000@adventlutheranyork.org
SUMMARY:Adult Choir Rehearsal
DESCRIPTION:
URL:https://adventlutheranyork.org/event/adult-choir-rehearsal-48/
CATEGORIES:Music Ministry
END:VEVENT
BEGIN:VEVENT
DTSTART;TZID=America/New_York:20250320T180000
DTEND;TZID=America/New_York:20250320T190000
DTSTAMP:20260422T224914
CREATED:20250302T154507Z
LAST-MODIFIED:20250302T154507Z
UID:24840-1742493600-1742497200@adventlutheranyork.org
SUMMARY:Girl Scouts
DESCRIPTION:
URL:https://adventlutheranyork.org/event/girl-scouts-9/
CATEGORIES:Community
END:VEVENT
BEGIN:VEVENT
DTSTART;TZID=America/New_York:20250320T180000
DTEND;TZID=America/New_York:20250320T190000
DTSTAMP:20260422T224914
CREATED:20250302T154556Z
LAST-MODIFIED:20250302T154556Z
UID:24842-1742493600-1742497200@adventlutheranyork.org
SUMMARY:Worship Band Rehearsal
DESCRIPTION:
URL:https://adventlutheranyork.org/event/worship-band-rehearsal-2/
CATEGORIES:Music Ministry
END:VEVENT
BEGIN:VEVENT
DTSTART;TZID=America/New_York:20250320T183000
DTEND;TZID=America/New_York:20250320T193000
DTSTAMP:20260422T224914
CREATED:20250302T154636Z
LAST-MODIFIED:20250302T154636Z
UID:24844-1742495400-1742499000@adventlutheranyork.org
SUMMARY:Worship & Music Committee Meeting
DESCRIPTION:
URL:https://adventlutheranyork.org/event/worship-music-committee-meeting-6/
END:VEVENT
BEGIN:VEVENT
DTSTART;TZID=America/New_York:20250321T100000
DTEND;TZID=America/New_York:20250321T230000
DTSTAMP:20260422T224914
CREATED:20250302T181657Z
LAST-MODIFIED:20250302T181657Z
UID:24846-1742551200-1742598000@adventlutheranyork.org
SUMMARY:Ladies Shares & Prayers
DESCRIPTION:
URL:https://adventlutheranyork.org/event/ladies-shares-prayers-4/
CATEGORIES:Ladies Shares and Prayers
END:VEVENT
BEGIN:VEVENT
DTSTART;TZID=America/New_York:20250321T180000
DTEND;TZID=America/New_York:20250322T100000
DTSTAMP:20260422T224914
CREATED:20250311T163559Z
LAST-MODIFIED:20250311T163559Z
UID:24903-1742580000-1742637600@adventlutheranyork.org
SUMMARY:Youth Group Overnight
DESCRIPTION:
URL:https://adventlutheranyork.org/event/youth-group-overnight/
CATEGORIES:Youth Ministry
END:VEVENT
BEGIN:VEVENT
DTSTART;TZID=America/New_York:20250322T083000
DTEND;TZID=America/New_York:20250322T093000
DTSTAMP:20260422T224914
CREATED:20250302T181741Z
LAST-MODIFIED:20250302T181741Z
UID:24848-1742632200-1742635800@adventlutheranyork.org
SUMMARY:YJSO Rehearsal
DESCRIPTION:
URL:https://adventlutheranyork.org/event/yjso-rehearsal-5/
CATEGORIES:Community
END:VEVENT
BEGIN:VEVENT
DTSTART;VALUE=DATE:20250323
DTEND;VALUE=DATE:20250324
DTSTAMP:20260422T224914
CREATED:20250302T182024Z
LAST-MODIFIED:20250302T182024Z
UID:24850-1742688000-1742774399@adventlutheranyork.org
SUMMARY:Lent 3
DESCRIPTION:
URL:https://adventlutheranyork.org/event/lent-3-2/
END:VEVENT
BEGIN:VEVENT
DTSTART;TZID=America/New_York:20250323T083000
DTEND;TZID=America/New_York:20250323T093000
DTSTAMP:20260422T224914
CREATED:20250302T182110Z
LAST-MODIFIED:20250302T182110Z
UID:24852-1742718600-1742722200@adventlutheranyork.org
SUMMARY:Worship Service
DESCRIPTION:
URL:https://adventlutheranyork.org/event/worship-service-120/
END:VEVENT
BEGIN:VEVENT
DTSTART;TZID=America/New_York:20250323T093000
DTEND;TZID=America/New_York:20250323T094500
DTSTAMP:20260422T224914
CREATED:20250302T182229Z
LAST-MODIFIED:20250302T182229Z
UID:24854-1742722200-1742723100@adventlutheranyork.org
SUMMARY:Youth Choir Rehearsal
DESCRIPTION:
URL:https://adventlutheranyork.org/event/youth-choir-rehearsal-24/
CATEGORIES:Music Ministry
END:VEVENT
BEGIN:VEVENT
DTSTART;TZID=America/New_York:20250323T094500
DTEND;TZID=America/New_York:20250323T104500
DTSTAMP:20260422T224914
CREATED:20250302T182601Z
LAST-MODIFIED:20250302T182601Z
UID:24856-1742723100-1742726700@adventlutheranyork.org
SUMMARY:Sunday School
DESCRIPTION:
URL:https://adventlutheranyork.org/event/sunday-school-48/
CATEGORIES:Christian Education
END:VEVENT
BEGIN:VEVENT
DTSTART;TZID=America/New_York:20250323T094500
DTEND;TZID=America/New_York:20250323T224500
DTSTAMP:20260422T224914
CREATED:20250302T182730Z
LAST-MODIFIED:20250302T182730Z
UID:24858-1742723100-1742769900@adventlutheranyork.org
SUMMARY:Outreach Committee Meeting
DESCRIPTION:
URL:https://adventlutheranyork.org/event/outreach-committee-meeting-4/
CATEGORIES:Committee
END:VEVENT
BEGIN:VEVENT
DTSTART;TZID=America/New_York:20250323T110000
DTEND;TZID=America/New_York:20250323T120000
DTSTAMP:20260422T224914
CREATED:20250302T182904Z
LAST-MODIFIED:20250302T182904Z
UID:24860-1742727600-1742731200@adventlutheranyork.org
SUMMARY:Worship Service
DESCRIPTION:
URL:https://adventlutheranyork.org/event/worship-service-121/
CATEGORIES:Services
END:VEVENT
BEGIN:VEVENT
DTSTART;TZID=America/New_York:20250323T111500
DTEND;TZID=America/New_York:20250323T120000
DTSTAMP:20260422T224914
CREATED:20250302T183130Z
LAST-MODIFIED:20250302T183147Z
UID:24862-1742728500-1742731200@adventlutheranyork.org
SUMMARY:Contemporary Worship Service
DESCRIPTION:
URL:https://adventlutheranyork.org/event/contemporary-worship-service-22/
CATEGORIES:Services
END:VEVENT
BEGIN:VEVENT
DTSTART;TZID=America/New_York:20250325T110000
DTEND;TZID=America/New_York:20250325T120000
DTSTAMP:20260422T224914
CREATED:20250302T183330Z
LAST-MODIFIED:20250302T183330Z
UID:24864-1742900400-1742904000@adventlutheranyork.org
SUMMARY:Brown Baggers
DESCRIPTION:
URL:https://adventlutheranyork.org/event/brown-baggers-27/
CATEGORIES:Brown Baggers
END:VEVENT
BEGIN:VEVENT
DTSTART;TZID=America/New_York:20250326T180000
DTEND;TZID=America/New_York:20250326T190000
DTSTAMP:20260422T224914
CREATED:20250302T183414Z
LAST-MODIFIED:20250302T183414Z
UID:24866-1743012000-1743015600@adventlutheranyork.org
SUMMARY:Handbell Rehearsal
DESCRIPTION:
URL:https://adventlutheranyork.org/event/handbell-rehearsal-16/
CATEGORIES:Music Ministry
END:VEVENT
BEGIN:VEVENT
DTSTART;TZID=America/New_York:20250326T180000
DTEND;TZID=America/New_York:20250326T190000
DTSTAMP:20260422T224914
CREATED:20250302T183604Z
LAST-MODIFIED:20250302T183604Z
UID:24868-1743012000-1743015600@adventlutheranyork.org
SUMMARY:Lenten Supper
DESCRIPTION:
URL:https://adventlutheranyork.org/event/lenten-supper-6/
END:VEVENT
BEGIN:VEVENT
DTSTART;TZID=America/New_York:20250326T190000
DTEND;TZID=America/New_York:20250326T193000
DTSTAMP:20260422T224914
CREATED:20250302T183740Z
LAST-MODIFIED:20250302T183740Z
UID:24870-1743015600-1743017400@adventlutheranyork.org
SUMMARY:Lenten Worship Service
DESCRIPTION:
URL:https://adventlutheranyork.org/event/lenten-worship-service-3/
CATEGORIES:Services
END:VEVENT
BEGIN:VEVENT
DTSTART;TZID=America/New_York:20250326T194500
DTEND;TZID=America/New_York:20250326T210000
DTSTAMP:20260422T224914
CREATED:20250302T183836Z
LAST-MODIFIED:20250302T183836Z
UID:24872-1743018300-1743022800@adventlutheranyork.org
SUMMARY:Adult Choir Rehearsal
DESCRIPTION:
URL:https://adventlutheranyork.org/event/adult-choir-rehearsal-49/
CATEGORIES:Music Ministry
END:VEVENT
BEGIN:VEVENT
DTSTART;TZID=America/New_York:20250328T090000
DTEND;TZID=America/New_York:20250328T100000
DTSTAMP:20260422T224914
CREATED:20250302T183918Z
LAST-MODIFIED:20250302T183918Z
UID:24874-1743152400-1743156000@adventlutheranyork.org
SUMMARY:Coffee with Pr. Brad
DESCRIPTION:
URL:https://adventlutheranyork.org/event/coffee-with-pr-brad-2/
END:VEVENT
BEGIN:VEVENT
DTSTART;VALUE=DATE:20250330
DTEND;VALUE=DATE:20250331
DTSTAMP:20260422T224914
CREATED:20250302T184027Z
LAST-MODIFIED:20250302T184027Z
UID:24876-1743292800-1743379199@adventlutheranyork.org
SUMMARY:Lent 4
DESCRIPTION:
URL:https://adventlutheranyork.org/event/lent-4-2/
END:VEVENT
BEGIN:VEVENT
DTSTART;TZID=America/New_York:20250330T083000
DTEND;TZID=America/New_York:20250330T093000
DTSTAMP:20260422T224914
CREATED:20250302T184133Z
LAST-MODIFIED:20250302T184133Z
UID:24878-1743323400-1743327000@adventlutheranyork.org
SUMMARY:Worship Service
DESCRIPTION:
URL:https://adventlutheranyork.org/event/worship-service-122/
END:VEVENT
BEGIN:VEVENT
DTSTART;TZID=America/New_York:20250330T093000
DTEND;TZID=America/New_York:20250330T094500
DTSTAMP:20260422T224914
CREATED:20250302T184353Z
LAST-MODIFIED:20250302T184353Z
UID:24880-1743327000-1743327900@adventlutheranyork.org
SUMMARY:Youth Choir Rehearsal
DESCRIPTION:
URL:https://adventlutheranyork.org/event/youth-choir-rehearsal-25/
CATEGORIES:Music Ministry
END:VEVENT
BEGIN:VEVENT
DTSTART;TZID=America/New_York:20250330T094500
DTEND;TZID=America/New_York:20250330T104500
DTSTAMP:20260422T224914
CREATED:20250302T184634Z
LAST-MODIFIED:20250302T184634Z
UID:24882-1743327900-1743331500@adventlutheranyork.org
SUMMARY:Sunday School
DESCRIPTION:
URL:https://adventlutheranyork.org/event/sunday-school-49/
CATEGORIES:Christian Education
END:VEVENT
BEGIN:VEVENT
DTSTART;TZID=America/New_York:20250330T094500
DTEND;TZID=America/New_York:20250330T104500
DTSTAMP:20260422T224914
CREATED:20250302T185240Z
LAST-MODIFIED:20250302T185240Z
UID:24884-1743327900-1743331500@adventlutheranyork.org
SUMMARY:Outreach Committee Meeting
DESCRIPTION:
URL:https://adventlutheranyork.org/event/outreach-committee-meeting-5/
CATEGORIES:Committee
END:VEVENT
END:VCALENDAR