BEGIN:VCALENDAR
VERSION:2.0
PRODID:-//Advent Lutheran Church - ECPv6.15.20//NONSGML v1.0//EN
CALSCALE:GREGORIAN
METHOD:PUBLISH
X-ORIGINAL-URL:https://adventlutheranyork.org
X-WR-CALDESC:Events for Advent Lutheran Church
REFRESH-INTERVAL;VALUE=DURATION:PT1H
X-Robots-Tag:noindex
X-PUBLISHED-TTL:PT1H
BEGIN:VTIMEZONE
TZID:America/New_York
BEGIN:DAYLIGHT
TZOFFSETFROM:-0500
TZOFFSETTO:-0400
TZNAME:EDT
DTSTART:20250309T070000
END:DAYLIGHT
BEGIN:STANDARD
TZOFFSETFROM:-0400
TZOFFSETTO:-0500
TZNAME:EST
DTSTART:20251102T060000
END:STANDARD
BEGIN:DAYLIGHT
TZOFFSETFROM:-0500
TZOFFSETTO:-0400
TZNAME:EDT
DTSTART:20260308T070000
END:DAYLIGHT
BEGIN:STANDARD
TZOFFSETFROM:-0400
TZOFFSETTO:-0500
TZNAME:EST
DTSTART:20261101T060000
END:STANDARD
BEGIN:DAYLIGHT
TZOFFSETFROM:-0500
TZOFFSETTO:-0400
TZNAME:EDT
DTSTART:20270314T070000
END:DAYLIGHT
BEGIN:STANDARD
TZOFFSETFROM:-0400
TZOFFSETTO:-0500
TZNAME:EST
DTSTART:20271107T060000
END:STANDARD
END:VTIMEZONE
BEGIN:VTIMEZONE
TZID:UTC
BEGIN:STANDARD
TZOFFSETFROM:+0000
TZOFFSETTO:+0000
TZNAME:UTC
DTSTART:20250101T000000
END:STANDARD
END:VTIMEZONE
BEGIN:VEVENT
DTSTART;TZID=America/New_York:20260503T111500
DTEND;TZID=America/New_York:20260503T120000
DTSTAMP:20260421T190603
CREATED:20260421T184652Z
LAST-MODIFIED:20260421T184652Z
UID:26765-1777806900-1777809600@adventlutheranyork.org
SUMMARY:Contemporary Worship Service
DESCRIPTION:
URL:https://adventlutheranyork.org/event/contemporary-worship-service-72/
CATEGORIES:Services
END:VEVENT
BEGIN:VEVENT
DTSTART;TZID=America/New_York:20260503T130000
DTEND;TZID=America/New_York:20260503T140000
DTSTAMP:20260421T190603
CREATED:20260421T184813Z
LAST-MODIFIED:20260421T184813Z
UID:26767-1777813200-1777816800@adventlutheranyork.org
SUMMARY:Staff Meeting
DESCRIPTION:
URL:https://adventlutheranyork.org/event/staff-meeting-5/
CATEGORIES:Administration
END:VEVENT
BEGIN:VEVENT
DTSTART;TZID=America/New_York:20260503T170000
DTEND;TZID=America/New_York:20260503T200000
DTSTAMP:20260421T190603
CREATED:20260421T185015Z
LAST-MODIFIED:20260421T185015Z
UID:26769-1777827600-1777838400@adventlutheranyork.org
SUMMARY:Youth Group at Friendly Acres
DESCRIPTION:
URL:https://adventlutheranyork.org/event/youth-group-at-friendly-acres/
CATEGORIES:Youth Ministry
END:VEVENT
BEGIN:VEVENT
DTSTART;TZID=America/New_York:20260504T090000
DTEND;TZID=America/New_York:20260504T100000
DTSTAMP:20260421T190603
CREATED:20260421T185144Z
LAST-MODIFIED:20260421T185144Z
UID:26771-1777885200-1777888800@adventlutheranyork.org
SUMMARY:Joy in the Morning
DESCRIPTION:
URL:https://adventlutheranyork.org/event/joy-in-the-morning-42/
CATEGORIES:Joy in the Morning
END:VEVENT
BEGIN:VEVENT
DTSTART;TZID=America/New_York:20260506T090000
DTEND;TZID=America/New_York:20260506T110000
DTSTAMP:20260421T190603
CREATED:20260421T185304Z
LAST-MODIFIED:20260421T185304Z
UID:26773-1778058000-1778065200@adventlutheranyork.org
SUMMARY:Advent Quilters
DESCRIPTION:
URL:https://adventlutheranyork.org/event/advent-quilters-59/
CATEGORIES:Advent Quilters
END:VEVENT
BEGIN:VEVENT
DTSTART;TZID=America/New_York:20260506T180000
DTEND;TZID=America/New_York:20260506T190000
DTSTAMP:20260421T190603
CREATED:20260421T185444Z
LAST-MODIFIED:20260421T185444Z
UID:26776-1778090400-1778094000@adventlutheranyork.org
SUMMARY:Handbell Rehearsal
DESCRIPTION:
URL:https://adventlutheranyork.org/event/handbell-rehearsal-30/
CATEGORIES:Music Ministry
END:VEVENT
BEGIN:VEVENT
DTSTART;TZID=America/New_York:20260506T190000
DTEND;TZID=America/New_York:20260506T203000
DTSTAMP:20260421T190603
CREATED:20260421T185600Z
LAST-MODIFIED:20260421T185600Z
UID:26778-1778094000-1778099400@adventlutheranyork.org
SUMMARY:Adult Choir Rehearsal
DESCRIPTION:
URL:https://adventlutheranyork.org/event/adult-choir-rehearsal-88/
CATEGORIES:Music Ministry
END:VEVENT
BEGIN:VEVENT
DTSTART;TZID=UTC:20261114T160000
DTEND;TZID=UTC:20261114T210000
DTSTAMP:20260421T190603
CREATED:20250925T164500Z
LAST-MODIFIED:20250925T164500Z
UID:25719-1794672000-1794690000@adventlutheranyork.org
SUMMARY:100th Anniversary Formal Banquet
DESCRIPTION:
URL:https://adventlutheranyork.org/event/100th-anniversary-formal-banquet/
LOCATION:Advent Lutheran Church\, 1775 East Market Street\, York\, PA\, 17402\, United States
CATEGORIES:Services
END:VEVENT
BEGIN:VEVENT
DTSTART;TZID=UTC:20261115T100000
DTEND;TZID=UTC:20261115T113000
DTSTAMP:20260421T190603
CREATED:20250925T170239Z
LAST-MODIFIED:20250925T170508Z
UID:25725-1794736800-1794742200@adventlutheranyork.org
SUMMARY:100th Anniversary Formal Service
DESCRIPTION:
URL:https://adventlutheranyork.org/event/100th-anniversary-formal-service/
LOCATION:Advent Lutheran Church\, 1775 East Market Street\, York\, PA\, 17402\, United States
CATEGORIES:Services
END:VEVENT
END:VCALENDAR