BEGIN:VCALENDAR
VERSION:2.0
PRODID:-//Advent Lutheran Church - ECPv6.15.20//NONSGML v1.0//EN
CALSCALE:GREGORIAN
METHOD:PUBLISH
X-WR-CALNAME:Advent Lutheran Church
X-ORIGINAL-URL:https://adventlutheranyork.org
X-WR-CALDESC:Events for Advent Lutheran Church
REFRESH-INTERVAL;VALUE=DURATION:PT1H
X-Robots-Tag:noindex
X-PUBLISHED-TTL:PT1H
BEGIN:VTIMEZONE
TZID:America/New_York
BEGIN:DAYLIGHT
TZOFFSETFROM:-0500
TZOFFSETTO:-0400
TZNAME:EDT
DTSTART:20240310T070000
END:DAYLIGHT
BEGIN:STANDARD
TZOFFSETFROM:-0400
TZOFFSETTO:-0500
TZNAME:EST
DTSTART:20241103T060000
END:STANDARD
BEGIN:DAYLIGHT
TZOFFSETFROM:-0500
TZOFFSETTO:-0400
TZNAME:EDT
DTSTART:20250309T070000
END:DAYLIGHT
BEGIN:STANDARD
TZOFFSETFROM:-0400
TZOFFSETTO:-0500
TZNAME:EST
DTSTART:20251102T060000
END:STANDARD
BEGIN:DAYLIGHT
TZOFFSETFROM:-0500
TZOFFSETTO:-0400
TZNAME:EDT
DTSTART:20260308T070000
END:DAYLIGHT
BEGIN:STANDARD
TZOFFSETFROM:-0400
TZOFFSETTO:-0500
TZNAME:EST
DTSTART:20261101T060000
END:STANDARD
END:VTIMEZONE
BEGIN:VEVENT
DTSTART;TZID=America/New_York:20250129T180000
DTEND;TZID=America/New_York:20250129T190000
DTSTAMP:20260423T002822
CREATED:20250101T002859Z
LAST-MODIFIED:20250101T002859Z
UID:24593-1738173600-1738177200@adventlutheranyork.org
SUMMARY:Handbell Rehearsal
DESCRIPTION:
URL:https://adventlutheranyork.org/event/handbell-rehearsal-9/
CATEGORIES:Music Ministry
END:VEVENT
BEGIN:VEVENT
DTSTART;TZID=America/New_York:20250129T110000
DTEND;TZID=America/New_York:20250129T120000
DTSTAMP:20260423T002822
CREATED:20250101T002959Z
LAST-MODIFIED:20250101T002959Z
UID:24595-1738148400-1738152000@adventlutheranyork.org
SUMMARY:Adult Choir Rehearsal
DESCRIPTION:
URL:https://adventlutheranyork.org/event/adult-choir-rehearsal-42/
CATEGORIES:Music Ministry
END:VEVENT
BEGIN:VEVENT
DTSTART;TZID=America/New_York:20250128T110000
DTEND;TZID=America/New_York:20250128T120000
DTSTAMP:20260423T002822
CREATED:20250101T002732Z
LAST-MODIFIED:20250101T002732Z
UID:24591-1738062000-1738065600@adventlutheranyork.org
SUMMARY:Brown Baggers
DESCRIPTION:
URL:https://adventlutheranyork.org/event/brown-baggers-23/
CATEGORIES:Brown Baggers
END:VEVENT
BEGIN:VEVENT
DTSTART;TZID=America/New_York:20250126T111200
DTEND;TZID=America/New_York:20250126T120000
DTSTAMP:20260423T002822
CREATED:20250101T002703Z
LAST-MODIFIED:20250101T002703Z
UID:24589-1737889920-1737892800@adventlutheranyork.org
SUMMARY:Contemporary Worship Service
DESCRIPTION:
URL:https://adventlutheranyork.org/event/contemporary-worship-service-14/
CATEGORIES:Services
END:VEVENT
BEGIN:VEVENT
DTSTART;TZID=America/New_York:20250126T110000
DTEND;TZID=America/New_York:20250126T120000
DTSTAMP:20260423T002822
CREATED:20250101T002538Z
LAST-MODIFIED:20250101T002538Z
UID:24587-1737889200-1737892800@adventlutheranyork.org
SUMMARY:Worship Service
DESCRIPTION:
URL:https://adventlutheranyork.org/event/worship-service-103/
CATEGORIES:Services
END:VEVENT
BEGIN:VEVENT
DTSTART;TZID=America/New_York:20250126T094500
DTEND;TZID=America/New_York:20250126T104500
DTSTAMP:20260423T002822
CREATED:20250101T002511Z
LAST-MODIFIED:20250101T002511Z
UID:24585-1737884700-1737888300@adventlutheranyork.org
SUMMARY:Sunday School
DESCRIPTION:
URL:https://adventlutheranyork.org/event/sunday-school-40/
CATEGORIES:Christian Education
END:VEVENT
BEGIN:VEVENT
DTSTART;TZID=America/New_York:20250126T083000
DTEND;TZID=America/New_York:20250126T093000
DTSTAMP:20260423T002822
CREATED:20250101T002430Z
LAST-MODIFIED:20250101T002430Z
UID:24583-1737880200-1737883800@adventlutheranyork.org
SUMMARY:Worship Service
DESCRIPTION:
URL:https://adventlutheranyork.org/event/worship-service-102/
CATEGORIES:Services
END:VEVENT
BEGIN:VEVENT
DTSTART;VALUE=DATE:20250126
DTEND;VALUE=DATE:20250127
DTSTAMP:20260423T002822
CREATED:20250101T002355Z
LAST-MODIFIED:20250101T002355Z
UID:24581-1737849600-1737935999@adventlutheranyork.org
SUMMARY:Epiphany 3
DESCRIPTION:
URL:https://adventlutheranyork.org/event/epiphany-3-2/
END:VEVENT
BEGIN:VEVENT
DTSTART;TZID=America/New_York:20250125T083000
DTEND;TZID=America/New_York:20250125T103000
DTSTAMP:20260423T002822
CREATED:20250101T002323Z
LAST-MODIFIED:20250101T002323Z
UID:24579-1737793800-1737801000@adventlutheranyork.org
SUMMARY:YJSO
DESCRIPTION:
URL:https://adventlutheranyork.org/event/yjso-3/
CATEGORIES:Community
END:VEVENT
BEGIN:VEVENT
DTSTART;TZID=America/New_York:20250124T173000
DTEND;TZID=America/New_York:20250124T183000
DTSTAMP:20260423T002822
CREATED:20250101T002254Z
LAST-MODIFIED:20250101T002254Z
UID:24577-1737739800-1737743400@adventlutheranyork.org
SUMMARY:Community of Hope Event
DESCRIPTION:
URL:https://adventlutheranyork.org/event/community-of-hope-event/
CATEGORIES:Community
END:VEVENT
BEGIN:VEVENT
DTSTART;TZID=America/New_York:20250122T190000
DTEND;TZID=America/New_York:20250122T203000
DTSTAMP:20260423T002822
CREATED:20250101T002211Z
LAST-MODIFIED:20250101T002211Z
UID:24575-1737572400-1737577800@adventlutheranyork.org
SUMMARY:Adult Choir Rehearsal
DESCRIPTION:
URL:https://adventlutheranyork.org/event/adult-choir-rehearsal-41/
CATEGORIES:Music Ministry
END:VEVENT
BEGIN:VEVENT
DTSTART;TZID=America/New_York:20250122T180000
DTEND;TZID=America/New_York:20250122T190000
DTSTAMP:20260423T002822
CREATED:20250101T002141Z
LAST-MODIFIED:20250101T002141Z
UID:24573-1737568800-1737572400@adventlutheranyork.org
SUMMARY:Handbell Rehearsal
DESCRIPTION:
URL:https://adventlutheranyork.org/event/handbell-rehearsal-8/
CATEGORIES:Music Ministry
END:VEVENT
BEGIN:VEVENT
DTSTART;TZID=America/New_York:20250120T183000
DTEND;TZID=America/New_York:20250120T193000
DTSTAMP:20260423T002822
CREATED:20241231T235602Z
LAST-MODIFIED:20241231T235602Z
UID:24571-1737397800-1737401400@adventlutheranyork.org
SUMMARY:Council Meeting
DESCRIPTION:
URL:https://adventlutheranyork.org/event/council-meeting-11/
CATEGORIES:Administration
END:VEVENT
BEGIN:VEVENT
DTSTART;TZID=America/New_York:20250120T090000
DTEND;TZID=America/New_York:20250120T100000
DTSTAMP:20260423T002822
CREATED:20241231T235524Z
LAST-MODIFIED:20241231T235524Z
UID:24569-1737363600-1737367200@adventlutheranyork.org
SUMMARY:Joy in the Morning
DESCRIPTION:
URL:https://adventlutheranyork.org/event/joy-in-the-morning-18/
CATEGORIES:Joy in the Morning
END:VEVENT
BEGIN:VEVENT
DTSTART;TZID=America/New_York:20250119T160000
DTEND;TZID=America/New_York:20250119T170000
DTSTAMP:20260423T002822
CREATED:20241231T235438Z
LAST-MODIFIED:20241231T235438Z
UID:24567-1737302400-1737306000@adventlutheranyork.org
SUMMARY:Prayers & Stitches
DESCRIPTION:
URL:https://adventlutheranyork.org/event/prayers-stitches-2/
CATEGORIES:Prayers and Stitches
END:VEVENT
BEGIN:VEVENT
DTSTART;TZID=America/New_York:20250119T110000
DTEND;TZID=America/New_York:20250119T120000
DTSTAMP:20260423T002822
CREATED:20241231T235411Z
LAST-MODIFIED:20241231T235411Z
UID:24564-1737284400-1737288000@adventlutheranyork.org
SUMMARY:Congregational Meeting
DESCRIPTION:
URL:https://adventlutheranyork.org/event/congregational-meeting/
CATEGORIES:Administration
END:VEVENT
BEGIN:VEVENT
DTSTART;TZID=America/New_York:20250119T100000
DTEND;TZID=America/New_York:20250119T110000
DTSTAMP:20260423T002822
CREATED:20241231T235325Z
LAST-MODIFIED:20241231T235325Z
UID:24560-1737280800-1737284400@adventlutheranyork.org
SUMMARY:Combined Worship Service
DESCRIPTION:
URL:https://adventlutheranyork.org/event/combined-worship-service-4/
CATEGORIES:Services
END:VEVENT
BEGIN:VEVENT
DTSTART;TZID=America/New_York:20250119T090000
DTEND;TZID=America/New_York:20250119T100000
DTSTAMP:20260423T002822
CREATED:20241231T235232Z
LAST-MODIFIED:20241231T235232Z
UID:24558-1737277200-1737280800@adventlutheranyork.org
SUMMARY:Sunday School
DESCRIPTION:
URL:https://adventlutheranyork.org/event/sunday-school-39/
CATEGORIES:Christian Education
END:VEVENT
BEGIN:VEVENT
DTSTART;VALUE=DATE:20250119
DTEND;VALUE=DATE:20250120
DTSTAMP:20260423T002822
CREATED:20241231T235342Z
LAST-MODIFIED:20241231T235342Z
UID:24562-1737244800-1737331199@adventlutheranyork.org
SUMMARY:Youth Sunday
DESCRIPTION:
URL:https://adventlutheranyork.org/event/youth-sunday/
END:VEVENT
BEGIN:VEVENT
DTSTART;TZID=America/New_York:20250117T100000
DTEND;TZID=America/New_York:20250117T110000
DTSTAMP:20260423T002822
CREATED:20241231T235150Z
LAST-MODIFIED:20241231T235150Z
UID:24556-1737108000-1737111600@adventlutheranyork.org
SUMMARY:Ladies Shares & Prayers
DESCRIPTION:
URL:https://adventlutheranyork.org/event/ladies-shares-prayers-3/
CATEGORIES:Ladies Shares and Prayers
END:VEVENT
BEGIN:VEVENT
DTSTART;TZID=America/New_York:20250116T180000
DTEND;TZID=America/New_York:20250116T190000
DTSTAMP:20260423T002822
CREATED:20241231T235109Z
LAST-MODIFIED:20241231T235109Z
UID:24554-1737050400-1737054000@adventlutheranyork.org
SUMMARY:Girl Scouts
DESCRIPTION:
URL:https://adventlutheranyork.org/event/girl-scouts-5/
CATEGORIES:Community
END:VEVENT
BEGIN:VEVENT
DTSTART;TZID=America/New_York:20250115T190000
DTEND;TZID=America/New_York:20250115T203000
DTSTAMP:20260423T002822
CREATED:20241231T234949Z
LAST-MODIFIED:20241231T234949Z
UID:24550-1736967600-1736973000@adventlutheranyork.org
SUMMARY:Adult Choir Rehearsal
DESCRIPTION:
URL:https://adventlutheranyork.org/event/adult-choir-rehearsal-40/
CATEGORIES:Music Ministry
END:VEVENT
BEGIN:VEVENT
DTSTART;TZID=America/New_York:20250115T190000
DTEND;TZID=America/New_York:20250115T200000
DTSTAMP:20260423T002822
CREATED:20241231T235034Z
LAST-MODIFIED:20241231T235034Z
UID:24552-1736967600-1736971200@adventlutheranyork.org
SUMMARY:Stewardship Committee Meeting
DESCRIPTION:
URL:https://adventlutheranyork.org/event/stewardship-committee-meeting-7/
CATEGORIES:Committee
END:VEVENT
BEGIN:VEVENT
DTSTART;TZID=America/New_York:20250115T180000
DTEND;TZID=America/New_York:20250115T190000
DTSTAMP:20260423T002822
CREATED:20241231T234916Z
LAST-MODIFIED:20241231T234916Z
UID:24548-1736964000-1736967600@adventlutheranyork.org
SUMMARY:Handbell Rehearsal
DESCRIPTION:
URL:https://adventlutheranyork.org/event/handbell-rehearsal-7/
CATEGORIES:Music Ministry
END:VEVENT
BEGIN:VEVENT
DTSTART;TZID=America/New_York:20250114T183000
DTEND;TZID=America/New_York:20250114T193000
DTSTAMP:20260423T002822
CREATED:20241231T234820Z
LAST-MODIFIED:20241231T234820Z
UID:24546-1736879400-1736883000@adventlutheranyork.org
SUMMARY:Advent Book Club
DESCRIPTION:
URL:https://adventlutheranyork.org/event/advent-book-club-23/
CATEGORIES:Advent Book Club
END:VEVENT
BEGIN:VEVENT
DTSTART;TZID=America/New_York:20250114T130000
DTEND;TZID=America/New_York:20250114T140000
DTSTAMP:20260423T002822
CREATED:20241231T234741Z
LAST-MODIFIED:20241231T234741Z
UID:24544-1736859600-1736863200@adventlutheranyork.org
SUMMARY:Advent Book Club
DESCRIPTION:
URL:https://adventlutheranyork.org/event/advent-book-club-22/
CATEGORIES:Advent Book Club
END:VEVENT
BEGIN:VEVENT
DTSTART;TZID=America/New_York:20250114T110000
DTEND;TZID=America/New_York:20250114T120000
DTSTAMP:20260423T002822
CREATED:20241231T234710Z
LAST-MODIFIED:20241231T234710Z
UID:24542-1736852400-1736856000@adventlutheranyork.org
SUMMARY:Brown Baggers
DESCRIPTION:
URL:https://adventlutheranyork.org/event/brown-baggers-22/
CATEGORIES:Brown Baggers
END:VEVENT
BEGIN:VEVENT
DTSTART;TZID=America/New_York:20250114T074500
DTEND;TZID=America/New_York:20250114T084500
DTSTAMP:20260423T002822
CREATED:20241231T234633Z
LAST-MODIFIED:20241231T234633Z
UID:24540-1736840700-1736844300@adventlutheranyork.org
SUMMARY:Good News & Brews
DESCRIPTION:
URL:https://adventlutheranyork.org/event/good-news-brews-2/
END:VEVENT
BEGIN:VEVENT
DTSTART;TZID=America/New_York:20250113T180000
DTEND;TZID=America/New_York:20250113T190000
DTSTAMP:20260423T002822
CREATED:20241231T234551Z
LAST-MODIFIED:20241231T234551Z
UID:24538-1736791200-1736794800@adventlutheranyork.org
SUMMARY:Advent Quilters
DESCRIPTION:
URL:https://adventlutheranyork.org/event/advent-quilters-28/
CATEGORIES:Advent Quilters
END:VEVENT
BEGIN:VEVENT
DTSTART;TZID=America/New_York:20250113T180000
DTEND;TZID=America/New_York:20250113T190000
DTSTAMP:20260423T002822
CREATED:20241231T234506Z
LAST-MODIFIED:20241231T234506Z
UID:24536-1736791200-1736794800@adventlutheranyork.org
SUMMARY:Cancer Support Group
DESCRIPTION:
URL:https://adventlutheranyork.org/event/cancer-support-group-5/
CATEGORIES:Cancer Support
END:VEVENT
END:VCALENDAR