BEGIN:VCALENDAR
VERSION:2.0
PRODID:-//Advent Lutheran Church - ECPv6.15.20//NONSGML v1.0//EN
CALSCALE:GREGORIAN
METHOD:PUBLISH
X-WR-CALNAME:Advent Lutheran Church
X-ORIGINAL-URL:https://adventlutheranyork.org
X-WR-CALDESC:Events for Advent Lutheran Church
REFRESH-INTERVAL;VALUE=DURATION:PT1H
X-Robots-Tag:noindex
X-PUBLISHED-TTL:PT1H
BEGIN:VTIMEZONE
TZID:America/New_York
BEGIN:DAYLIGHT
TZOFFSETFROM:-0500
TZOFFSETTO:-0400
TZNAME:EDT
DTSTART:20230312T070000
END:DAYLIGHT
BEGIN:STANDARD
TZOFFSETFROM:-0400
TZOFFSETTO:-0500
TZNAME:EST
DTSTART:20231105T060000
END:STANDARD
BEGIN:DAYLIGHT
TZOFFSETFROM:-0500
TZOFFSETTO:-0400
TZNAME:EDT
DTSTART:20240310T070000
END:DAYLIGHT
BEGIN:STANDARD
TZOFFSETFROM:-0400
TZOFFSETTO:-0500
TZNAME:EST
DTSTART:20241103T060000
END:STANDARD
BEGIN:DAYLIGHT
TZOFFSETFROM:-0500
TZOFFSETTO:-0400
TZNAME:EDT
DTSTART:20250309T070000
END:DAYLIGHT
BEGIN:STANDARD
TZOFFSETFROM:-0400
TZOFFSETTO:-0500
TZNAME:EST
DTSTART:20251102T060000
END:STANDARD
BEGIN:DAYLIGHT
TZOFFSETFROM:-0500
TZOFFSETTO:-0400
TZNAME:EDT
DTSTART:20260308T070000
END:DAYLIGHT
BEGIN:STANDARD
TZOFFSETFROM:-0400
TZOFFSETTO:-0500
TZNAME:EST
DTSTART:20261101T060000
END:STANDARD
END:VTIMEZONE
BEGIN:VEVENT
DTSTART;TZID=America/New_York:20250111T140000
DTEND;TZID=America/New_York:20250111T150000
DTSTAMP:20260423T074521
CREATED:20241231T125809Z
LAST-MODIFIED:20241231T125809Z
UID:24516-1736604000-1736607600@adventlutheranyork.org
SUMMARY:Pr. Brad's Installation Service
DESCRIPTION:
URL:https://adventlutheranyork.org/event/pr-brads-installation-service/
CATEGORIES:Services
END:VEVENT
BEGIN:VEVENT
DTSTART;TZID=America/New_York:20250111T083000
DTEND;TZID=America/New_York:20250111T093000
DTSTAMP:20260423T074521
CREATED:20241231T125717Z
LAST-MODIFIED:20241231T125717Z
UID:24514-1736584200-1736587800@adventlutheranyork.org
SUMMARY:YJSO
DESCRIPTION:
URL:https://adventlutheranyork.org/event/yjso-2/
CATEGORIES:Community
END:VEVENT
BEGIN:VEVENT
DTSTART;TZID=America/New_York:20250111T080000
DTEND;TZID=America/New_York:20250111T090000
DTSTAMP:20260423T074521
CREATED:20241231T125636Z
LAST-MODIFIED:20241231T125636Z
UID:24512-1736582400-1736586000@adventlutheranyork.org
SUMMARY:Men's Bible Study
DESCRIPTION:
URL:https://adventlutheranyork.org/event/mens-bible-study-10/
CATEGORIES:Christian Education
END:VEVENT
BEGIN:VEVENT
DTSTART;TZID=America/New_York:20250110T180000
DTEND;TZID=America/New_York:20250110T190000
DTSTAMP:20260423T074521
CREATED:20241231T125533Z
LAST-MODIFIED:20241231T125533Z
UID:24510-1736532000-1736535600@adventlutheranyork.org
SUMMARY:Young Adventurers Movie Night
DESCRIPTION:
URL:https://adventlutheranyork.org/event/young-adventurers-movie-night/
CATEGORIES:Youth Ministry
END:VEVENT
BEGIN:VEVENT
DTSTART;TZID=America/New_York:20250109T190000
DTEND;TZID=America/New_York:20250109T200000
DTSTAMP:20260423T074521
CREATED:20241231T025212Z
LAST-MODIFIED:20241231T025212Z
UID:24508-1736449200-1736452800@adventlutheranyork.org
SUMMARY:Finance Committee Meeting
DESCRIPTION:
URL:https://adventlutheranyork.org/event/finance-committee-meeting-5/
CATEGORIES:Committee
END:VEVENT
BEGIN:VEVENT
DTSTART;TZID=America/New_York:20250109T183000
DTEND;TZID=America/New_York:20250109T193000
DTSTAMP:20260423T074521
CREATED:20241231T024600Z
LAST-MODIFIED:20241231T024600Z
UID:24506-1736447400-1736451000@adventlutheranyork.org
SUMMARY:Property Committee
DESCRIPTION:
URL:https://adventlutheranyork.org/event/property-committee/
END:VEVENT
BEGIN:VEVENT
DTSTART;TZID=America/New_York:20250109T113000
DTEND;TZID=America/New_York:20250109T123000
DTSTAMP:20260423T074521
CREATED:20241231T023703Z
LAST-MODIFIED:20241231T023703Z
UID:24504-1736422200-1736425800@adventlutheranyork.org
SUMMARY:Leisure Lunch @ Round the Clock
DESCRIPTION:
URL:https://adventlutheranyork.org/event/leisure-lunch-round-the-clock/
CATEGORIES:Leisure Group
END:VEVENT
BEGIN:VEVENT
DTSTART;TZID=America/New_York:20250108T190000
DTEND;TZID=America/New_York:20250108T203000
DTSTAMP:20260423T074521
CREATED:20241231T023421Z
LAST-MODIFIED:20241231T023421Z
UID:24502-1736362800-1736368200@adventlutheranyork.org
SUMMARY:Adult Choir Rehearsal
DESCRIPTION:
URL:https://adventlutheranyork.org/event/adult-choir-rehearsal-39/
CATEGORIES:Music Ministry
END:VEVENT
BEGIN:VEVENT
DTSTART;TZID=America/New_York:20250108T180000
DTEND;TZID=America/New_York:20250108T190000
DTSTAMP:20260423T074521
CREATED:20241231T023108Z
LAST-MODIFIED:20241231T023108Z
UID:24500-1736359200-1736362800@adventlutheranyork.org
SUMMARY:Handbell Rehearsal
DESCRIPTION:
URL:https://adventlutheranyork.org/event/handbell-rehearsal-6/
LOCATION:Advent Lutheran Church\, 1775 East Market Street\, York\, PA\, 17402\, United States
CATEGORIES:Music Ministry
END:VEVENT
BEGIN:VEVENT
DTSTART;TZID=America/New_York:20250108T090000
DTEND;TZID=America/New_York:20250108T100000
DTSTAMP:20260423T074521
CREATED:20241231T022730Z
LAST-MODIFIED:20241231T022730Z
UID:24498-1736326800-1736330400@adventlutheranyork.org
SUMMARY:Advent Quilters
DESCRIPTION:
URL:https://adventlutheranyork.org/event/advent-quilters-27/
LOCATION:Advent Lutheran Church\, 1775 East Market Street\, York\, PA\, 17402\, United States
CATEGORIES:Advent Quilters
END:VEVENT
BEGIN:VEVENT
DTSTART;TZID=America/New_York:20250106T090000
DTEND;TZID=America/New_York:20250106T100000
DTSTAMP:20260423T074521
CREATED:20241231T022600Z
LAST-MODIFIED:20241231T022600Z
UID:24496-1736154000-1736157600@adventlutheranyork.org
SUMMARY:Joy in the Morning
DESCRIPTION:
URL:https://adventlutheranyork.org/event/joy-in-the-morning-17/
LOCATION:Advent Lutheran Church\, 1775 East Market Street\, York\, PA\, 17402\, United States
CATEGORIES:Joy in the Morning
END:VEVENT
BEGIN:VEVENT
DTSTART;TZID=America/New_York:20250105T111500
DTEND;TZID=America/New_York:20250105T120000
DTSTAMP:20260423T074521
CREATED:20241231T022409Z
LAST-MODIFIED:20241231T022409Z
UID:24494-1736075700-1736078400@adventlutheranyork.org
SUMMARY:Contemporary Worship Service
DESCRIPTION:
URL:https://adventlutheranyork.org/event/contemporary-worship-service-12/
LOCATION:Advent Lutheran Church\, 1775 East Market Street\, York\, PA\, 17402\, United States
CATEGORIES:Services
END:VEVENT
BEGIN:VEVENT
DTSTART;TZID=America/New_York:20250105T110000
DTEND;TZID=America/New_York:20250105T120000
DTSTAMP:20260423T074521
CREATED:20241231T022238Z
LAST-MODIFIED:20241231T022238Z
UID:24492-1736074800-1736078400@adventlutheranyork.org
SUMMARY:Worship Service
DESCRIPTION:
URL:https://adventlutheranyork.org/event/worship-service-99/
LOCATION:Advent Lutheran Church\, 1775 East Market Street\, York\, PA\, 17402\, United States
CATEGORIES:Services
END:VEVENT
BEGIN:VEVENT
DTSTART;TZID=America/New_York:20250105T094500
DTEND;TZID=America/New_York:20250105T104500
DTSTAMP:20260423T074521
CREATED:20241231T021932Z
LAST-MODIFIED:20241231T021932Z
UID:24490-1736070300-1736073900@adventlutheranyork.org
SUMMARY:Sunday School
DESCRIPTION:
URL:https://adventlutheranyork.org/event/sunday-school-37/
LOCATION:Advent Lutheran Church\, 1775 East Market Street\, York\, PA\, 17402\, United States
CATEGORIES:Christian Education
END:VEVENT
BEGIN:VEVENT
DTSTART;TZID=America/New_York:20250105T093000
DTEND;TZID=America/New_York:20250105T094500
DTSTAMP:20260423T074521
CREATED:20241231T021439Z
LAST-MODIFIED:20241231T021439Z
UID:24488-1736069400-1736070300@adventlutheranyork.org
SUMMARY:Youth Choir Rehearsal
DESCRIPTION:
URL:https://adventlutheranyork.org/event/youth-choir-rehearsal-17/
LOCATION:Advent Lutheran Church\, 1775 East Market Street\, York\, PA\, 17402\, United States
CATEGORIES:Music Ministry
END:VEVENT
BEGIN:VEVENT
DTSTART;TZID=America/New_York:20250105T083000
DTEND;TZID=America/New_York:20250105T093000
DTSTAMP:20260423T074521
CREATED:20241231T021154Z
LAST-MODIFIED:20241231T021154Z
UID:24486-1736065800-1736069400@adventlutheranyork.org
SUMMARY:Worship Service
DESCRIPTION:
URL:https://adventlutheranyork.org/event/worship-service-98/
LOCATION:Advent Lutheran Church\, 1775 East Market Street\, York\, PA\, 17402\, United States
CATEGORIES:Services
END:VEVENT
BEGIN:VEVENT
DTSTART;VALUE=DATE:20250105
DTEND;VALUE=DATE:20250106
DTSTAMP:20260423T074521
CREATED:20241231T021017Z
LAST-MODIFIED:20241231T021017Z
UID:24484-1736035200-1736121599@adventlutheranyork.org
SUMMARY:Christmas 2
DESCRIPTION:
URL:https://adventlutheranyork.org/event/christmas-2/
END:VEVENT
BEGIN:VEVENT
DTSTART;TZID=America/New_York:20250104T083000
DTEND;TZID=America/New_York:20250104T103000
DTSTAMP:20260423T074521
CREATED:20241231T020757Z
LAST-MODIFIED:20241231T020757Z
UID:24482-1735979400-1735986600@adventlutheranyork.org
SUMMARY:YJSO
DESCRIPTION:
URL:https://adventlutheranyork.org/event/yjso/
LOCATION:Advent Lutheran Church\, 1775 East Market Street\, York\, PA\, 17402\, United States
CATEGORIES:Community
END:VEVENT
BEGIN:VEVENT
DTSTART;VALUE=DATE:20250103
DTEND;VALUE=DATE:20250104
DTSTAMP:20260423T074521
CREATED:20241231T020641Z
LAST-MODIFIED:20241231T020641Z
UID:24480-1735862400-1735948799@adventlutheranyork.org
SUMMARY:Senior High Youth Group Winterfest
DESCRIPTION:
URL:https://adventlutheranyork.org/event/senior-high-youth-group-winterfest/
CATEGORIES:Youth Ministry
END:VEVENT
BEGIN:VEVENT
DTSTART;TZID=America/New_York:20250102T180000
DTEND;TZID=America/New_York:20250102T190000
DTSTAMP:20260423T074521
CREATED:20241231T020141Z
LAST-MODIFIED:20241231T020141Z
UID:24478-1735840800-1735844400@adventlutheranyork.org
SUMMARY:Girl Scouts
DESCRIPTION:
URL:https://adventlutheranyork.org/event/girl-scouts-4/
LOCATION:Advent Lutheran Church\, 1775 East Market Street\, York\, PA\, 17402\, United States
CATEGORIES:Community
END:VEVENT
BEGIN:VEVENT
DTSTART;VALUE=DATE:20250101
DTEND;VALUE=DATE:20250102
DTSTAMP:20260423T074521
CREATED:20241231T020015Z
LAST-MODIFIED:20241231T020015Z
UID:24476-1735689600-1735775999@adventlutheranyork.org
SUMMARY:Office Closed for New Years Day
DESCRIPTION:
URL:https://adventlutheranyork.org/event/office-closed-for-new-years-day/
CATEGORIES:Administration
END:VEVENT
BEGIN:VEVENT
DTSTART;TZID=America/New_York:20241231T120000
DTEND;TZID=America/New_York:20241231T120000
DTSTAMP:20260423T074521
CREATED:20241216T185147Z
LAST-MODIFIED:20241216T185147Z
UID:24468-1735646400-1735646400@adventlutheranyork.org
SUMMARY:Office Closes
DESCRIPTION:
URL:https://adventlutheranyork.org/event/office-closes-2/
CATEGORIES:Administration
END:VEVENT
BEGIN:VEVENT
DTSTART;TZID=America/New_York:20241229T100000
DTEND;TZID=America/New_York:20241229T110000
DTSTAMP:20260423T074521
CREATED:20241216T185119Z
LAST-MODIFIED:20241216T185119Z
UID:24466-1735466400-1735470000@adventlutheranyork.org
SUMMARY:Worship Service
DESCRIPTION:
URL:https://adventlutheranyork.org/event/worship-service-97/
LOCATION:Advent Lutheran Church\, 1775 East Market Street\, York\, PA\, 17402\, United States
CATEGORIES:Services
END:VEVENT
BEGIN:VEVENT
DTSTART;TZID=America/New_York:20241229T090000
DTEND;TZID=America/New_York:20241229T100000
DTSTAMP:20260423T074521
CREATED:20241216T185042Z
LAST-MODIFIED:20241216T185042Z
UID:24464-1735462800-1735466400@adventlutheranyork.org
SUMMARY:Sunday School
DESCRIPTION:
URL:https://adventlutheranyork.org/event/sunday-school-36/
LOCATION:Advent Lutheran Church\, 1775 East Market Street\, York\, PA\, 17402\, United States
CATEGORIES:Christian Education
END:VEVENT
BEGIN:VEVENT
DTSTART;VALUE=DATE:20241229
DTEND;VALUE=DATE:20241230
DTSTAMP:20260423T074521
CREATED:20241216T185006Z
LAST-MODIFIED:20241216T185006Z
UID:24462-1735430400-1735516799@adventlutheranyork.org
SUMMARY:Christmas 1
DESCRIPTION:
URL:https://adventlutheranyork.org/event/christmas-1-2/
END:VEVENT
BEGIN:VEVENT
DTSTART;VALUE=DATE:20241226
DTEND;VALUE=DATE:20241227
DTSTAMP:20260423T074521
CREATED:20241216T184939Z
LAST-MODIFIED:20241216T184939Z
UID:24460-1735171200-1735257599@adventlutheranyork.org
SUMMARY:Office Closed
DESCRIPTION:
URL:https://adventlutheranyork.org/event/office-closed-3/
CATEGORIES:Administration
END:VEVENT
BEGIN:VEVENT
DTSTART;VALUE=DATE:20241225
DTEND;VALUE=DATE:20241226
DTSTAMP:20260423T074521
CREATED:20241216T184914Z
LAST-MODIFIED:20241216T184914Z
UID:24458-1735084800-1735171199@adventlutheranyork.org
SUMMARY:Church Office Closed
DESCRIPTION:
URL:https://adventlutheranyork.org/event/church-office-closed-3/
CATEGORIES:Holiday,Services
END:VEVENT
BEGIN:VEVENT
DTSTART;TZID=America/New_York:20241224T200000
DTEND;TZID=America/New_York:20241224T210000
DTSTAMP:20260423T074521
CREATED:20241216T184803Z
LAST-MODIFIED:20241216T184803Z
UID:24454-1735070400-1735074000@adventlutheranyork.org
SUMMARY:Christmas Eve Service
DESCRIPTION:
URL:https://adventlutheranyork.org/event/christmas-eve-service/
LOCATION:Advent Lutheran Church\, 1775 East Market Street\, York\, PA\, 17402\, United States
CATEGORIES:Holiday,Services
END:VEVENT
BEGIN:VEVENT
DTSTART;TZID=America/New_York:20241224T160000
DTEND;TZID=America/New_York:20241224T170000
DTSTAMP:20260423T074521
CREATED:20241216T184708Z
LAST-MODIFIED:20241216T184708Z
UID:24452-1735056000-1735059600@adventlutheranyork.org
SUMMARY:Family Christmas Eve Service
DESCRIPTION:
URL:https://adventlutheranyork.org/event/family-christmas-eve-service/
LOCATION:Advent Lutheran Church\, 1775 East Market Street\, York\, PA\, 17402\, United States
CATEGORIES:Holiday,Services
END:VEVENT
BEGIN:VEVENT
DTSTART;TZID=America/New_York:20241224T120000
DTEND;TZID=America/New_York:20241224T120000
DTSTAMP:20260423T074521
CREATED:20241216T184630Z
LAST-MODIFIED:20241216T184630Z
UID:24450-1735041600-1735041600@adventlutheranyork.org
SUMMARY:Office Closes
DESCRIPTION:
URL:https://adventlutheranyork.org/event/office-closes/
CATEGORIES:Administration
END:VEVENT
END:VCALENDAR