BEGIN:VCALENDAR
VERSION:2.0
PRODID:-//Advent Lutheran Church - ECPv6.15.20//NONSGML v1.0//EN
CALSCALE:GREGORIAN
METHOD:PUBLISH
X-WR-CALNAME:Advent Lutheran Church
X-ORIGINAL-URL:https://adventlutheranyork.org
X-WR-CALDESC:Events for Advent Lutheran Church
REFRESH-INTERVAL;VALUE=DURATION:PT1H
X-Robots-Tag:noindex
X-PUBLISHED-TTL:PT1H
BEGIN:VTIMEZONE
TZID:America/New_York
BEGIN:DAYLIGHT
TZOFFSETFROM:-0500
TZOFFSETTO:-0400
TZNAME:EDT
DTSTART:20240310T070000
END:DAYLIGHT
BEGIN:STANDARD
TZOFFSETFROM:-0400
TZOFFSETTO:-0500
TZNAME:EST
DTSTART:20241103T060000
END:STANDARD
BEGIN:DAYLIGHT
TZOFFSETFROM:-0500
TZOFFSETTO:-0400
TZNAME:EDT
DTSTART:20250309T070000
END:DAYLIGHT
BEGIN:STANDARD
TZOFFSETFROM:-0400
TZOFFSETTO:-0500
TZNAME:EST
DTSTART:20251102T060000
END:STANDARD
BEGIN:DAYLIGHT
TZOFFSETFROM:-0500
TZOFFSETTO:-0400
TZNAME:EDT
DTSTART:20260308T070000
END:DAYLIGHT
BEGIN:STANDARD
TZOFFSETFROM:-0400
TZOFFSETTO:-0500
TZNAME:EST
DTSTART:20261101T060000
END:STANDARD
END:VTIMEZONE
BEGIN:VEVENT
DTSTART;TZID=America/New_York:20250923T110000
DTEND;TZID=America/New_York:20250923T120000
DTSTAMP:20260422T222548
CREATED:20250821T175024Z
LAST-MODIFIED:20250821T175024Z
UID:25537-1758625200-1758628800@adventlutheranyork.org
SUMMARY:Brown Baggers
DESCRIPTION:
URL:https://adventlutheranyork.org/event/brown-baggers-38/
CATEGORIES:Brown Baggers
END:VEVENT
BEGIN:VEVENT
DTSTART;TZID=America/New_York:20250924T180000
DTEND;TZID=America/New_York:20250924T190000
DTSTAMP:20260422T222548
CREATED:20250821T175100Z
LAST-MODIFIED:20250821T175100Z
UID:25539-1758736800-1758740400@adventlutheranyork.org
SUMMARY:Handbell Ensemble Rehearsal
DESCRIPTION:
URL:https://adventlutheranyork.org/event/handbell-ensemble-rehearsal-32/
CATEGORIES:Music Ministry
END:VEVENT
BEGIN:VEVENT
DTSTART;TZID=America/New_York:20250924T190000
DTEND;TZID=America/New_York:20250924T203000
DTSTAMP:20260422T222548
CREATED:20250821T175139Z
LAST-MODIFIED:20250821T175139Z
UID:25541-1758740400-1758745800@adventlutheranyork.org
SUMMARY:Adult Choir Rehearsal
DESCRIPTION:
URL:https://adventlutheranyork.org/event/adult-choir-rehearsal-63/
CATEGORIES:Music Ministry
END:VEVENT
BEGIN:VEVENT
DTSTART;VALUE=DATE:20250926
DTEND;VALUE=DATE:20250928
DTSTAMP:20260422T222548
CREATED:20250821T175234Z
LAST-MODIFIED:20250821T180344Z
UID:25543-1758844800-1759017599@adventlutheranyork.org
SUMMARY:Prayers & Stitches Retreat @ FA
DESCRIPTION:
URL:https://adventlutheranyork.org/event/prayers-stitches-retreat-fa/
CATEGORIES:Prayers and Stitches
END:VEVENT
BEGIN:VEVENT
DTSTART;VALUE=DATE:20250926
DTEND;VALUE=DATE:20250928
DTSTAMP:20260422T222548
CREATED:20250821T175324Z
LAST-MODIFIED:20250821T175324Z
UID:25545-1758844800-1759017599@adventlutheranyork.org
SUMMARY:Youth ALiVE Retreat @ Nawakwa
DESCRIPTION:
URL:https://adventlutheranyork.org/event/youth-alive-retreat-nawakwa/
CATEGORIES:Youth Ministry
END:VEVENT
BEGIN:VEVENT
DTSTART;TZID=America/New_York:20250927T083000
DTEND;TZID=America/New_York:20250927T093000
DTSTAMP:20260422T222548
CREATED:20250821T175404Z
LAST-MODIFIED:20250821T175404Z
UID:25547-1758961800-1758965400@adventlutheranyork.org
SUMMARY:YJSO
DESCRIPTION:
URL:https://adventlutheranyork.org/event/yjso-11/
CATEGORIES:Community
END:VEVENT
BEGIN:VEVENT
DTSTART;TZID=America/New_York:20250928T083000
DTEND;TZID=America/New_York:20250928T093000
DTSTAMP:20260422T222548
CREATED:20250821T175601Z
LAST-MODIFIED:20250821T175601Z
UID:25549-1759048200-1759051800@adventlutheranyork.org
SUMMARY:Traditional Worship
DESCRIPTION:
URL:https://adventlutheranyork.org/event/traditional-worship-7/
CATEGORIES:Services
END:VEVENT
BEGIN:VEVENT
DTSTART;TZID=America/New_York:20250928T094500
DTEND;TZID=America/New_York:20250928T104500
DTSTAMP:20260422T222548
CREATED:20250821T175646Z
LAST-MODIFIED:20250821T175646Z
UID:25551-1759052700-1759056300@adventlutheranyork.org
SUMMARY:Sunday School
DESCRIPTION:
URL:https://adventlutheranyork.org/event/sunday-school-58/
CATEGORIES:Christian Education,Family Ministry
END:VEVENT
BEGIN:VEVENT
DTSTART;TZID=America/New_York:20250928T110000
DTEND;TZID=America/New_York:20250928T120000
DTSTAMP:20260422T222548
CREATED:20250821T175725Z
LAST-MODIFIED:20250821T175725Z
UID:25553-1759057200-1759060800@adventlutheranyork.org
SUMMARY:Traditional Worship
DESCRIPTION:
URL:https://adventlutheranyork.org/event/traditional-worship-8/
CATEGORIES:Services
END:VEVENT
BEGIN:VEVENT
DTSTART;TZID=America/New_York:20250928T111500
DTEND;TZID=America/New_York:20250928T120000
DTSTAMP:20260422T222548
CREATED:20250821T175805Z
LAST-MODIFIED:20250821T175805Z
UID:25555-1759058100-1759060800@adventlutheranyork.org
SUMMARY:Contemporary Worship
DESCRIPTION:
URL:https://adventlutheranyork.org/event/contemporary-worship-3/
CATEGORIES:Services
END:VEVENT
BEGIN:VEVENT
DTSTART;TZID=America/New_York:20250928T123000
DTEND;TZID=America/New_York:20250928T133000
DTSTAMP:20260422T222548
CREATED:20250821T175848Z
LAST-MODIFIED:20250821T175848Z
UID:25557-1759062600-1759066200@adventlutheranyork.org
SUMMARY:New Members Class
DESCRIPTION:
URL:https://adventlutheranyork.org/event/new-members-class-2/
END:VEVENT
BEGIN:VEVENT
DTSTART;TZID=America/New_York:20251001T090000
DTEND;TZID=America/New_York:20251001T100000
DTSTAMP:20260422T222548
CREATED:20250921T145754Z
LAST-MODIFIED:20250921T145754Z
UID:25584-1759309200-1759312800@adventlutheranyork.org
SUMMARY:Advent Quilters
DESCRIPTION:
URL:https://adventlutheranyork.org/event/advent-quilters-45/
CATEGORIES:Advent Quilters
END:VEVENT
BEGIN:VEVENT
DTSTART;TZID=America/New_York:20251001T180000
DTEND;TZID=America/New_York:20251001T190000
DTSTAMP:20260422T222548
CREATED:20250921T150130Z
LAST-MODIFIED:20250921T150130Z
UID:25586-1759341600-1759345200@adventlutheranyork.org
SUMMARY:Handbell Ensemble Rehearsal
DESCRIPTION:
URL:https://adventlutheranyork.org/event/handbell-ensemble-rehearsal-33/
CATEGORIES:Music Ministry
END:VEVENT
BEGIN:VEVENT
DTSTART;TZID=America/New_York:20251001T190000
DTEND;TZID=America/New_York:20251001T203000
DTSTAMP:20260422T222548
CREATED:20250921T150907Z
LAST-MODIFIED:20250921T150907Z
UID:25588-1759345200-1759350600@adventlutheranyork.org
SUMMARY:Adult Choir Rehearsal
DESCRIPTION:
URL:https://adventlutheranyork.org/event/adult-choir-rehearsal-64/
CATEGORIES:Music Ministry
END:VEVENT
BEGIN:VEVENT
DTSTART;TZID=America/New_York:20251002T180000
DTEND;TZID=America/New_York:20251002T190000
DTSTAMP:20260422T222548
CREATED:20250921T150947Z
LAST-MODIFIED:20250921T150947Z
UID:25590-1759428000-1759431600@adventlutheranyork.org
SUMMARY:Girl Scouts
DESCRIPTION:
URL:https://adventlutheranyork.org/event/girl-scouts-16/
CATEGORIES:Community
END:VEVENT
BEGIN:VEVENT
DTSTART;TZID=America/New_York:20251004T083000
DTEND;TZID=America/New_York:20251004T093000
DTSTAMP:20260422T222548
CREATED:20250921T151028Z
LAST-MODIFIED:20250921T151028Z
UID:25592-1759566600-1759570200@adventlutheranyork.org
SUMMARY:YJSO
DESCRIPTION:
URL:https://adventlutheranyork.org/event/yjso-12/
CATEGORIES:Community
END:VEVENT
BEGIN:VEVENT
DTSTART;TZID=America/New_York:20251004T160000
DTEND;TZID=America/New_York:20251004T210000
DTSTAMP:20260422T222548
CREATED:20250921T151112Z
LAST-MODIFIED:20250921T151112Z
UID:25594-1759593600-1759611600@adventlutheranyork.org
SUMMARY:Nurse2Nurse Gala
DESCRIPTION:
URL:https://adventlutheranyork.org/event/nurse2nurse-gala/
CATEGORIES:Community
END:VEVENT
BEGIN:VEVENT
DTSTART;TZID=America/New_York:20251005T083000
DTEND;TZID=America/New_York:20251005T093000
DTSTAMP:20260422T222548
CREATED:20250921T151152Z
LAST-MODIFIED:20250921T151152Z
UID:25596-1759653000-1759656600@adventlutheranyork.org
SUMMARY:Worship Service
DESCRIPTION:
URL:https://adventlutheranyork.org/event/worship-service-166/
CATEGORIES:Services
END:VEVENT
BEGIN:VEVENT
DTSTART;TZID=America/New_York:20251005T093000
DTEND;TZID=America/New_York:20251005T094500
DTSTAMP:20260422T222548
CREATED:20250921T151248Z
LAST-MODIFIED:20250921T151248Z
UID:25598-1759656600-1759657500@adventlutheranyork.org
SUMMARY:Youth Choir Rehearsal
DESCRIPTION:
URL:https://adventlutheranyork.org/event/youth-choir-rehearsal-32/
CATEGORIES:Music Ministry
END:VEVENT
BEGIN:VEVENT
DTSTART;TZID=America/New_York:20251005T094500
DTEND;TZID=America/New_York:20251005T104500
DTSTAMP:20260422T222548
CREATED:20250921T151329Z
LAST-MODIFIED:20250921T151329Z
UID:25600-1759657500-1759661100@adventlutheranyork.org
SUMMARY:Sunday School
DESCRIPTION:
URL:https://adventlutheranyork.org/event/sunday-school-59/
CATEGORIES:Christian Education,Family Ministry
END:VEVENT
BEGIN:VEVENT
DTSTART;TZID=America/New_York:20251005T110000
DTEND;TZID=America/New_York:20251005T120000
DTSTAMP:20260422T222548
CREATED:20250921T151415Z
LAST-MODIFIED:20250921T151415Z
UID:25602-1759662000-1759665600@adventlutheranyork.org
SUMMARY:Worship Service
DESCRIPTION:
URL:https://adventlutheranyork.org/event/worship-service-167/
CATEGORIES:Services
END:VEVENT
BEGIN:VEVENT
DTSTART;TZID=America/New_York:20251005T111500
DTEND;TZID=America/New_York:20251005T120000
DTSTAMP:20260422T222548
CREATED:20250921T151500Z
LAST-MODIFIED:20250921T151500Z
UID:25604-1759662900-1759665600@adventlutheranyork.org
SUMMARY:Contemporary Worship Service
DESCRIPTION:
URL:https://adventlutheranyork.org/event/contemporary-worship-service-45/
CATEGORIES:Services
END:VEVENT
BEGIN:VEVENT
DTSTART;TZID=America/New_York:20251005T121500
DTEND;TZID=America/New_York:20251005T131500
DTSTAMP:20260422T222548
CREATED:20250921T151658Z
LAST-MODIFIED:20250921T214146Z
UID:25606-1759666500-1759670100@adventlutheranyork.org
SUMMARY:Nominating Committee
DESCRIPTION:
URL:https://adventlutheranyork.org/event/nominating-committee/
CATEGORIES:Committee
END:VEVENT
BEGIN:VEVENT
DTSTART;TZID=America/New_York:20251006T090000
DTEND;TZID=America/New_York:20251006T100000
DTSTAMP:20260422T222548
CREATED:20250921T211943Z
LAST-MODIFIED:20250921T211943Z
UID:25608-1759741200-1759744800@adventlutheranyork.org
SUMMARY:Joy in the Morning
DESCRIPTION:
URL:https://adventlutheranyork.org/event/joy-in-the-morning-28/
CATEGORIES:Joy in the Morning
END:VEVENT
BEGIN:VEVENT
DTSTART;TZID=America/New_York:20251006T180000
DTEND;TZID=America/New_York:20251006T190000
DTSTAMP:20260422T222548
CREATED:20250921T212112Z
LAST-MODIFIED:20250921T212112Z
UID:25610-1759773600-1759777200@adventlutheranyork.org
SUMMARY:Advent Quilters
DESCRIPTION:
URL:https://adventlutheranyork.org/event/advent-quilters-46/
CATEGORIES:Advent Quilters
END:VEVENT
BEGIN:VEVENT
DTSTART;TZID=America/New_York:20251008T180000
DTEND;TZID=America/New_York:20251008T190000
DTSTAMP:20260422T222548
CREATED:20250921T212254Z
LAST-MODIFIED:20250921T212254Z
UID:25612-1759946400-1759950000@adventlutheranyork.org
SUMMARY:Handbell Ensemble Rehearsal
DESCRIPTION:
URL:https://adventlutheranyork.org/event/handbell-ensemble-rehearsal-34/
CATEGORIES:Music Ministry
END:VEVENT
BEGIN:VEVENT
DTSTART;TZID=America/New_York:20251008T190000
DTEND;TZID=America/New_York:20251008T203000
DTSTAMP:20260422T222548
CREATED:20250921T212424Z
LAST-MODIFIED:20250921T212424Z
UID:25614-1759950000-1759955400@adventlutheranyork.org
SUMMARY:Adult Choir Rehearsal
DESCRIPTION:
URL:https://adventlutheranyork.org/event/adult-choir-rehearsal-65/
CATEGORIES:Music Ministry
END:VEVENT
BEGIN:VEVENT
DTSTART;TZID=America/New_York:20251009T113000
DTEND;TZID=America/New_York:20251009T123000
DTSTAMP:20260422T222548
CREATED:20250921T213033Z
LAST-MODIFIED:20250921T213033Z
UID:25616-1760009400-1760013000@adventlutheranyork.org
SUMMARY:Leisure Lunch @ Lyndon Diner
DESCRIPTION:
URL:https://adventlutheranyork.org/event/leisure-lunch-lyndon-diner-2/
CATEGORIES:Leisure Group
END:VEVENT
BEGIN:VEVENT
DTSTART;TZID=America/New_York:20251010T090000
DTEND;TZID=America/New_York:20251010T100000
DTSTAMP:20260422T222548
CREATED:20250921T213132Z
LAST-MODIFIED:20250921T213132Z
UID:25618-1760086800-1760090400@adventlutheranyork.org
SUMMARY:Coffee with Pr. Brad
DESCRIPTION:
URL:https://adventlutheranyork.org/event/coffee-with-pr-brad-8/
END:VEVENT
BEGIN:VEVENT
DTSTART;TZID=America/New_York:20251011T080000
DTEND;TZID=America/New_York:20251011T090000
DTSTAMP:20260422T222548
CREATED:20250921T213538Z
LAST-MODIFIED:20250921T213538Z
UID:25620-1760169600-1760173200@adventlutheranyork.org
SUMMARY:Fall Clean Up
DESCRIPTION:
URL:https://adventlutheranyork.org/event/fall-clean-up/
END:VEVENT
END:VCALENDAR