BEGIN:VCALENDAR
VERSION:2.0
PRODID:-//Advent Lutheran Church - ECPv6.15.20//NONSGML v1.0//EN
CALSCALE:GREGORIAN
METHOD:PUBLISH
X-WR-CALNAME:Advent Lutheran Church
X-ORIGINAL-URL:https://adventlutheranyork.org
X-WR-CALDESC:Events for Advent Lutheran Church
REFRESH-INTERVAL;VALUE=DURATION:PT1H
X-Robots-Tag:noindex
X-PUBLISHED-TTL:PT1H
BEGIN:VTIMEZONE
TZID:America/New_York
BEGIN:DAYLIGHT
TZOFFSETFROM:-0500
TZOFFSETTO:-0400
TZNAME:EDT
DTSTART:20250309T070000
END:DAYLIGHT
BEGIN:STANDARD
TZOFFSETFROM:-0400
TZOFFSETTO:-0500
TZNAME:EST
DTSTART:20251102T060000
END:STANDARD
BEGIN:DAYLIGHT
TZOFFSETFROM:-0500
TZOFFSETTO:-0400
TZNAME:EDT
DTSTART:20260308T070000
END:DAYLIGHT
BEGIN:STANDARD
TZOFFSETFROM:-0400
TZOFFSETTO:-0500
TZNAME:EST
DTSTART:20261101T060000
END:STANDARD
BEGIN:DAYLIGHT
TZOFFSETFROM:-0500
TZOFFSETTO:-0400
TZNAME:EDT
DTSTART:20270314T070000
END:DAYLIGHT
BEGIN:STANDARD
TZOFFSETFROM:-0400
TZOFFSETTO:-0500
TZNAME:EST
DTSTART:20271107T060000
END:STANDARD
END:VTIMEZONE
BEGIN:VEVENT
DTSTART;VALUE=DATE:20260222
DTEND;VALUE=DATE:20260223
DTSTAMP:20260422T012756
CREATED:20260122T233710Z
LAST-MODIFIED:20260122T233710Z
UID:26362-1771718400-1771804799@adventlutheranyork.org
SUMMARY:Lent 1
DESCRIPTION:
URL:https://adventlutheranyork.org/event/lent-1-3/
END:VEVENT
BEGIN:VEVENT
DTSTART;TZID=America/New_York:20260221T083000
DTEND;TZID=America/New_York:20260221T103000
DTSTAMP:20260422T012756
CREATED:20260117T023120Z
LAST-MODIFIED:20260117T023120Z
UID:26305-1771662600-1771669800@adventlutheranyork.org
SUMMARY:YJSO
DESCRIPTION:
URL:https://adventlutheranyork.org/event/yjso-23/
CATEGORIES:Community
END:VEVENT
BEGIN:VEVENT
DTSTART;TZID=America/New_York:20260220T170000
DTEND;TZID=America/New_York:20260221T100000
DTSTAMP:20260422T012756
CREATED:20260117T022945Z
LAST-MODIFIED:20260117T022945Z
UID:26303-1771606800-1771668000@adventlutheranyork.org
SUMMARY:Young Adventurers Overnight
DESCRIPTION:
URL:https://adventlutheranyork.org/event/young-adventurers-overnight-4/
CATEGORIES:Youth Ministry
END:VEVENT
BEGIN:VEVENT
DTSTART;TZID=America/New_York:20260220T100000
DTEND;TZID=America/New_York:20260220T230000
DTSTAMP:20260422T012756
CREATED:20260117T022418Z
LAST-MODIFIED:20260117T022418Z
UID:26301-1771581600-1771628400@adventlutheranyork.org
SUMMARY:Ladies Shares & Prayers
DESCRIPTION:
URL:https://adventlutheranyork.org/event/ladies-shares-prayers-8/
CATEGORIES:Ladies Shares and Prayers
END:VEVENT
BEGIN:VEVENT
DTSTART;TZID=America/New_York:20260219T193000
DTEND;TZID=America/New_York:20260219T203000
DTSTAMP:20260422T012756
CREATED:20260117T025702Z
LAST-MODIFIED:20260117T025702Z
UID:26334-1771529400-1771533000@adventlutheranyork.org
SUMMARY:Technology Committee Meeting
DESCRIPTION:
URL:https://adventlutheranyork.org/event/technology-committee-meeting-5/
CATEGORIES:Committee
END:VEVENT
BEGIN:VEVENT
DTSTART;TZID=America/New_York:20260219T183000
DTEND;TZID=America/New_York:20260219T193000
DTSTAMP:20260422T012756
CREATED:20260117T025620Z
LAST-MODIFIED:20260117T025620Z
UID:26332-1771525800-1771529400@adventlutheranyork.org
SUMMARY:100th Anniversary Committee Meeting
DESCRIPTION:
URL:https://adventlutheranyork.org/event/100th-anniversary-committee-meeting-5/
CATEGORIES:Committee
END:VEVENT
BEGIN:VEVENT
DTSTART;TZID=America/New_York:20260219T180000
DTEND;TZID=America/New_York:20260219T190000
DTSTAMP:20260422T012756
CREATED:20260117T022157Z
LAST-MODIFIED:20260117T022157Z
UID:26299-1771524000-1771527600@adventlutheranyork.org
SUMMARY:Praise Band Rehearsal
DESCRIPTION:
URL:https://adventlutheranyork.org/event/praise-band-rehearsal-4/
CATEGORIES:Music Ministry
END:VEVENT
BEGIN:VEVENT
DTSTART;TZID=America/New_York:20260219T180000
DTEND;TZID=America/New_York:20260219T190000
DTSTAMP:20260422T012756
CREATED:20260117T022043Z
LAST-MODIFIED:20260117T022043Z
UID:26297-1771524000-1771527600@adventlutheranyork.org
SUMMARY:Girl Scouts
DESCRIPTION:
URL:https://adventlutheranyork.org/event/girl-scouts-25/
CATEGORIES:Community
END:VEVENT
BEGIN:VEVENT
DTSTART;TZID=America/New_York:20260218T190000
DTEND;TZID=America/New_York:20260218T200000
DTSTAMP:20260422T012757
CREATED:20260116T023415Z
LAST-MODIFIED:20260116T023415Z
UID:26277-1771441200-1771444800@adventlutheranyork.org
SUMMARY:Worship Service
DESCRIPTION:
URL:https://adventlutheranyork.org/event/worship-service-181/
CATEGORIES:Services
END:VEVENT
BEGIN:VEVENT
DTSTART;TZID=America/New_York:20260218T120000
DTEND;TZID=America/New_York:20260218T130000
DTSTAMP:20260422T012757
CREATED:20260116T023329Z
LAST-MODIFIED:20260116T023329Z
UID:26275-1771416000-1771419600@adventlutheranyork.org
SUMMARY:Worship Service
DESCRIPTION:
URL:https://adventlutheranyork.org/event/worship-service-180/
CATEGORIES:Services
END:VEVENT
BEGIN:VEVENT
DTSTART;TZID=America/New_York:20260218T063000
DTEND;TZID=America/New_York:20260218T073000
DTSTAMP:20260422T012757
CREATED:20260116T013401Z
LAST-MODIFIED:20260116T013401Z
UID:26273-1771396200-1771399800@adventlutheranyork.org
SUMMARY:Drive-By Ashes
DESCRIPTION:
URL:https://adventlutheranyork.org/event/drive-by-ashes-3/
CATEGORIES:Holiday
END:VEVENT
BEGIN:VEVENT
DTSTART;VALUE=DATE:20260218
DTEND;VALUE=DATE:20260219
DTSTAMP:20260422T012757
CREATED:20260116T023454Z
LAST-MODIFIED:20260116T023454Z
UID:26279-1771372800-1771459199@adventlutheranyork.org
SUMMARY:Ash Wednesday
DESCRIPTION:
URL:https://adventlutheranyork.org/event/ash-wednesday-3/
END:VEVENT
BEGIN:VEVENT
DTSTART;TZID=America/New_York:20260216T183000
DTEND;TZID=America/New_York:20260216T193000
DTSTAMP:20260422T012757
CREATED:20260116T013244Z
LAST-MODIFIED:20260116T013244Z
UID:26271-1771266600-1771270200@adventlutheranyork.org
SUMMARY:Church Council Meeting
DESCRIPTION:
URL:https://adventlutheranyork.org/event/church-council-meeting-8/
CATEGORIES:Administration,Committee
END:VEVENT
BEGIN:VEVENT
DTSTART;TZID=America/New_York:20260216T090000
DTEND;TZID=America/New_York:20260216T100000
DTSTAMP:20260422T012757
CREATED:20260116T013152Z
LAST-MODIFIED:20260116T013152Z
UID:26269-1771232400-1771236000@adventlutheranyork.org
SUMMARY:Joy in the Morning
DESCRIPTION:
URL:https://adventlutheranyork.org/event/joy-in-the-morning-37/
CATEGORIES:Joy in the Morning
END:VEVENT
BEGIN:VEVENT
DTSTART;TZID=America/New_York:20260215T140000
DTEND;TZID=America/New_York:20260215T170000
DTSTAMP:20260422T012757
CREATED:20260116T011059Z
LAST-MODIFIED:20260116T011059Z
UID:26263-1771164000-1771174800@adventlutheranyork.org
SUMMARY:Keystone Brass Quintet Concert
DESCRIPTION:
URL:https://adventlutheranyork.org/event/keystone-brass-quintet-concert/
CATEGORIES:Community,Music Ministry
END:VEVENT
BEGIN:VEVENT
DTSTART;TZID=America/New_York:20260215T111500
DTEND;TZID=America/New_York:20260215T120000
DTSTAMP:20260422T012757
CREATED:20260116T010951Z
LAST-MODIFIED:20260116T010951Z
UID:26261-1771154100-1771156800@adventlutheranyork.org
SUMMARY:Contemporary Worship Service
DESCRIPTION:
URL:https://adventlutheranyork.org/event/contemporary-worship-service-61/
CATEGORIES:Services
END:VEVENT
BEGIN:VEVENT
DTSTART;TZID=America/New_York:20260215T110000
DTEND;TZID=America/New_York:20260215T120000
DTSTAMP:20260422T012757
CREATED:20260116T010902Z
LAST-MODIFIED:20260116T010902Z
UID:26259-1771153200-1771156800@adventlutheranyork.org
SUMMARY:Traditional Worship Service
DESCRIPTION:
URL:https://adventlutheranyork.org/event/traditional-worship-service-20/
CATEGORIES:Services
END:VEVENT
BEGIN:VEVENT
DTSTART;TZID=America/New_York:20260215T094500
DTEND;TZID=America/New_York:20260215T104500
DTSTAMP:20260422T012757
CREATED:20260116T010818Z
LAST-MODIFIED:20260116T010818Z
UID:26257-1771148700-1771152300@adventlutheranyork.org
SUMMARY:Sunday School
DESCRIPTION:
URL:https://adventlutheranyork.org/event/sunday-school-78/
CATEGORIES:Christian Education
END:VEVENT
BEGIN:VEVENT
DTSTART;TZID=America/New_York:20260215T093000
DTEND;TZID=America/New_York:20260215T094500
DTSTAMP:20260422T012757
CREATED:20260116T010719Z
LAST-MODIFIED:20260116T010719Z
UID:26255-1771147800-1771148700@adventlutheranyork.org
SUMMARY:Youth Choir Rehearsal
DESCRIPTION:
URL:https://adventlutheranyork.org/event/youth-choir-rehearsal-45/
CATEGORIES:Music Ministry
END:VEVENT
BEGIN:VEVENT
DTSTART;TZID=America/New_York:20260215T083000
DTEND;TZID=America/New_York:20260215T093000
DTSTAMP:20260422T012757
CREATED:20260116T003555Z
LAST-MODIFIED:20260116T003555Z
UID:26248-1771144200-1771147800@adventlutheranyork.org
SUMMARY:Traditional Worship Service
DESCRIPTION:
URL:https://adventlutheranyork.org/event/traditional-worship-service-19/
CATEGORIES:Services
END:VEVENT
BEGIN:VEVENT
DTSTART;VALUE=DATE:20260215
DTEND;VALUE=DATE:20260216
DTSTAMP:20260422T012757
CREATED:20260122T233518Z
LAST-MODIFIED:20260122T233518Z
UID:26360-1771113600-1771199999@adventlutheranyork.org
SUMMARY:Transfiguration of Our Lord
DESCRIPTION:
URL:https://adventlutheranyork.org/event/transfiguration-of-our-lord-2/
END:VEVENT
BEGIN:VEVENT
DTSTART;TZID=America/New_York:20260214T080000
DTEND;TZID=America/New_York:20260214T090000
DTSTAMP:20260422T012757
CREATED:20260116T003434Z
LAST-MODIFIED:20260116T003434Z
UID:26246-1771056000-1771059600@adventlutheranyork.org
SUMMARY:Men's Bible Study
DESCRIPTION:
URL:https://adventlutheranyork.org/event/mens-bible-study-23/
CATEGORIES:Christian Education
END:VEVENT
BEGIN:VEVENT
DTSTART;TZID=America/New_York:20260213T090000
DTEND;TZID=America/New_York:20260213T100000
DTSTAMP:20260422T012757
CREATED:20260116T003219Z
LAST-MODIFIED:20260116T003219Z
UID:26244-1770973200-1770976800@adventlutheranyork.org
SUMMARY:Coffee with Pr. Brad
DESCRIPTION:
URL:https://adventlutheranyork.org/event/coffee-with-pr-brad-12/
END:VEVENT
BEGIN:VEVENT
DTSTART;TZID=America/New_York:20260212T183000
DTEND;TZID=America/New_York:20260212T193000
DTSTAMP:20260422T012757
CREATED:20260117T025835Z
LAST-MODIFIED:20260117T025835Z
UID:26336-1770921000-1770924600@adventlutheranyork.org
SUMMARY:Property Committee Meeting
DESCRIPTION:
URL:https://adventlutheranyork.org/event/property-committee-meeting-17/
CATEGORIES:Committee
END:VEVENT
BEGIN:VEVENT
DTSTART;TZID=America/New_York:20260212T180000
DTEND;TZID=America/New_York:20260212T190000
DTSTAMP:20260422T012757
CREATED:20260116T002719Z
LAST-MODIFIED:20260116T002719Z
UID:26240-1770919200-1770922800@adventlutheranyork.org
SUMMARY:Girl Scouts
DESCRIPTION:
URL:https://adventlutheranyork.org/event/girl-scouts-24/
CATEGORIES:Community
END:VEVENT
BEGIN:VEVENT
DTSTART;TZID=America/New_York:20260212T113000
DTEND;TZID=America/New_York:20260212T123000
DTSTAMP:20260422T012757
CREATED:20260116T002623Z
LAST-MODIFIED:20260116T002623Z
UID:26237-1770895800-1770899400@adventlutheranyork.org
SUMMARY:Leisure Lunch
DESCRIPTION:
URL:https://adventlutheranyork.org/event/leisure-lunch-5/
CATEGORIES:Leisure Group
END:VEVENT
BEGIN:VEVENT
DTSTART;TZID=America/New_York:20260210T180000
DTEND;TZID=America/New_York:20260210T203000
DTSTAMP:20260422T012757
CREATED:20260115T232525Z
LAST-MODIFIED:20260115T232525Z
UID:26231-1770746400-1770755400@adventlutheranyork.org
SUMMARY:Eagle Scouts
DESCRIPTION:
URL:https://adventlutheranyork.org/event/eagle-scouts/
CATEGORIES:Community
END:VEVENT
BEGIN:VEVENT
DTSTART;TZID=America/New_York:20260210T180000
DTEND;TZID=America/New_York:20260210T190000
DTSTAMP:20260422T012757
CREATED:20260116T002430Z
LAST-MODIFIED:20260116T002430Z
UID:26235-1770746400-1770750000@adventlutheranyork.org
SUMMARY:Advent Book Club
DESCRIPTION:
URL:https://adventlutheranyork.org/event/advent-book-club-37/
END:VEVENT
BEGIN:VEVENT
DTSTART;TZID=America/New_York:20260210T110000
DTEND;TZID=America/New_York:20260210T120000
DTSTAMP:20260422T012757
CREATED:20260116T002242Z
LAST-MODIFIED:20260116T002242Z
UID:26233-1770721200-1770724800@adventlutheranyork.org
SUMMARY:Brown Baggers
DESCRIPTION:
URL:https://adventlutheranyork.org/event/brown-baggers-47/
CATEGORIES:Brown Baggers
END:VEVENT
BEGIN:VEVENT
DTSTART;TZID=America/New_York:20260209T180000
DTEND;TZID=America/New_York:20260209T190000
DTSTAMP:20260422T012757
CREATED:20260115T231350Z
LAST-MODIFIED:20260115T231350Z
UID:26229-1770660000-1770663600@adventlutheranyork.org
SUMMARY:Cancer Support Group
DESCRIPTION:
URL:https://adventlutheranyork.org/event/cancer-support-group-18/
CATEGORIES:Community
END:VEVENT
END:VCALENDAR